Workbook
Name テーマ: #REF!
Name 作品特性: #REF!
Name 作品特性: #REF!
Name 作品特性: #REF!
Name 作品特性＿: #REF!
Name 挿入作品: #REF!
Name 背景音楽: #REF!

Sheet 申込要領
A1: 申込要領
B2: 1 お申込みの前に
B3: (1) | C3: 当協会ホームページ「劇場用映画の製作、上映」にある「外国映画の上映」をご確認ください。 | J3: 当協会HPへ
B4: (2) | C4: 本ファイルでのお申込みは、外国映画上映に限られます。日本映画のお申込みは、ご案内ページに掲載の「映画利用申込書」にてお申し込みください。
B5: (3) | C5: お申し込みの際は、事前に、ワークシート「利用許諾条項（外国映画上映）」及び「利用許諾条項別紙」を必ずお読みください。 | J5: 利用許諾条項へ
J6: 利用許諾条項別紙へ
B7: 2 【外国映画情報入力】への入力
B8: ワークシート「外国映画情報入力」の必要事項をすべて入力してください。 | J8: 外国映画情報入力へ
B9: ※ | C9: 楽曲明細の有無 | D9: ： | E9: 本ファイルの提出時にご利用の楽曲情報が不明の場合は、楽曲明細の有無を「無」又は「後日提出」としてください。
E10: 「後日提出」とした場合は、本ファイルを保存し、封切日の翌月末日までに、「収録作品入力」へ入力の上、再度ご提出ください。
B12: 3 【収録作品入力】への入力
B13: ワークシート「収録作品入力」の必要事項をすべて入力してください。 | J13: 収録作品入力へ
B15: 4 利用のお申込み（お申込み期限：封切日の前日まで）
B16: ワークシート「外国映画情報入力」、「収録作品入力」のすべての必要事項を入力完了後、本ファイルを任意の名前で保存してください。
B17: 封切日前日までに、入力を終えた本ファイルを以下の申込受付フォームよりアップロードしてお申し込みください。
B18: https://req.qubo.jp/jasrac/form/mp
B19: ※ | C19: 「外国映画上映利用申込書」ワークシートを単体で提出したり、印刷したものを提出したりせずに、必ず本エクセルファイルを、そのままご提出ください。
B20: ※ | C20: 本ファイルの提出時にご利用の楽曲情報が不明な場合は、ワークシート「収録作品入力」を入力せずに、ご提出ください（2【外国映画情報入力】への入力「楽曲明細の有無」参照）。
C22: 当協会が取得した個人情報は、
C23: １ 音楽著作物の著作権管理事業における利用許諾業務、著作物使用料徴収業務、著作物使用料・私的録音録画補償金等分配業務、調査研究及び刊行物の送付その他の広報
C24: ２ 音楽文化の振興及び著作権思想の普及に関する事業における企画の検討・実施、調査研究及び広報
C25: のために必要な範囲以外では利用いたしません。
C27: ※ 上記利用目的の達成のために必要な範囲で第三者に提供する場合があります。

Sheet 利用許諾条項（外国映画上映）
A1: 利用許諾条項（外国映画上映） | C1: 申込要領へ戻る
A2: （総則）
A3: 第1条 | B3: 一般社団法人日本音楽著作権協会（以下「甲」という。）と申込書を甲に提出した者（以下「乙」という。）との間の、乙が配給する外国映画を上映する映画館における管理著作物の上映利用に関する利用許諾契約（以下「本契約」という。）は、本利用許諾条項（本契約の内容とすることを目的として甲が準備したこの利用許諾条項をいう。以下同じ。）を内容とします。
A5: （定義）
A6: 第2条 | B6: 本契約において「管理著作物」とは、甲が上映に係る著作権を管理する音楽著作物をいいます。
A7: 2 | B7: 本契約において「申込書」とは、甲所定の書式による映画上映利用申込書（電磁的な方法によるものを含む。）をいいます。
A8: 3 | B8: 本契約において「外国映画」とは、外国で製作された映画をいいます。
A9: 4 | B9: 本契約において「上映」とは、国内において外国映画を公に映写することに伴って当該外国映画において固定されている音を再生することをいいます。
A10: 5 | B10: 本契約において「本映画」とは、乙が配給する外国映画であって、申込書に記載されたものをいいます。
A11: 6 | B11: 本契約において「楽曲明細」とは、本映画に利用された管理著作物に関する、申込書所定の情報をいいます。
A13: （利用許諾）
A14: 第3条 | B14: 甲は、乙が本利用許諾条項の定めを遵守することを条件として、乙に対し、本映画を上映する映画館における管理著作物の上映を、申込書記載の範囲内において許諾します。
A15: 2 | B15: 前項の許諾は、いかなる意味においても管理著作物に係る権利の譲渡を一切含みません。
A17: （申込書及び楽曲明細の提出）
A18: 第4条 | B18: 乙は、本映画の封切日の前日までに、本映画に係る申込書を甲に提出するものとします。この場合において、甲は、申込書の受領後、乙に対し、利用許諾書及び請求書（電磁的な方法によるものを含む。）を発行します。
A19: 2 | B19: 乙の都合により、申込書に記載した内容を変更する場合は、遅滞なく変更する内容を書面により甲に報告し、甲の承諾を得なければなりません。
A20: 3 | B20: 乙が、第1項に規定する申込書の提出の際に、楽曲明細の申込書への記載が出来ない場合には、楽曲明細以外について記載した申込書を提出するものとします。この場合において、甲は、申込書の受領後、乙に対し、許諾番号を発行します。
A21: 4 | B21: 乙は、前項の規定により許諾番号の発行を受けた後、本映画の封切後甲の指定する期日（以下「明細提出期日」という。）までに、楽曲明細を記載した書面（電磁的な方法によるものを含む。）を甲に提出するものとします。楽曲明細の提出の有無にかかわらず、明細提出期日経過後、甲は、乙に対し、利用許諾書及び請求書を発行します。
A23: （本契約に係る申込みの取消し）
A24: 第5条 | B24: 本映画の公開の中止その他の理由による本契約の申込み自体の取消しは、取消事由の発生後、乙が直ちにその理由を付した書面をもって通知し、甲がこれを承諾したときに限り認められます。
A26: （使用料の支払義務）
A27: 第6条 | B27: 甲は、第3条第1項による利用許諾に係る著作物使用料を、甲の使用料規程第2章第3節映画2上映(3)①及び別紙「外国映画上映使用料の取扱い（抜粋）」（以下「別紙取扱」という。）の規定に従い算出し、これに基づき第4条第1項及び第4項に規定する請求書を乙に発行します。
A28: 2 | B28: 第4条第3項により許諾番号の発行を受けた乙が、明細提出期日までに楽曲明細を甲に提出しない場合、前項の規定にかかわらず、甲は、別紙取扱1(2)表1に定める各区分の使用料額を、本映画に係る著作物使用料とみなし、第4条第4項に規定する請求書を発行します。
A29: 3 | B29: 明細書提出期日後に乙から楽曲明細が提出された場合であって、使用料規程第2章第3節映画2上映(3)①により算出した著作物使用料が、前項の規定により算出した著作物使用料より低額であった場合でも、甲は乙に対し、差額の返金を行いません。
A30: 4 | B30: 甲が使用料規程又は別紙取扱を変更したとき、又は法律の改正により消費税率が変更されたときは、甲は、その変更に基づき著作物使用料を算出します。
A31: 5 | B31: 乙は、甲に対し、請求書記載の著作物使用料を、請求書記載の発行日から30日以内（甲が請求書において支払期限を指定する場合は、その指定した日まで。）に、甲の事務所に持参、送金又は甲が別途認める方法により支払わなければなりません。その支払費用は、乙の負担とします。
A33: （前受使用料）
A34: 第7条 | B34: 甲は、本利用許諾条項に定める乙の義務の確実な履行を担保するために必要と判断したときは、乙に対し、申込書の記載内容に基づき甲が算出した概算使用料（以下「前受使用料」という。）を申込書の提出と同時に甲に支払うことを、第3条第1項の許諾の条件とします。
A35: 2 | B35: 甲は、前項の前受使用料を第6条第5項に規定する使用料に充当します。この場合において、過払額が生じたときは、甲は、乙に対し、利息を付さずに当該過払額を返還するものとします。また、不足額が生じたときは、乙は、甲に対し、当該不足額をその請求書記載の発行日から30日以内（甲が請求書において支払期限を指定する場合は、その指定した日まで。）に甲の事務所に持参、送金又は甲が別途認める方法により支払うものとします。その支払費用は、乙の負担とします。
A37: （遅延損害金等）
A38: 第8条 | B38: 乙が第6条の規定に違反して使用料の支払を遅滞したときは、乙は、甲に対し、支払期限の翌日から完済に至るまでの日数に応じ、当該使用料のほかに年率14.6％（1年を365日とする日割計算）相当額を遅延損害金として支払わなければなりません。
A39: 2 | B39: 乙の本契約違反により第三者に損害が生じたときは、乙がその責任を負わなければなりません。
A41: （法令の遵守）
A42: 第9条 | B42: 乙は、管理著作物の利用に当たり、著作者の意に反して管理著作物を変更、切除、その他の改変を加えること、著作者の名誉又は声望を害する方法により管理著作物を利用することなどによって、著作者人格権を侵害してはなりません。
A43: 2 | B43: 乙は、本契約の成立に当たっては、前項のほか関連する法令を遵守しなければなりません。
A45: （利用状況等調査の便宜供与義務）
A46: 第10条 | B46: 甲の職員又は甲の指定する者が管理著作物の利用状況等の調査のため、証憑書類等の閲覧を求めたときは、乙はこれに同意し、必要な便宜を与えなければなりません。
A47: 2 | B47: 甲は、本利用許諾に基づき乙等から開示を受けた情報を秘密として扱い、第三者に開示又は漏洩しないものとします。
A49: （許諾の取消し）
A50: 第11条 | B50: 甲は、本映画の封切り前に、乙が本契約に違反したとき、又は違反するおそれがあると甲が合理的に判断したときは、乙に対し、催告することなく直ちに書面により第3条第1項の利用許諾を取り消すことができるものとします。
...

Sheet 利用許諾条項別紙
A1: 外国映画上映使用料の取扱い（抜粋） | K1: 申込要領へ戻る
A3: １ | B3: 上映規定⑶①（使用料規程第2章第3節映画2上映⑶①）に基づき配給事業者にお支払いいただく外国映画上映使用料の取扱い
B4: (1) まず、上映規定⑶①のとおりに使用料（規定額）を算出します。
B5: (2) 前記(1)で算出した規定額が、下表(表1)の該当する区分の額以内であるときは、そのまま規定額（消費税相当額を加算）をお支払いいただきます。
B6: 【表１】 | I6: （税別、単位：円）
B7: 区分 | C7: 1 | D7: 2 | E7: 3 | F7: 4 | G7: 5 | H7: 6 | I7: 7 | J7: 8
B8: 一般映画 | C8: 212,500※ | D8: 250000 | E8: 312500 | F8: 375000 | G8: 437500 | H8: 500000 | I8: 625000 | J8: 750000
B9: Ｒ指定映画 | C9: 156,250※ | D9: 181250 | E9: 218750 | F9: 256250 | G9: 300000 | H9: 362500 | I9: 437500 | J9: 525000
C10: ※スクリーン数が2以下の場合については、区分1の額を2割減じた額とします。
B11: (3) 前記(1)で算出した規定額が、表1の該当する区分の額を上回るときは、同区分の額（消費税相当額を加算）を使用料としてお支払いいただきます。 ただし、この取扱いは、封切日よりも前に所定の申請書類のご提出がなければ適用できません。
A12: （定義）
A13: １ | B13: 区分
B14: 表1の1から8までの区分については、算定対象となる映画が、当該映画の封切り時点において上映されるスクリーン数の合計により、次のとおりとします。
B15: 区分 | C15: 封切り時点のスクリーン数の合計
B16: 1 | C16: 10スクリーンまで
B17: 2 | C17: 10スクリーンを超え30スクリーンまで
B18: 3 | C18: 30スクリーンを超え100スクリーンまで
B19: 4 | C19: 100スクリーンを超え200スクリーンまで
B20: 5 | C20: 200スクリーンを超え300スクリーンまで
B21: 6 | C21: 300スクリーンを超え500スクリーンまで
B22: 7 | C22: 500スクリーンを超え600スクリーンまで
B23: 8 | C23: 600スクリーンを超える場合
B25: ただし、複数のスクリーンを有するサイトにおけるスクリーン数については、当該映画の字幕版又は吹替版のいずれか一方のみが上映される場合は１サイト「１スクリーン」、字幕版及び吹替版いずれも上映される場合は１サイト「１．５スクリーン」とみなすものとします。
A27: ２ | B27: 一般映画
B28: Ｒ指定映画以外の映画をいいます。
A30: ３ | B30: Ｒ指定映画
B31: 一般財団法人映画倫理機構の審査結果が、「１８歳未満（１５歳未満を含む。）閲覧禁止」となった映画をいいます。
J34: （2023.08）

Sheet 外国映画情報入力
A1: 一般社団法人 日本音楽著作権協会 御中 | W1: 申込要領へ戻る
A3: =IF(A5=" 未入力の必須項目があります","","下記映画において固定されている管理著作物を上映利用することについて、貴協会の定める利用許諾条項（外国映画上映）に 定める申込者の義務を完全に履行することを承諾のうえ、「外国映画上映利用申込書」のとおり申し込みます。") | W3: =IF(LEFT(A5,9)=" 必須項目は入力済","申込書表示用へ","")
A5: =IF(CONCATENATE(W7,W8,W10,W11,W15,W16,W17,W18,W21,W22,W24,W26,W27)=""," 必須項目は入力済です。収録作品入力にお進みください。"," 未入力の必須項目があります") -> 未入力の必須項目があります | W5: =IF(LEFT(A5,9)=" 必須項目は入力済","収録作品入力へ","") | AG5: ＜入力例＞
A6: お申込日
A7: 申込者 | B7: 〒 | W7: =IF(C7="","郵便番号が入力されていません","") -> 郵便番号が入力されていません
B8: 住所 | W8: =IF(C8="","住所が入力されていません","") -> 住所が入力されていません
B10: 法人名 | W10: =IF(C10="","法人名が入力されていません。個人でお申込みの場合は代表者名のみご入力ください","") -> 法人名が入力されていません。個人でお申込みの場合は代表者名のみご入力ください
B11: 代表者名 | W11: =IF(C11="","代表者名が入力されていません","") -> 代表者名が入力されていません
B12: 担当部署
B13: 担当者名
B14: 電話番号 | K14: ＦＡＸ
B15: 携帯電話 | K15: E-mail | W15: =IF(N15="","メールアドレスが入力されていません","") -> メールアドレスが入力されていません
A16: 映画情報 | B16: 映画題名 （原題又は英題） | W16: =IF(C16="","映画題名が入力されていません","") -> 映画題名が入力されていません
B17: 邦題 | W17: =IF(C17="","邦題が入力されていません","") -> 邦題が入力されていません
B18: プリント本数 （スクリーン数） | G18: ※同時期に上映する最大のスクリーン数 | W18: =IF(C18="","プリント本数（スクリーン数）が入力されていません","") -> プリント本数（スクリーン数）が入力されていません
C19: 字幕又は吹替版のいずれか一方のみが上映される常設館数
C20: 字幕及び吹替版のいずれも上映される常設館数
B21: R指定の有無 | G21: ※一般財団法人映画倫理機構の審査結果が、「12 歳未満の年少者の観覧には、親又は保護者の助言・指導が必要」（PG12）となった映画は「R指定無」となります。 | W21: =IF(C21="","Ｒ指定の有無が入力されていません","") -> Ｒ指定の有無が入力されていません
B22: 封切日 | K22: 制作国 | W22: =IF(C22="","封切日が入力されていません","") -> 封切日が入力されていません
B23: 音楽監督 | K23: 主な上映館
B24: 種類 | G24: イベント内容 | W24: =IF(C24="","種類が選択されていません","") -> 種類が選択されていません
B25: 製作会社
B26: 配給会社 | W26: =IF(C26="","配給会社名が入力されていません","") -> 配給会社名が入力されていません
B27: 楽曲明細の有無 | G27: ※「後日提出」を選択した場合は、封切日の翌月末日までに、すべての収録作品をお知らせください。 | W27: =IF(C27="","楽曲明細の有無が入力されていません","") -> 楽曲明細の有無が入力されていません
B28: 映画情報サイトURL

Sheet 収録作品入力
A1: № | B1: 作品コード | C1: 作品題名 | D1: 作詞（訳詞）者名 | E1: 作曲（編曲）者名 | F1: 音楽出版者名 | G1: 利用時間 | I1: I/V | J1: 原訳 | K1: 替歌 | M1: 申込要領へ戻る | Q1: 申込書表示用へ
G2: 分 | H2: 秒
A3: 1 | M3: ◆ | N3: 作品題名 | O3: ： | P3: 作品題名は、原題をアルファベット表記でご入力ください。
A4: =IF(C4="","",A3+1) | M4: ◆ | N4: 利用時間 | O4: ： | P4: 同一作品を数回にわたり利用された場合は、利用時間を合計してご入力ください。
A5: =IF(C5="","",A4+1) | P5: ただし、「Ｉ 曲のみ」と「Ｖ 詞曲」、「原詞」と「訳詞」など、異なる方法で利用された場合は、行を分けて、それぞれの利用時間を
A6: =IF(C6="","",A5+1) | P6: ご入力ください。
A7: =IF(C7="","",A6+1) | M7: ◆ | N7: I/V | O7: ： | P7: 曲のみ利用する場合は「Ｉ 曲のみ」、歌詞を伴う利用の場合は「Ｖ 詞曲」を選択してください。
A8: =IF(C8="","",A7+1) | M8: ◆ | N8: 原訳 | O8: ： | P8: I/Vが「Ｖ 詞曲」の場合、選択してください。訳詞利用の場合は、必ず「作詞（訳詞）者名」欄に、訳詞者名を併記してください。
A9: =IF(C9="","",A8+1)
A10: =IF(C10="","",A9+1) | M10: ＜入力例＞
A11: =IF(C11="","",A10+1)
A12: =IF(C12="","",A11+1)
A13: =IF(C13="","",A12+1)
A14: =IF(C14="","",A13+1)
A15: =IF(C15="","",A14+1)
A16: =IF(C16="","",A15+1)
A17: =IF(C17="","",A16+1)
A18: =IF(C18="","",A17+1)
A19: =IF(C19="","",A18+1)
A20: =IF(C20="","",A19+1)
A21: =IF(C21="","",A20+1)
A22: =IF(C22="","",A21+1)
... A102: =IF(C102="","",A101+1)

Sheet 外国映画上映利用申込書
A1: 一般社団法人 日本音楽著作権協会 御中 | CW1: 1 | CY1: 外国映画情報入力へ
A2: =IF(収録楽曲情報!S2="外国映画","外国映画上映利用申込書","映画（録音・上映）利用申込書") -> 外国映画上映利用申込書 | CW2: 1
A3: お申込日 | G3: =IF(外国映画情報入力!C6="","",外国映画情報入力!C6) | CW3: 1
CW4: 1
A5: 映画題名 | L5: =IF(外国映画情報入力!C16="",IF(外国映画情報入力!C17="","",外国映画情報入力!C17),CONCATENATE(外国映画情報入力!C16,"（",外国映画情報入力!C17,"）")) | CW5: 1
A6: お申込者 | D6: ご住所 | L6: =IF(外国映画情報入力!C7="","",外国映画情報入力!C7) | AW6: プリント本数 （スクリーン数） | BG6: =IF(外国映画情報入力!C18="","",外国映画情報入力!C18) | BK6: 字幕版又は吹替版の いずれか一方のみが 上映される常設館数 | BS6: =IF(外国映画情報入力!O19="","",外国映画情報入力!O19) | BW6: 封切日 | CG6: =IF(外国映画情報入力!C22="","",外国映画情報入力!C22) | CW6: 1
CW7: 1
L8: =IF(外国映画情報入力!C8="","",外国映画情報入力!C8) | CW8: 1
BW9: 制作国 | CG9: =IF(外国映画情報入力!O22="","",外国映画情報入力!O22) | CW9: 1
L10: =IF(外国映画情報入力!C9="","",外国映画情報入力!C9) | BK10: 字幕版及び吹替版 いずれも上映される 常設館数 | BS10: =IF(外国映画情報入力!O20="","",外国映画情報入力!O20) | CW10: 1
CW11: 1
D12: 法人名 | L12: =IF(外国映画情報入力!C10="","",外国映画情報入力!C10) | BW12: 音楽監督 | CG12: =IF(外国映画情報入力!C23="","",外国映画情報入力!C23) | CW12: 1
CW13: 1
AW14: Ｒ指定の有無 | BG14: =IF(外国映画情報入力!C21="無","☑","☐") -> ☐ | BI14: 無 | BK14: =IF(外国映画情報入力!C21="","☐",IF(外国映画情報入力!C21="有","☑",IF(LEFT(外国映画情報入力!C21,1)="R","☑","☐"))) -> ☐ | BM14: 有 | BO14: =IF(外国映画情報入力!C21="無","",IF(外国映画情報入力!C21="","","（" &外国映画情報入力!C21 & "）")) | BW14: 主な上映館 | CG14: =IF(外国映画情報入力!O23="","",外国映画情報入力!O23) | CW14: 1
CW15: 1
D16: 代表者名 | L16: =IF(外国映画情報入力!C11="","",外国映画情報入力!C11) | AO16: 印 | AW16: 種類 | BG16: =IF(外国映画情報入力!C24=BI16,"☑","☐") -> ☐ | BI16: フィクション | BO16: =IF(外国映画情報入力!C24=BQ16,"☑","☐") -> ☐ | BQ16: ドキュメンタリー | BY16: =IF(外国映画情報入力!C24=CA16,"☑","☐") -> ☐ | CA16: プラネタリウム | CI16: =IF(外国映画情報入力!C24=CK16,"☑","☐") -> ☐ | CK16: 予告編 | CW16: 1
CW17: 1
BG18: =IF(外国映画情報入力!C24="イベント収録","☑","☐") -> ☐ | BI18: イベント収録（イベント内容： | BW18: =IF(外国映画情報入力!C24="イベント収録",IF(外国映画情報入力!K24="","",外国映画情報入力!K24),"") | CV18: ） | CW18: 1
CW19: 1
D20: ご担当部署 | L20: =IF(外国映画情報入力!C12="","",外国映画情報入力!C12) | AB20: ＴＥＬ | AF20: =IF(外国映画情報入力!C14="","",外国映画情報入力!C14) | AW20: 製作会社 | BG20: =IF(外国映画情報入力!C25="","",外国映画情報入力!C25) | BW20: 配給会社 | CG20: =IF(外国映画情報入力!C26="","",外国映画情報入力!C26) | CW20: 1
CW21: 1
AB22: ＦＡＸ | AF22: =IF(外国映画情報入力!N14="","",外国映画情報入力!N14) | CW22: 1
D23: ご担当者名 | L23: =IF(外国映画情報入力!C13="","",外国映画情報入力!C13) | CW23: 1
AB24: 携帯 | AF24: =IF(外国映画情報入力!C15="","",外国映画情報入力!C15) | AW24: 楽曲明細の有無 | BG24: =IF(外国映画情報入力!C27=BI24,"☑","☐") -> ☐ | BI24: 有 | BK24: =IF(外国映画情報入力!C27=BM24,"☑","☐") -> ☐ | BM24: 無 | BO24: =IF(外国映画情報入力!C27=BQ24,"☑","☐") -> ☐ | BQ24: 後日提出 | CW24: 1
CW25: 1
D26: E-mail | L26: =IF(外国映画情報入力!N15="","",外国映画情報入力!N15) | CW26: 1
CW27: 1
A28: =IF(収録楽曲情報!S2="外国映画"," 私（申込者）は、本映画において固定されている管理著作物を上映利用することについて、協会の定める利用許諾条項（外国映画上映）に定める申込者の義務を完全に履行することを承諾のうえ申込みます。"," 貴協会が管理する下記音楽著作物を、当該映画に利用することについて、貴協会の定める利用許諾契約の履行を承諾のうえ申し込みます。なお、外国曲利用については、添付の使用承諾書のコピー（または合意条件を転記した一覧表等）のとおり、すでに権利者の同意を得ています。") -> 私（申込者）は、本映画において固定されている管理著作物を上映利用することについて、協会の定める利用許諾条項（外国映画上映）に定める申込者の義務を完全に履行することを承諾のうえ申込みます。 | AW28: 映画情報サイト URL | BG28: =IF(外国映画情報入力!C28="","",外国映画情報入力!C28) | CW28: 1
CW29: 1
CW30: 1
CW31: 1
CW32: 1
C33: 著作物題名 | S33: 作詞者名（訳詞者名）・作曲者名（編曲者名） | AK33: 利用時間 | AQ33: I/V区分 | AV33: 原訳区分 | BA33: 替歌 | BC33: 音楽出版者名 | BM33: 使用料 | CE33: 作品コード | CU33: E | CW33: 1
AK34: （分） | AN34: （秒） | CW34: 1
A35: 1 | C35: =IF(収録楽曲情報!D2="","",収録楽曲情報!D2) | S35: =IF(収録楽曲情報!E2="","",収録楽曲情報!E2 & " ・ ") & IF(収録楽曲情報!F2="","",収録楽曲情報!F2) | AK35: =IF(算定シミュレーション!AO13=0,"",算定シミュレーション!AO13) | AN35: =IF(算定シミュレーション!AP13=0,"",算定シミュレーション!AP13) | AQ35: =IF(収録楽曲情報!J2="","",収録楽曲情報!J2) | AV35: =IF(収録楽曲情報!K2="","",収録楽曲情報!K2) | BA35: =IF(収録楽曲情報!L2="","",収録楽曲情報!L2) | BC35: =IF(収録楽曲情報!G2="","",収録楽曲情報!G2) | CE35: =LEFT(収録楽曲情報!C2,1) | CG35: =MID(収録楽曲情報!C2,2,1) | CI35: =MID(収録楽曲情報!C2,3,1) | CK35: =MID(収録楽曲情報!C2,4,1) | CM35: =MID(収録楽曲情報!C2,5,1) | CO35: =MID(収録楽曲情報!C2,6,1) | CQ35: =MID(収録楽曲情報!C2,7,1) | CS35: =MID(収録楽曲情報!C2,8,1) | CW35: 1
A36: 2 | C36: =IF(収録楽曲情報!D3="","",収録楽曲情報!D3) | S36: =IF(収録楽曲情報!E3="","",収録楽曲情報!E3 & " ・ ") & IF(収録楽曲情報!F3="","",収録楽曲情報!F3) | AK36: =IF(算定シミュレーション!AO14=0,"",算定シミュレーション!AO14) | AN36: =IF(算定シミュレーション!AP14=0,"",算定シミュレーション!AP14) | AQ36: =IF(収録楽曲情報!J3="","",収録楽曲情報!J3) | AV36: =IF(収録楽曲情報!K3="","",収録楽曲情報!K3) | BA36: =IF(収録楽曲情報!L3="","",収録楽曲情報!L3) | BC36: =IF(収録楽曲情報!G3="","",収録楽曲情報!G3) | CE36: =LEFT(収録楽曲情報!C3,1) | CG36: =MID(収録楽曲情報!C3,2,1) | CI36: =MID(収録楽曲情報!C3,3,1) | CK36: =MID(収録楽曲情報!C3,4,1) | CM36: =MID(収録楽曲情報!C3,5,1) | CO36: =MID(収録楽曲情報!C3,6,1) | CQ36: =MID(収録楽曲情報!C3,7,1) | CS36: =MID(収録楽曲情報!C3,8,1) | CW36: 1
A37: 3 | C37: =IF(収録楽曲情報!D4="","",収録楽曲情報!D4) | S37: =IF(収録楽曲情報!E4="","",収録楽曲情報!E4 & " ・ ") & IF(収録楽曲情報!F4="","",収録楽曲情報!F4) | AK37: =IF(算定シミュレーション!AO15=0,"",算定シミュレーション!AO15) | AN37: =IF(算定シミュレーション!AP15=0,"",算定シミュレーション!AP15) | AQ37: =IF(収録楽曲情報!J4="","",収録楽曲情報!J4) | AV37: =IF(収録楽曲情報!K4="","",収録楽曲情報!K4) | BA37: =IF(収録楽曲情報!L4="","",収録楽曲情報!L4) | BC37: =IF(収録楽曲情報!G4="","",収録楽曲情報!G4) | CE37: =LEFT(収録楽曲情報!C4,1) | CG37: =MID(収録楽曲情報!C4,2,1) | CI37: =MID(収録楽曲情報!C4,3,1) | CK37: =MID(収録楽曲情報!C4,4,1) | CM37: =MID(収録楽曲情報!C4,5,1) | CO37: =MID(収録楽曲情報!C4,6,1) | CQ37: =MID(収録楽曲情報!C4,7,1) | CS37: =MID(収録楽曲情報!C4,8,1) | CW37: 1
A38: 4 | C38: =IF(収録楽曲情報!D5="","",収録楽曲情報!D5) | S38: =IF(収録楽曲情報!E5="","",収録楽曲情報!E5 & " ・ ") & IF(収録楽曲情報!F5="","",収録楽曲情報!F5) | AK38: =IF(算定シミュレーション!AO16=0,"",算定シミュレーション!AO16) | AN38: =IF(算定シミュレーション!AP16=0,"",算定シミュレーション!AP16) | AQ38: =IF(収録楽曲情報!J5="","",収録楽曲情報!J5) | AV38: =IF(収録楽曲情報!K5="","",収録楽曲情報!K5) | BA38: =IF(収録楽曲情報!L5="","",収録楽曲情報!L5) | BC38: =IF(収録楽曲情報!G5="","",収録楽曲情報!G5) | CE38: =LEFT(収録楽曲情報!C5,1) | CG38: =MID(収録楽曲情報!C5,2,1) | CI38: =MID(収録楽曲情報!C5,3,1) | CK38: =MID(収録楽曲情報!C5,4,1) | CM38: =MID(収録楽曲情報!C5,5,1) | CO38: =MID(収録楽曲情報!C5,6,1) | CQ38: =MID(収録楽曲情報!C5,7,1) | CS38: =MID(収録楽曲情報!C5,8,1) | CW38: 1
A39: 5 | C39: =IF(収録楽曲情報!D6="","",収録楽曲情報!D6) | S39: =IF(収録楽曲情報!E6="","",収録楽曲情報!E6 & " ・ ") & IF(収録楽曲情報!F6="","",収録楽曲情報!F6) | AK39: =IF(算定シミュレーション!AO17=0,"",算定シミュレーション!AO17) | AN39: =IF(算定シミュレーション!AP17=0,"",算定シミュレーション!AP17) | AQ39: =IF(収録楽曲情報!J6="","",収録楽曲情報!J6) | AV39: =IF(収録楽曲情報!K6="","",収録楽曲情報!K6) | BA39: =IF(収録楽曲情報!L6="","",収録楽曲情報!L6) | BC39: =IF(収録楽曲情報!G6="","",収録楽曲情報!G6) | CE39: =LEFT(収録楽曲情報!C6,1) | CG39: =MID(収録楽曲情報!C6,2,1) | CI39: =MID(収録楽曲情報!C6,3,1) | CK39: =MID(収録楽曲情報!C6,4,1) | CM39: =MID(収録楽曲情報!C6,5,1) | CO39: =MID(収録楽曲情報!C6,6,1) | CQ39: =MID(収録楽曲情報!C6,7,1) | CS39: =MID(収録楽曲情報!C6,8,1) | CW39: 1
A40: ♪♬♪♬♪♬♪♬♪♬♪♬♪♬♪♬♪♬♪♬♪♬♪♬♪♬♪♬♪♬♪♬♪♬♪♬ | BE40: 小計 | CE40: =IF(CC50="",9,IF(収録楽曲情報!$V$4=0,9,"")) -> 9 | CG40: =IF(CC50="",9,IF(収録楽曲情報!$V$4=0,9,"")) -> 9 | CI40: =IF(CC50="",9,IF(収録楽曲情報!$V$4=0,9,RIGHT(LEFT(収録楽曲情報!$V$4,1),1))) -> 9 | CK40: =IF(CC50="",9,IF(収録楽曲情報!$V$4=0,9,RIGHT(LEFT(収録楽曲情報!$V$4,2),1))) -> 9 | CM40: =IF(CC50="",9,IF(収録楽曲情報!$V$4=0,9,RIGHT(LEFT(収録楽曲情報!$V$4,3),1))) -> 9 | CO40: =IF(CC50="",9,IF(収録楽曲情報!$V$4=0,9,RIGHT(LEFT(収録楽曲情報!$V$4,4),1))) -> 9 | CQ40: =IF(CC50="",9,IF(収録楽曲情報!$V$4=0,9,RIGHT(LEFT(収録楽曲情報!$V$4,5),1))) -> 9 | CS40: =IF(CC50="",9,IF(収録楽曲情報!$V$4=0,9,RIGHT(LEFT(収録楽曲情報!$V$4,6),1))) -> 9 | CU40: =IF(CC50="",9,IF(収録楽曲情報!$V$4=0,9,"")) -> 9 | CW40: 1
...

Sheet 取込
A1: ID | B1: 旧邦画ID | C1: 旧全興連ID | D1: 映画コード | E1: タイトル | F1: カナ | G1: 洋邦フラグ | H1: R指定 | I1: 原題 | J1: 製作年度 | K1: 製作国 | L1: 配給先 | M1: 公開日 | N1: 封切日 | O1: 映画監督 | P1: 音楽監督 | Q1: 劇場情報 | R1: 作品ＨＰ | S1: 担当者 | T1: 映画類別 | U1: 映画の種類 | V1: CSコード | W1: CSステータス | X1: 録音ステータス | Y1: 上映ステータス | Z1: 備考 | AA1: 配給会社ID | AB1: CS受付日 | AC1: CS回付日 | AD1: CS届出人 | AE1: CS担当部署 | AF1: CS担当者 | AG1: CS℡ | AH1: 委嘱照会日 | AI1: 委嘱回答日 | AJ1: 録音受付日 | AK1: 録音申請者 | AL1: 録音担当部署 | AM1: 録音担当者 | AN1: 録音℡ | AO1: 外国曲数 | AP1: 指し値合計 | AQ1: 外国曲有無 | AR1: 録音請求日 | AS1: 録音許諾番号 | AT1: 録音請求番号 | AU1: 録音請求額 | AV1: 上映受付日 | AW1: 上映申請者 | AX1: 上映担当部署 | AY1: 上映担当者 | AZ1: 上映℡ | BA1: 上映メールアドレス | BB1: 上映請求種目 | BC1: 全興連契約区分 | BD1: 長短区分 | BE1: 複数館上映 | BF1: 字幕又は吹替 | BG1: 字幕及び吹替 | BH1: プリント本数 | BI1: 楽曲明細情報 | BJ1: 上映請求日 | BK1: 上映許諾番号 | BL1: 上映請求番号 | BM1: 上映請求額 | BN1: 上映入金日 | BO1: 上映通知日 | BP1: 上映通知回答日 | BQ1: 上映許諾番号通知日時 | BR1: ビデオ受付日 | BS1: ビデオ受付部署 | BT1: ビデオ受付部署担当者 | BU1: ビデオ申請者 | BV1: ビデオ担当部署 | BW1: ビデオ担当者 | BX1: ビデオ℡ | BY1: AGM課連絡日 | BZ1: 仮CSコード | CA1: ビデオCS登録依頼日 | CB1: モニタリング依頼日
E2: =外国映画情報入力!C17 -> 0 | G2: 1 | H2: =IF(外国映画情報入力!C21="","",IF(外国映画情報入力!C21="無","",IF(外国映画情報入力!C21="R15+","R-15",IF(外国映画情報入力!C21="R18+","R-18")))) | I2: =外国映画情報入力!C16 -> 0 | K2: =IF(外国映画情報入力!O22="","",外国映画情報入力!O22) | L2: =IF(外国映画情報入力!C26="","",外国映画情報入力!C26) | N2: =IF(外国映画情報入力!C22="","",外国映画情報入力!C22) | P2: =IF(外国映画情報入力!C23="","",外国映画情報入力!C23) | Q2: =IF(外国映画情報入力!O23="","",外国映画情報入力!O23) | R2: =IF(外国映画情報入力!C28="","",外国映画情報入力!C28) | U2: =IF(外国映画情報入力!C24="","",外国映画情報入力!C24) | Y2: 受理済 | AV2: =TODAY() -> 45741 | AW2: =IF(外国映画情報入力!C10="","",外国映画情報入力!C10) | AX2: =IF(外国映画情報入力!C12="","",外国映画情報入力!C12) | AY2: =IF(外国映画情報入力!C13="","",外国映画情報入力!C13) | AZ2: =IF(外国映画情報入力!C14="","",外国映画情報入力!C14) | BA2: =IF(外国映画情報入力!N15="","",外国映画情報入力!N15) | BH2: =IF(外国映画情報入力!C18="","",外国映画情報入力!C18) | BI2: =IF(外国映画情報入力!C27="","",外国映画情報入力!C27) | CC2: ←

Sheet 収録楽曲情報
A1: 収録時間入力(mmss) | B1: № | C1: 作品コード | D1: 作品題名 | E1: 作詞（訳詞）者名 | F1: 作曲（編曲）者名 | G1: 音楽出版者名 | H1: 分 | I1: 秒 | J1: I/V | K1: 原訳 | L1: 替歌 | M1: 録音 管理率等 | N1: 演奏 管理率等 | P1: 作家名寄 | Q1: 申込書表示 | R1: № | S1: 申込書式 | T1: 許諾番号 | U1: 請求年2ケタ | V1: 月 | W1: 日 | X1: 請求書番号 | Y1: 規定判定 | Z1: 旧キャップ | AA1: 新キャップ
B2: 1 | C2: =IF(収録作品入力!B3="","",収録作品入力!B3) | D2: =IF(収録作品入力!C3="","",収録作品入力!C3) | E2: =IF(収録作品入力!D3="","",収録作品入力!D3) | F2: =IF(収録作品入力!E3="","",収録作品入力!E3) | G2: =IF(収録作品入力!F3="","",収録作品入力!F3) | H2: =IF(収録作品入力!G3="",0,収録作品入力!G3) -> 0 | I2: =IF(収録作品入力!H3="",0,収録作品入力!H3) -> 0 | J2: =IF(収録作品入力!I3="","",収録作品入力!I3) | K2: =IF(収録作品入力!J3="",IF(J2="V 詞曲","原詞",""),収録作品入力!J3) | L2: =IF(K2="原詞","無","") | M2: =IF(D2="","",100) | N2: =IF(D2="","",100) | O2: =IF(E2="",F2,CONCATENATE(E2,"・",F2)) | Q2: =IF(ISERROR(FINDB("録音",$S$2)),IF(D2="","",IF(AND(N2>0,N2<=100),"【JASRAC】","【"&N2&"】")),IF(D2="","",IF(AND(M2>0,M2<=100),"【JASRAC】","【"&M2&"】"))) | R2: 1 | S2: 外国映画 | T2: =TBL_映画情報!BK2 -> 0 | U2: =RIGHT(YEAR(S6),2) -> 00 | V2: =MONTH(S6) -> 1 | W2: =DAY(S6) -> 0 | X2: =TBL_映画情報!BL2 -> 0 | Y2: =IF(S2="外国映画",IF(外国映画情報入力!C22>43404,1,2),2) -> 2 | Z2: =IF(外国映画情報入力!C22>43404,IF(Y2=1,IF(LEFT(外国映画情報入力!C21,1)="R",Y4,X4)),0) -> 0 | AA2: =IF(外国映画情報入力!C22>45138,IF(Y2=1,IF(LEFT(外国映画情報入力!C21,1)="R",AA4,Z4)),0) -> 0
B3: 2 | C3: =IF(収録作品入力!B4="","",収録作品入力!B4) | D3: =IF(収録作品入力!C4="","",収録作品入力!C4) | E3: =IF(収録作品入力!D4="","",収録作品入力!D4) | F3: =IF(収録作品入力!E4="","",収録作品入力!E4) | G3: =IF(収録作品入力!F4="","",収録作品入力!F4) | H3: =IF(収録作品入力!G4="",0,収録作品入力!G4) -> 0 | I3: =IF(収録作品入力!H4="",0,収録作品入力!H4) -> 0 | J3: =IF(収録作品入力!I4="","",収録作品入力!I4) | K3: =IF(収録作品入力!J4="",IF(J3="V 詞曲","原詞",""),収録作品入力!J4) | L3: =IF(K3="原詞","無","") | M3: =IF(D3="","",100) | N3: =IF(D3="","",100) | O3: =IF(E3="",F3,CONCATENATE(E3,"・",F3)) | P3: =IF(VLOOKUP(O3,O:R,4,FALSE)=R3,"",VLOOKUP(O3,O:R,4,FALSE)&"と同") -> 1と同 | Q3: =IF(ISERROR(FINDB("録音",$S$2)),IF(D3="","",IF(AND(N3>0,N3<=100),"【JASRAC】","【"&N3&"】")),IF(D3="","",IF(AND(M3>0,M3<=100),"【JASRAC】","【"&M3&"】"))) | R3: 2 | S3: =IF(S2="日本映画上映","―","") | T3: ID | U3: 税率判定 | V3: キャップ額 | W3: =ROUNDDOWN(V4*U4,0) -> 0 | X3: =LEFT(X2,3) -> 0 | Y3: =RIGHT(X2,7) -> 0 | Z3: =IF(外国映画情報入力!C18="","",IF(外国映画情報入力!C18<11,T7,IF(外国映画情報入力!C18<31,U7,IF(外国映画情報入力!C18<101,V7,IF(外国映画情報入力!C18<301,W7,IF(外国映画情報入力!C18<501,X7,Y7)))))) | AA3: =IF(外国映画情報入力!C18="","",IF(外国映画情報入力!C18<2.00001,"1※特例",IF(外国映画情報入力!C18<11,T7,IF(外国映画情報入力!C18<31,U7,IF(外国映画情報入力!C18<101,V7,IF(外国映画情報入力!C18<201,W7,IF(外国映画情報入力!C18<301,X7,IF(外国映画情報入力!C18<501,Y7,IF(外国映画情報入力!C18<601,Z7,AA7))))))))) | AB3: =IF(外国映画情報入力!C22>45138,AA3,IF(外国映画情報入力!C22>43404,Z3)) -> FALSE
B4: 3 | C4: =IF(収録作品入力!B5="","",収録作品入力!B5) | D4: =IF(収録作品入力!C5="","",収録作品入力!C5) | E4: =IF(収録作品入力!D5="","",収録作品入力!D5) | F4: =IF(収録作品入力!E5="","",収録作品入力!E5) | G4: =IF(収録作品入力!F5="","",収録作品入力!F5) | H4: =IF(収録作品入力!G5="",0,収録作品入力!G5) -> 0 | I4: =IF(収録作品入力!H5="",0,収録作品入力!H5) -> 0 | J4: =IF(収録作品入力!I5="","",収録作品入力!I5) | K4: =IF(収録作品入力!J5="",IF(J4="V 詞曲","原詞",""),収録作品入力!J5) | L4: =IF(K4="原詞","無","") | M4: =IF(D4="","",100) | N4: =IF(D4="","",100) | O4: =IF(E4="",F4,CONCATENATE(E4,"・",F4)) | P4: =IF(VLOOKUP(O4,O:R,4,FALSE)=R4,"",VLOOKUP(O4,O:R,4,FALSE)&"と同") -> 1と同 | Q4: =IF(ISERROR(FINDB("録音",$S$2)),IF(D4="","",IF(AND(N4>0,N4<=100),"【JASRAC】","【"&N4&"】")),IF(D4="","",IF(AND(M4>0,M4<=100),"【JASRAC】","【"&M4&"】"))) | R4: 3 | S4: =IF(S2="日本映画録音","―","") | T4: =TBL_映画情報!A2 -> 0 | U4: =IF(ISERROR(FINDB("録音",$S$2)),算定シミュレーション!E4,算定シミュレーション!E3) -> 0.05 | V4: =IF(外国映画情報入力!C22<外国映画情報入力!C6,0,IF(外国映画情報入力!C22>45138,IF(AA2>算定シミュレーション!C7,0,AA2),IF(外国映画情報入力!C22>43404,IF(Z2>算定シミュレーション!C7,0,Z2)))) -> FALSE | W4: =V4+W3 -> 0 | X4: =IF(外国映画情報入力!C18="","",IF(外国映画情報入力!C18<11,T5,IF(外国映画情報入力!C18<31,U5,IF(外国映画情報入力!C18<101,V5,IF(外国映画情報入力!C18<301,W5,IF(外国映画情報入力!C18<501,X5,Y5)))))) | Y4: =IF(外国映画情報入力!C18="","",IF(外国映画情報入力!C18<11,T6,IF(外国映画情報入力!C18<31,U6,IF(外国映画情報入力!C18<101,V6,IF(外国映画情報入力!C18<301,W6,IF(外国映画情報入力!C18<501,X6,Y6)))))) | Z4: =IF(外国映画情報入力!C18="","",IF(外国映画情報入力!C18<2.00001,S12,IF(外国映画情報入力!C18<11,T12,IF(外国映画情報入力!C18<31,U12,IF(外国映画情報入力!C18<101,V12,IF(外国映画情報入力!C18<201,W12,IF(外国映画情報入力!C18<301,X12,IF(外国映画情報入力!C18<501,Y12,IF(外国映画情報入力!C18<601,Z12,AA12))))))))) | AA4: =IF(外国映画情報入力!C18="","",IF(外国映画情報入力!C18<2.00001,S13,IF(外国映画情報入力!C18<11,T13,IF(外国映画情報入力!C18<31,U13,IF(外国映画情報入力!C18<101,V13,IF(外国映画情報入力!C18<201,W13,IF(外国映画情報入力!C18<301,X13,IF(外国映画情報入力!C18<501,Y13,IF(外国映画情報入力!C18<601,Z13,AA13)))))))))
B5: 4 | C5: =IF(収録作品入力!B6="","",収録作品入力!B6) | D5: =IF(収録作品入力!C6="","",収録作品入力!C6) | E5: =IF(収録作品入力!D6="","",収録作品入力!D6) | F5: =IF(収録作品入力!E6="","",収録作品入力!E6) | G5: =IF(収録作品入力!F6="","",収録作品入力!F6) | H5: =IF(収録作品入力!G6="",0,収録作品入力!G6) -> 0 | I5: =IF(収録作品入力!H6="",0,収録作品入力!H6) -> 0 | J5: =IF(収録作品入力!I6="","",収録作品入力!I6) | K5: =IF(収録作品入力!J6="",IF(J5="V 詞曲","原詞",""),収録作品入力!J6) | L5: =IF(K5="原詞","無","") | M5: =IF(D5="","",100) | N5: =IF(D5="","",100) | O5: =IF(E5="",F5,CONCATENATE(E5,"・",F5)) | P5: =IF(VLOOKUP(O5,O:R,4,FALSE)=R5,"",VLOOKUP(O5,O:R,4,FALSE)&"と同") -> 1と同 | Q5: =IF(ISERROR(FINDB("録音",$S$2)),IF(D5="","",IF(AND(N5>0,N5<=100),"【JASRAC】","【"&N5&"】")),IF(D5="","",IF(AND(M5>0,M5<=100),"【JASRAC】","【"&M5&"】"))) | R5: 4 | S5: 請求日 | T5: 187500 | U5: 225000 | V5: 250000 | W5: 275000 | X5: 312500 | Y5: 375000
B6: 5 | C6: =IF(収録作品入力!B7="","",収録作品入力!B7) | D6: =IF(収録作品入力!C7="","",収録作品入力!C7) | E6: =IF(収録作品入力!D7="","",収録作品入力!D7) | F6: =IF(収録作品入力!E7="","",収録作品入力!E7) | G6: =IF(収録作品入力!F7="","",収録作品入力!F7) | H6: =IF(収録作品入力!G7="",0,収録作品入力!G7) -> 0 | I6: =IF(収録作品入力!H7="",0,収録作品入力!H7) -> 0 | J6: =IF(収録作品入力!I7="","",収録作品入力!I7) | K6: =IF(収録作品入力!J7="",IF(J6="V 詞曲","原詞",""),収録作品入力!J7) | L6: =IF(K6="原詞","無","") | M6: =IF(D6="","",100) | N6: =IF(D6="","",100) | O6: =IF(E6="",F6,CONCATENATE(E6,"・",F6)) | P6: =IF(VLOOKUP(O6,O:R,4,FALSE)=R6,"",VLOOKUP(O6,O:R,4,FALSE)&"と同") -> 1と同 | Q6: =IF(ISERROR(FINDB("録音",$S$2)),IF(D6="","",IF(AND(N6>0,N6<=100),"【JASRAC】","【"&N6&"】")),IF(D6="","",IF(AND(M6>0,M6<=100),"【JASRAC】","【"&M6&"】"))) | R6: 5 | S6: =TBL_映画情報!BJ2 -> 0 | T6: 137500 | U6: 162500 | V6: 175000 | W6: 187500 | X6: 225000 | Y6: 262500
B7: 6 | C7: =IF(収録作品入力!B8="","",収録作品入力!B8) | D7: =IF(収録作品入力!C8="","",収録作品入力!C8) | E7: =IF(収録作品入力!D8="","",収録作品入力!D8) | F7: =IF(収録作品入力!E8="","",収録作品入力!E8) | G7: =IF(収録作品入力!F8="","",収録作品入力!F8) | H7: =IF(収録作品入力!G8="",0,収録作品入力!G8) -> 0 | I7: =IF(収録作品入力!H8="",0,収録作品入力!H8) -> 0 | J7: =IF(収録作品入力!I8="","",収録作品入力!I8) | K7: =IF(収録作品入力!J8="",IF(J7="V 詞曲","原詞",""),収録作品入力!J8) | L7: =IF(K7="原詞","無","") | M7: =IF(D7="","",100) | N7: =IF(D7="","",100) | O7: =IF(E7="",F7,CONCATENATE(E7,"・",F7)) | P7: =IF(VLOOKUP(O7,O:R,4,FALSE)=R7,"",VLOOKUP(O7,O:R,4,FALSE)&"と同") -> 1と同 | Q7: =IF(ISERROR(FINDB("録音",$S$2)),IF(D7="","",IF(AND(N7>0,N7<=100),"【JASRAC】","【"&N7&"】")),IF(D7="","",IF(AND(M7>0,M7<=100),"【JASRAC】","【"&M7&"】"))) | R7: 6 | T7: 1 | U7: 2 | V7: 3 | W7: 4 | X7: 5 | Y7: 6 | Z7: 7 | AA7: 8
B8: 7 | C8: =IF(収録作品入力!B9="","",収録作品入力!B9) | D8: =IF(収録作品入力!C9="","",収録作品入力!C9) | E8: =IF(収録作品入力!D9="","",収録作品入力!D9) | F8: =IF(収録作品入力!E9="","",収録作品入力!E9) | G8: =IF(収録作品入力!F9="","",収録作品入力!F9) | H8: =IF(収録作品入力!G9="",0,収録作品入力!G9) -> 0 | I8: =IF(収録作品入力!H9="",0,収録作品入力!H9) -> 0 | J8: =IF(収録作品入力!I9="","",収録作品入力!I9) | K8: =IF(収録作品入力!J9="",IF(J8="V 詞曲","原詞",""),収録作品入力!J9) | L8: =IF(K8="原詞","無","") | M8: =IF(D8="","",100) | N8: =IF(D8="","",100) | O8: =IF(E8="",F8,CONCATENATE(E8,"・",F8)) | P8: =IF(VLOOKUP(O8,O:R,4,FALSE)=R8,"",VLOOKUP(O8,O:R,4,FALSE)&"と同") -> 1と同 | Q8: =IF(ISERROR(FINDB("録音",$S$2)),IF(D8="","",IF(AND(N8>0,N8<=100),"【JASRAC】","【"&N8&"】")),IF(D8="","",IF(AND(M8>0,M8<=100),"【JASRAC】","【"&M8&"】"))) | R8: 7 | S8: =(IF(Y2=1,CONCATENATE("使用料規程第2章第3節映画2上映（3）①で算出した使用料小計が、「外国映画上映使用料の取扱い」に定める表1の額（区分",AB3,"の",IF(LEFT(外国映画情報入力!C21,1)="R","R指定","一般"),"映画、",TEXT(V4,"###,###,###"),"円）を上回ったため、同取扱いに基づき",TEXT(V4,"###,###,###"),"円に消費税相当額",TEXT(W3,"###,###,###"),"円を加算した",TEXT(W4,"###,###,###"),"円を使用料とする。"),""))
B9: 8 | C9: =IF(収録作品入力!B10="","",収録作品入力!B10) | D9: =IF(収録作品入力!C10="","",収録作品入力!C10) | E9: =IF(収録作品入力!D10="","",収録作品入力!D10) | F9: =IF(収録作品入力!E10="","",収録作品入力!E10) | G9: =IF(収録作品入力!F10="","",収録作品入力!F10) | H9: =IF(収録作品入力!G10="",0,収録作品入力!G10) -> 0 | I9: =IF(収録作品入力!H10="",0,収録作品入力!H10) -> 0 | J9: =IF(収録作品入力!I10="","",収録作品入力!I10) | K9: =IF(収録作品入力!J10="",IF(J9="V 詞曲","原詞",""),収録作品入力!J10) | L9: =IF(K9="原詞","無","") | M9: =IF(D9="","",100) | N9: =IF(D9="","",100) | O9: =IF(E9="",F9,CONCATENATE(E9,"・",F9)) | P9: =IF(VLOOKUP(O9,O:R,4,FALSE)=R9,"",VLOOKUP(O9,O:R,4,FALSE)&"と同") -> 1と同 | Q9: =IF(ISERROR(FINDB("録音",$S$2)),IF(D9="","",IF(AND(N9>0,N9<=100),"【JASRAC】","【"&N9&"】")),IF(D9="","",IF(AND(M9>0,M9<=100),"【JASRAC】","【"&M9&"】"))) | R9: 8
B10: 9 | C10: =IF(収録作品入力!B11="","",収録作品入力!B11) | D10: =IF(収録作品入力!C11="","",収録作品入力!C11) | E10: =IF(収録作品入力!D11="","",収録作品入力!D11) | F10: =IF(収録作品入力!E11="","",収録作品入力!E11) | G10: =IF(収録作品入力!F11="","",収録作品入力!F11) | H10: =IF(収録作品入力!G11="",0,収録作品入力!G11) -> 0 | I10: =IF(収録作品入力!H11="",0,収録作品入力!H11) -> 0 | J10: =IF(収録作品入力!I11="","",収録作品入力!I11) | K10: =IF(収録作品入力!J11="",IF(J10="V 詞曲","原詞",""),収録作品入力!J11) | L10: =IF(K10="原詞","無","") | M10: =IF(D10="","",100) | N10: =IF(D10="","",100) | O10: =IF(E10="",F10,CONCATENATE(E10,"・",F10)) | P10: =IF(VLOOKUP(O10,O:R,4,FALSE)=R10,"",VLOOKUP(O10,O:R,4,FALSE)&"と同") -> 1と同 | Q10: =IF(ISERROR(FINDB("録音",$S$2)),IF(D10="","",IF(AND(N10>0,N10<=100),"【JASRAC】","【"&N10&"】")),IF(D10="","",IF(AND(M10>0,M10<=100),"【JASRAC】","【"&M10&"】"))) | R10: 9
B11: 10 | C11: =IF(収録作品入力!B12="","",収録作品入力!B12) | D11: =IF(収録作品入力!C12="","",収録作品入力!C12) | E11: =IF(収録作品入力!D12="","",収録作品入力!D12) | F11: =IF(収録作品入力!E12="","",収録作品入力!E12) | G11: =IF(収録作品入力!F12="","",収録作品入力!F12) | H11: =IF(収録作品入力!G12="",0,収録作品入力!G12) -> 0 | I11: =IF(収録作品入力!H12="",0,収録作品入力!H12) -> 0 | J11: =IF(収録作品入力!I12="","",収録作品入力!I12) | K11: =IF(収録作品入力!J12="",IF(J11="V 詞曲","原詞",""),収録作品入力!J12) | L11: =IF(K11="原詞","無","") | M11: =IF(D11="","",100) | N11: =IF(D11="","",100) | O11: =IF(E11="",F11,CONCATENATE(E11,"・",F11)) | P11: =IF(VLOOKUP(O11,O:R,4,FALSE)=R11,"",VLOOKUP(O11,O:R,4,FALSE)&"と同") -> 1と同 | Q11: =IF(ISERROR(FINDB("録音",$S$2)),IF(D11="","",IF(AND(N11>0,N11<=100),"【JASRAC】","【"&N11&"】")),IF(D11="","",IF(AND(M11>0,M11<=100),"【JASRAC】","【"&M11&"】"))) | R11: 10
B12: 11 | C12: =IF(収録作品入力!B13="","",収録作品入力!B13) | D12: =IF(収録作品入力!C13="","",収録作品入力!C13) | E12: =IF(収録作品入力!D13="","",収録作品入力!D13) | F12: =IF(収録作品入力!E13="","",収録作品入力!E13) | G12: =IF(収録作品入力!F13="","",収録作品入力!F13) | H12: =IF(収録作品入力!G13="",0,収録作品入力!G13) -> 0 | I12: =IF(収録作品入力!H13="",0,収録作品入力!H13) -> 0 | J12: =IF(収録作品入力!I13="","",収録作品入力!I13) | K12: =IF(収録作品入力!J13="",IF(J12="V 詞曲","原詞",""),収録作品入力!J13) | L12: =IF(K12="原詞","無","") | M12: =IF(D12="","",100) | N12: =IF(D12="","",100) | O12: =IF(E12="",F12,CONCATENATE(E12,"・",F12)) | P12: =IF(VLOOKUP(O12,O:R,4,FALSE)=R12,"",VLOOKUP(O12,O:R,4,FALSE)&"と同") -> 1と同 | Q12: =IF(ISERROR(FINDB("録音",$S$2)),IF(D12="","",IF(AND(N12>0,N12<=100),"【JASRAC】","【"&N12&"】")),IF(D12="","",IF(AND(M12>0,M12<=100),"【JASRAC】","【"&M12&"】"))) | R12: 11 | S12: 170000 | T12: 212500 | U12: 250000 | V12: 312500 | W12: 375000 | X12: 437500 | Y12: 500000 | Z12: 625000 | AA12: 750000
B13: 12 | C13: =IF(収録作品入力!B14="","",収録作品入力!B14) | D13: =IF(収録作品入力!C14="","",収録作品入力!C14) | E13: =IF(収録作品入力!D14="","",収録作品入力!D14) | F13: =IF(収録作品入力!E14="","",収録作品入力!E14) | G13: =IF(収録作品入力!F14="","",収録作品入力!F14) | H13: =IF(収録作品入力!G14="",0,収録作品入力!G14) -> 0 | I13: =IF(収録作品入力!H14="",0,収録作品入力!H14) -> 0 | J13: =IF(収録作品入力!I14="","",収録作品入力!I14) | K13: =IF(収録作品入力!J14="",IF(J13="V 詞曲","原詞",""),収録作品入力!J14) | L13: =IF(K13="原詞","無","") | M13: =IF(D13="","",100) | N13: =IF(D13="","",100) | O13: =IF(E13="",F13,CONCATENATE(E13,"・",F13)) | P13: =IF(VLOOKUP(O13,O:R,4,FALSE)=R13,"",VLOOKUP(O13,O:R,4,FALSE)&"と同") -> 1と同 | Q13: =IF(ISERROR(FINDB("録音",$S$2)),IF(D13="","",IF(AND(N13>0,N13<=100),"【JASRAC】","【"&N13&"】")),IF(D13="","",IF(AND(M13>0,M13<=100),"【JASRAC】","【"&M13&"】"))) | R13: 12 | S13: 125000 | T13: 156250 | U13: 181250 | V13: 218750 | W13: 256250 | X13: 300000 | Y13: 362500 | Z13: 437500 | AA13: 525000
B14: 13 | C14: =IF(収録作品入力!B15="","",収録作品入力!B15) | D14: =IF(収録作品入力!C15="","",収録作品入力!C15) | E14: =IF(収録作品入力!D15="","",収録作品入力!D15) | F14: =IF(収録作品入力!E15="","",収録作品入力!E15) | G14: =IF(収録作品入力!F15="","",収録作品入力!F15) | H14: =IF(収録作品入力!G15="",0,収録作品入力!G15) -> 0 | I14: =IF(収録作品入力!H15="",0,収録作品入力!H15) -> 0 | J14: =IF(収録作品入力!I15="","",収録作品入力!I15) | K14: =IF(収録作品入力!J15="",IF(J14="V 詞曲","原詞",""),収録作品入力!J15) | L14: =IF(K14="原詞","無","") | M14: =IF(D14="","",100) | N14: =IF(D14="","",100) | O14: =IF(E14="",F14,CONCATENATE(E14,"・",F14)) | P14: =IF(VLOOKUP(O14,O:R,4,FALSE)=R14,"",VLOOKUP(O14,O:R,4,FALSE)&"と同") -> 1と同 | Q14: =IF(ISERROR(FINDB("録音",$S$2)),IF(D14="","",IF(AND(N14>0,N14<=100),"【JASRAC】","【"&N14&"】")),IF(D14="","",IF(AND(M14>0,M14<=100),"【JASRAC】","【"&M14&"】"))) | R14: 13
B15: 14 | C15: =IF(収録作品入力!B16="","",収録作品入力!B16) | D15: =IF(収録作品入力!C16="","",収録作品入力!C16) | E15: =IF(収録作品入力!D16="","",収録作品入力!D16) | F15: =IF(収録作品入力!E16="","",収録作品入力!E16) | G15: =IF(収録作品入力!F16="","",収録作品入力!F16) | H15: =IF(収録作品入力!G16="",0,収録作品入力!G16) -> 0 | I15: =IF(収録作品入力!H16="",0,収録作品入力!H16) -> 0 | J15: =IF(収録作品入力!I16="","",収録作品入力!I16) | K15: =IF(収録作品入力!J16="",IF(J15="V 詞曲","原詞",""),収録作品入力!J16) | L15: =IF(K15="原詞","無","") | M15: =IF(D15="","",100) | N15: =IF(D15="","",100) | O15: =IF(E15="",F15,CONCATENATE(E15,"・",F15)) | P15: =IF(VLOOKUP(O15,O:R,4,FALSE)=R15,"",VLOOKUP(O15,O:R,4,FALSE)&"と同") -> 1と同 | Q15: =IF(ISERROR(FINDB("録音",$S$2)),IF(D15="","",IF(AND(N15>0,N15<=100),"【JASRAC】","【"&N15&"】")),IF(D15="","",IF(AND(M15>0,M15<=100),"【JASRAC】","【"&M15&"】"))) | R15: 14
B16: 15 | C16: =IF(収録作品入力!B17="","",収録作品入力!B17) | D16: =IF(収録作品入力!C17="","",収録作品入力!C17) | E16: =IF(収録作品入力!D17="","",収録作品入力!D17) | F16: =IF(収録作品入力!E17="","",収録作品入力!E17) | G16: =IF(収録作品入力!F17="","",収録作品入力!F17) | H16: =IF(収録作品入力!G17="",0,収録作品入力!G17) -> 0 | I16: =IF(収録作品入力!H17="",0,収録作品入力!H17) -> 0 | J16: =IF(収録作品入力!I17="","",収録作品入力!I17) | K16: =IF(収録作品入力!J17="",IF(J16="V 詞曲","原詞",""),収録作品入力!J17) | L16: =IF(K16="原詞","無","") | M16: =IF(D16="","",100) | N16: =IF(D16="","",100) | O16: =IF(E16="",F16,CONCATENATE(E16,"・",F16)) | P16: =IF(VLOOKUP(O16,O:R,4,FALSE)=R16,"",VLOOKUP(O16,O:R,4,FALSE)&"と同") -> 1と同 | Q16: =IF(ISERROR(FINDB("録音",$S$2)),IF(D16="","",IF(AND(N16>0,N16<=100),"【JASRAC】","【"&N16&"】")),IF(D16="","",IF(AND(M16>0,M16<=100),"【JASRAC】","【"&M16&"】"))) | R16: 15
B17: 16 | C17: =IF(収録作品入力!B18="","",収録作品入力!B18) | D17: =IF(収録作品入力!C18="","",収録作品入力!C18) | E17: =IF(収録作品入力!D18="","",収録作品入力!D18) | F17: =IF(収録作品入力!E18="","",収録作品入力!E18) | G17: =IF(収録作品入力!F18="","",収録作品入力!F18) | H17: =IF(収録作品入力!G18="",0,収録作品入力!G18) -> 0 | I17: =IF(収録作品入力!H18="",0,収録作品入力!H18) -> 0 | J17: =IF(収録作品入力!I18="","",収録作品入力!I18) | K17: =IF(収録作品入力!J18="",IF(J17="V 詞曲","原詞",""),収録作品入力!J18) | L17: =IF(K17="原詞","無","") | M17: =IF(D17="","",100) | N17: =IF(D17="","",100) | O17: =IF(E17="",F17,CONCATENATE(E17,"・",F17)) | P17: =IF(VLOOKUP(O17,O:R,4,FALSE)=R17,"",VLOOKUP(O17,O:R,4,FALSE)&"と同") -> 1と同 | Q17: =IF(ISERROR(FINDB("録音",$S$2)),IF(D17="","",IF(AND(N17>0,N17<=100),"【JASRAC】","【"&N17&"】")),IF(D17="","",IF(AND(M17>0,M17<=100),"【JASRAC】","【"&M17&"】"))) | R17: 16
B18: 17 | C18: =IF(収録作品入力!B19="","",収録作品入力!B19) | D18: =IF(収録作品入力!C19="","",収録作品入力!C19) | E18: =IF(収録作品入力!D19="","",収録作品入力!D19) | F18: =IF(収録作品入力!E19="","",収録作品入力!E19) | G18: =IF(収録作品入力!F19="","",収録作品入力!F19) | H18: =IF(収録作品入力!G19="",0,収録作品入力!G19) -> 0 | I18: =IF(収録作品入力!H19="",0,収録作品入力!H19) -> 0 | J18: =IF(収録作品入力!I19="","",収録作品入力!I19) | K18: =IF(収録作品入力!J19="",IF(J18="V 詞曲","原詞",""),収録作品入力!J19) | L18: =IF(K18="原詞","無","") | M18: =IF(D18="","",100) | N18: =IF(D18="","",100) | O18: =IF(E18="",F18,CONCATENATE(E18,"・",F18)) | P18: =IF(VLOOKUP(O18,O:R,4,FALSE)=R18,"",VLOOKUP(O18,O:R,4,FALSE)&"と同") -> 1と同 | Q18: =IF(ISERROR(FINDB("録音",$S$2)),IF(D18="","",IF(AND(N18>0,N18<=100),"【JASRAC】","【"&N18&"】")),IF(D18="","",IF(AND(M18>0,M18<=100),"【JASRAC】","【"&M18&"】"))) | R18: 17
B19: 18 | C19: =IF(収録作品入力!B20="","",収録作品入力!B20) | D19: =IF(収録作品入力!C20="","",収録作品入力!C20) | E19: =IF(収録作品入力!D20="","",収録作品入力!D20) | F19: =IF(収録作品入力!E20="","",収録作品入力!E20) | G19: =IF(収録作品入力!F20="","",収録作品入力!F20) | H19: =IF(収録作品入力!G20="",0,収録作品入力!G20) -> 0 | I19: =IF(収録作品入力!H20="",0,収録作品入力!H20) -> 0 | J19: =IF(収録作品入力!I20="","",収録作品入力!I20) | K19: =IF(収録作品入力!J20="",IF(J19="V 詞曲","原詞",""),収録作品入力!J20) | L19: =IF(K19="原詞","無","") | M19: =IF(D19="","",100) | N19: =IF(D19="","",100) | O19: =IF(E19="",F19,CONCATENATE(E19,"・",F19)) | P19: =IF(VLOOKUP(O19,O:R,4,FALSE)=R19,"",VLOOKUP(O19,O:R,4,FALSE)&"と同") -> 1と同 | Q19: =IF(ISERROR(FINDB("録音",$S$2)),IF(D19="","",IF(AND(N19>0,N19<=100),"【JASRAC】","【"&N19&"】")),IF(D19="","",IF(AND(M19>0,M19<=100),"【JASRAC】","【"&M19&"】"))) | R19: 18
B20: 19 | C20: =IF(収録作品入力!B21="","",収録作品入力!B21) | D20: =IF(収録作品入力!C21="","",収録作品入力!C21) | E20: =IF(収録作品入力!D21="","",収録作品入力!D21) | F20: =IF(収録作品入力!E21="","",収録作品入力!E21) | G20: =IF(収録作品入力!F21="","",収録作品入力!F21) | H20: =IF(収録作品入力!G21="",0,収録作品入力!G21) -> 0 | I20: =IF(収録作品入力!H21="",0,収録作品入力!H21) -> 0 | J20: =IF(収録作品入力!I21="","",収録作品入力!I21) | K20: =IF(収録作品入力!J21="",IF(J20="V 詞曲","原詞",""),収録作品入力!J21) | L20: =IF(K20="原詞","無","") | M20: =IF(D20="","",100) | N20: =IF(D20="","",100) | O20: =IF(E20="",F20,CONCATENATE(E20,"・",F20)) | P20: =IF(VLOOKUP(O20,O:R,4,FALSE)=R20,"",VLOOKUP(O20,O:R,4,FALSE)&"と同") -> 1と同 | Q20: =IF(ISERROR(FINDB("録音",$S$2)),IF(D20="","",IF(AND(N20>0,N20<=100),"【JASRAC】","【"&N20&"】")),IF(D20="","",IF(AND(M20>0,M20<=100),"【JASRAC】","【"&M20&"】"))) | R20: 19
B21: 20 | C21: =IF(収録作品入力!B22="","",収録作品入力!B22) | D21: =IF(収録作品入力!C22="","",収録作品入力!C22) | E21: =IF(収録作品入力!D22="","",収録作品入力!D22) | F21: =IF(収録作品入力!E22="","",収録作品入力!E22) | G21: =IF(収録作品入力!F22="","",収録作品入力!F22) | H21: =IF(収録作品入力!G22="",0,収録作品入力!G22) -> 0 | I21: =IF(収録作品入力!H22="",0,収録作品入力!H22) -> 0 | J21: =IF(収録作品入力!I22="","",収録作品入力!I22) | K21: =IF(収録作品入力!J22="",IF(J21="V 詞曲","原詞",""),収録作品入力!J22) | L21: =IF(K21="原詞","無","") | M21: =IF(D21="","",100) | N21: =IF(D21="","",100) | O21: =IF(E21="",F21,CONCATENATE(E21,"・",F21)) | P21: =IF(VLOOKUP(O21,O:R,4,FALSE)=R21,"",VLOOKUP(O21,O:R,4,FALSE)&"と同") -> 1と同 | Q21: =IF(ISERROR(FINDB("録音",$S$2)),IF(D21="","",IF(AND(N21>0,N21<=100),"【JASRAC】","【"&N21&"】")),IF(D21="","",IF(AND(M21>0,M21<=100),"【JASRAC】","【"&M21&"】"))) | R21: 20
B22: 21 | C22: =IF(収録作品入力!B23="","",収録作品入力!B23) | D22: =IF(収録作品入力!C23="","",収録作品入力!C23) | E22: =IF(収録作品入力!D23="","",収録作品入力!D23) | F22: =IF(収録作品入力!E23="","",収録作品入力!E23) | G22: =IF(収録作品入力!F23="","",収録作品入力!F23) | H22: =IF(収録作品入力!G23="",0,収録作品入力!G23) -> 0 | I22: =IF(収録作品入力!H23="",0,収録作品入力!H23) -> 0 | J22: =IF(収録作品入力!I23="","",収録作品入力!I23) | K22: =IF(収録作品入力!J23="",IF(J22="V 詞曲","原詞",""),収録作品入力!J23) | L22: =IF(K22="原詞","無","") | M22: =IF(D22="","",100) | N22: =IF(D22="","",100) | O22: =IF(E22="",F22,CONCATENATE(E22,"・",F22)) | P22: =IF(VLOOKUP(O22,O:R,4,FALSE)=R22,"",VLOOKUP(O22,O:R,4,FALSE)&"と同") -> 1と同 | Q22: =IF(ISERROR(FINDB("録音",$S$2)),IF(D22="","",IF(AND(N22>0,N22<=100),"【JASRAC】","【"&N22&"】")),IF(D22="","",IF(AND(M22>0,M22<=100),"【JASRAC】","【"&M22&"】"))) | R22: 21
B23: 22 | C23: =IF(収録作品入力!B24="","",収録作品入力!B24) | D23: =IF(収録作品入力!C24="","",収録作品入力!C24) | E23: =IF(収録作品入力!D24="","",収録作品入力!D24) | F23: =IF(収録作品入力!E24="","",収録作品入力!E24) | G23: =IF(収録作品入力!F24="","",収録作品入力!F24) | H23: =IF(収録作品入力!G24="",0,収録作品入力!G24) -> 0 | I23: =IF(収録作品入力!H24="",0,収録作品入力!H24) -> 0 | J23: =IF(収録作品入力!I24="","",収録作品入力!I24) | K23: =IF(収録作品入力!J24="",IF(J23="V 詞曲","原詞",""),収録作品入力!J24) | L23: =IF(K23="原詞","無","") | M23: =IF(D23="","",100) | N23: =IF(D23="","",100) | O23: =IF(E23="",F23,CONCATENATE(E23,"・",F23)) | P23: =IF(VLOOKUP(O23,O:R,4,FALSE)=R23,"",VLOOKUP(O23,O:R,4,FALSE)&"と同") -> 1と同 | Q23: =IF(ISERROR(FINDB("録音",$S$2)),IF(D23="","",IF(AND(N23>0,N23<=100),"【JASRAC】","【"&N23&"】")),IF(D23="","",IF(AND(M23>0,M23<=100),"【JASRAC】","【"&M23&"】"))) | R23: 22
B24: 23 | C24: =IF(収録作品入力!B25="","",収録作品入力!B25) | D24: =IF(収録作品入力!C25="","",収録作品入力!C25) | E24: =IF(収録作品入力!D25="","",収録作品入力!D25) | F24: =IF(収録作品入力!E25="","",収録作品入力!E25) | G24: =IF(収録作品入力!F25="","",収録作品入力!F25) | H24: =IF(収録作品入力!G25="",0,収録作品入力!G25) -> 0 | I24: =IF(収録作品入力!H25="",0,収録作品入力!H25) -> 0 | J24: =IF(収録作品入力!I25="","",収録作品入力!I25) | K24: =IF(収録作品入力!J25="",IF(J24="V 詞曲","原詞",""),収録作品入力!J25) | L24: =IF(K24="原詞","無","") | M24: =IF(D24="","",100) | N24: =IF(D24="","",100) | O24: =IF(E24="",F24,CONCATENATE(E24,"・",F24)) | P24: =IF(VLOOKUP(O24,O:R,4,FALSE)=R24,"",VLOOKUP(O24,O:R,4,FALSE)&"と同") -> 1と同 | Q24: =IF(ISERROR(FINDB("録音",$S$2)),IF(D24="","",IF(AND(N24>0,N24<=100),"【JASRAC】","【"&N24&"】")),IF(D24="","",IF(AND(M24>0,M24<=100),"【JASRAC】","【"&M24&"】"))) | R24: 23
B25: 24 | C25: =IF(収録作品入力!B26="","",収録作品入力!B26) | D25: =IF(収録作品入力!C26="","",収録作品入力!C26) | E25: =IF(収録作品入力!D26="","",収録作品入力!D26) | F25: =IF(収録作品入力!E26="","",収録作品入力!E26) | G25: =IF(収録作品入力!F26="","",収録作品入力!F26) | H25: =IF(収録作品入力!G26="",0,収録作品入力!G26) -> 0 | I25: =IF(収録作品入力!H26="",0,収録作品入力!H26) -> 0 | J25: =IF(収録作品入力!I26="","",収録作品入力!I26) | K25: =IF(収録作品入力!J26="",IF(J25="V 詞曲","原詞",""),収録作品入力!J26) | L25: =IF(K25="原詞","無","") | M25: =IF(D25="","",100) | N25: =IF(D25="","",100) | O25: =IF(E25="",F25,CONCATENATE(E25,"・",F25)) | P25: =IF(VLOOKUP(O25,O:R,4,FALSE)=R25,"",VLOOKUP(O25,O:R,4,FALSE)&"と同") -> 1と同 | Q25: =IF(ISERROR(FINDB("録音",$S$2)),IF(D25="","",IF(AND(N25>0,N25<=100),"【JASRAC】","【"&N25&"】")),IF(D25="","",IF(AND(M25>0,M25<=100),"【JASRAC】","【"&M25&"】"))) | R25: 24
... B40: 39 | C40: =IF(収録作品入力!B41="","",収録作品入力!B41) | D40: =IF(収録作品入力!C41="","",収録作品入力!C41) | E40: =IF(収録作品入力!D41="","",収録作品入力!D41) | F40: =IF(収録作品入力!E41="","",収録作品入力!E41) | G40: =IF(収録作品入力!F41="","",収録作品入力!F41) | H40: =IF(収録作品入力!G41="",0,収録作品入力!G41) -> 0 | I40: =IF(収録作品入力!H41="",0,収録作品入力!H41) -> 0 | J40: =IF(収録作品入力!I41="","",収録作品入力!I41) | K40: =IF(収録作品入力!J41="",IF(J40="V 詞曲","原詞",""),収録作品入力!J41) | L40: =IF(K40="原詞","無","") | M40: =IF(D40="","",100) | N40: =IF(D40="","",100) | O40: =IF(E40="",F40,CONCATENATE(E40,"・",F40)) | P40: =IF(VLOOKUP(O40,O:R,4,FALSE)=R40,"",VLOOKUP(O40,O:R,4,FALSE)&"と同") -> 1と同 | Q40: =IF(ISERROR(FINDB("録音",$S$2)),IF(D40="","",IF(AND(N40>0,N40<=100),"【JASRAC】","【"&N40&"】")),IF(D40="","",IF(AND(M40>0,M40<=100),"【JASRAC】","【"&M40&"】"))) | R40: 39
B41: 40 | C41: =IF(収録作品入力!B42="","",収録作品入力!B42) | D41: =IF(収録作品入力!C42="","",収録作品入力!C42) | E41: =IF(収録作品入力!D42="","",収録作品入力!D42) | F41: =IF(収録作品入力!E42="","",収録作品入力!E42) | G41: =IF(収録作品入力!F42="","",収録作品入力!F42) | H41: =IF(収録作品入力!G42="",0,収録作品入力!G42) -> 0 | I41: =IF(収録作品入力!H42="",0,収録作品入力!H42) -> 0 | J41: =IF(収録作品入力!I42="","",収録作品入力!I42) | K41: =IF(収録作品入力!J42="",IF(J41="V 詞曲","原詞",""),収録作品入力!J42) | L41: =IF(K41="原詞","無","") | M41: =IF(D41="","",100) | N41: =IF(D41="","",100) | O41: =IF(E41="",F41,CONCATENATE(E41,"・",F41)) | P41: =IF(VLOOKUP(O41,O:R,4,FALSE)=R41,"",VLOOKUP(O41,O:R,4,FALSE)&"と同") -> 1と同 | Q41: =IF(ISERROR(FINDB("録音",$S$2)),IF(D41="","",IF(AND(N41>0,N41<=100),"【JASRAC】","【"&N41&"】")),IF(D41="","",IF(AND(M41>0,M41<=100),"【JASRAC】","【"&M41&"】"))) | R41: 40 | U41: 非管理
B42: 41 | C42: =IF(収録作品入力!B43="","",収録作品入力!B43) | D42: =IF(収録作品入力!C43="","",収録作品入力!C43) | E42: =IF(収録作品入力!D43="","",収録作品入力!D43) | F42: =IF(収録作品入力!E43="","",収録作品入力!E43) | G42: =IF(収録作品入力!F43="","",収録作品入力!F43) | H42: =IF(収録作品入力!G43="",0,収録作品入力!G43) -> 0 | I42: =IF(収録作品入力!H43="",0,収録作品入力!H43) -> 0 | J42: =IF(収録作品入力!I43="","",収録作品入力!I43) | K42: =IF(収録作品入力!J43="",IF(J42="V 詞曲","原詞",""),収録作品入力!J43) | L42: =IF(K42="原詞","無","") | M42: =IF(D42="","",100) | N42: =IF(D42="","",100) | O42: =IF(E42="",F42,CONCATENATE(E42,"・",F42)) | P42: =IF(VLOOKUP(O42,O:R,4,FALSE)=R42,"",VLOOKUP(O42,O:R,4,FALSE)&"と同") -> 1と同 | Q42: =IF(ISERROR(FINDB("録音",$S$2)),IF(D42="","",IF(AND(N42>0,N42<=100),"【JASRAC】","【"&N42&"】")),IF(D42="","",IF(AND(M42>0,M42<=100),"【JASRAC】","【"&M42&"】"))) | R42: 41 | U42: 著作権消滅
B43: 42 | C43: =IF(収録作品入力!B44="","",収録作品入力!B44) | D43: =IF(収録作品入力!C44="","",収録作品入力!C44) | E43: =IF(収録作品入力!D44="","",収録作品入力!D44) | F43: =IF(収録作品入力!E44="","",収録作品入力!E44) | G43: =IF(収録作品入力!F44="","",収録作品入力!F44) | H43: =IF(収録作品入力!G44="",0,収録作品入力!G44) -> 0 | I43: =IF(収録作品入力!H44="",0,収録作品入力!H44) -> 0 | J43: =IF(収録作品入力!I44="","",収録作品入力!I44) | K43: =IF(収録作品入力!J44="",IF(J43="V 詞曲","原詞",""),収録作品入力!J44) | L43: =IF(K43="原詞","無","") | M43: =IF(D43="","",100) | N43: =IF(D43="","",100) | O43: =IF(E43="",F43,CONCATENATE(E43,"・",F43)) | P43: =IF(VLOOKUP(O43,O:R,4,FALSE)=R43,"",VLOOKUP(O43,O:R,4,FALSE)&"と同") -> 1と同 | Q43: =IF(ISERROR(FINDB("録音",$S$2)),IF(D43="","",IF(AND(N43>0,N43<=100),"【JASRAC】","【"&N43&"】")),IF(D43="","",IF(AND(M43>0,M43<=100),"【JASRAC】","【"&M43&"】"))) | R43: 42 | U43: 委嘱作品につき使用料免除
B44: 43 | C44: =IF(収録作品入力!B45="","",収録作品入力!B45) | D44: =IF(収録作品入力!C45="","",収録作品入力!C45) | E44: =IF(収録作品入力!D45="","",収録作品入力!D45) | F44: =IF(収録作品入力!E45="","",収録作品入力!E45) | G44: =IF(収録作品入力!F45="","",収録作品入力!F45) | H44: =IF(収録作品入力!G45="",0,収録作品入力!G45) -> 0 | I44: =IF(収録作品入力!H45="",0,収録作品入力!H45) -> 0 | J44: =IF(収録作品入力!I45="","",収録作品入力!I45) | K44: =IF(収録作品入力!J45="",IF(J44="V 詞曲","原詞",""),収録作品入力!J45) | L44: =IF(K44="原詞","無","") | M44: =IF(D44="","",100) | N44: =IF(D44="","",100) | O44: =IF(E44="",F44,CONCATENATE(E44,"・",F44)) | P44: =IF(VLOOKUP(O44,O:R,4,FALSE)=R44,"",VLOOKUP(O44,O:R,4,FALSE)&"と同") -> 1と同 | Q44: =IF(ISERROR(FINDB("録音",$S$2)),IF(D44="","",IF(AND(N44>0,N44<=100),"【JASRAC】","【"&N44&"】")),IF(D44="","",IF(AND(M44>0,M44<=100),"【JASRAC】","【"&M44&"】"))) | R44: 43
B45: 44 | C45: =IF(収録作品入力!B46="","",収録作品入力!B46) | D45: =IF(収録作品入力!C46="","",収録作品入力!C46) | E45: =IF(収録作品入力!D46="","",収録作品入力!D46) | F45: =IF(収録作品入力!E46="","",収録作品入力!E46) | G45: =IF(収録作品入力!F46="","",収録作品入力!F46) | H45: =IF(収録作品入力!G46="",0,収録作品入力!G46) -> 0 | I45: =IF(収録作品入力!H46="",0,収録作品入力!H46) -> 0 | J45: =IF(収録作品入力!I46="","",収録作品入力!I46) | K45: =IF(収録作品入力!J46="",IF(J45="V 詞曲","原詞",""),収録作品入力!J46) | L45: =IF(K45="原詞","無","") | M45: =IF(D45="","",100) | N45: =IF(D45="","",100) | O45: =IF(E45="",F45,CONCATENATE(E45,"・",F45)) | P45: =IF(VLOOKUP(O45,O:R,4,FALSE)=R45,"",VLOOKUP(O45,O:R,4,FALSE)&"と同") -> 1と同 | Q45: =IF(ISERROR(FINDB("録音",$S$2)),IF(D45="","",IF(AND(N45>0,N45<=100),"【JASRAC】","【"&N45&"】")),IF(D45="","",IF(AND(M45>0,M45<=100),"【JASRAC】","【"&M45&"】"))) | R45: 44
B46: 45 | C46: =IF(収録作品入力!B47="","",収録作品入力!B47) | D46: =IF(収録作品入力!C47="","",収録作品入力!C47) | E46: =IF(収録作品入力!D47="","",収録作品入力!D47) | F46: =IF(収録作品入力!E47="","",収録作品入力!E47) | G46: =IF(収録作品入力!F47="","",収録作品入力!F47) | H46: =IF(収録作品入力!G47="",0,収録作品入力!G47) -> 0 | I46: =IF(収録作品入力!H47="",0,収録作品入力!H47) -> 0 | J46: =IF(収録作品入力!I47="","",収録作品入力!I47) | K46: =IF(収録作品入力!J47="",IF(J46="V 詞曲","原詞",""),収録作品入力!J47) | L46: =IF(K46="原詞","無","") | M46: =IF(D46="","",100) | N46: =IF(D46="","",100) | O46: =IF(E46="",F46,CONCATENATE(E46,"・",F46)) | P46: =IF(VLOOKUP(O46,O:R,4,FALSE)=R46,"",VLOOKUP(O46,O:R,4,FALSE)&"と同") -> 1と同 | Q46: =IF(ISERROR(FINDB("録音",$S$2)),IF(D46="","",IF(AND(N46>0,N46<=100),"【JASRAC】","【"&N46&"】")),IF(D46="","",IF(AND(M46>0,M46<=100),"【JASRAC】","【"&M46&"】"))) | R46: 45
B47: 46 | C47: =IF(収録作品入力!B48="","",収録作品入力!B48) | D47: =IF(収録作品入力!C48="","",収録作品入力!C48) | E47: =IF(収録作品入力!D48="","",収録作品入力!D48) | F47: =IF(収録作品入力!E48="","",収録作品入力!E48) | G47: =IF(収録作品入力!F48="","",収録作品入力!F48) | H47: =IF(収録作品入力!G48="",0,収録作品入力!G48) -> 0 | I47: =IF(収録作品入力!H48="",0,収録作品入力!H48) -> 0 | J47: =IF(収録作品入力!I48="","",収録作品入力!I48) | K47: =IF(収録作品入力!J48="",IF(J47="V 詞曲","原詞",""),収録作品入力!J48) | L47: =IF(K47="原詞","無","") | M47: =IF(D47="","",100) | N47: =IF(D47="","",100) | O47: =IF(E47="",F47,CONCATENATE(E47,"・",F47)) | P47: =IF(VLOOKUP(O47,O:R,4,FALSE)=R47,"",VLOOKUP(O47,O:R,4,FALSE)&"と同") -> 1と同 | Q47: =IF(ISERROR(FINDB("録音",$S$2)),IF(D47="","",IF(AND(N47>0,N47<=100),"【JASRAC】","【"&N47&"】")),IF(D47="","",IF(AND(M47>0,M47<=100),"【JASRAC】","【"&M47&"】"))) | R47: 46
B48: 47 | C48: =IF(収録作品入力!B49="","",収録作品入力!B49) | D48: =IF(収録作品入力!C49="","",収録作品入力!C49) | E48: =IF(収録作品入力!D49="","",収録作品入力!D49) | F48: =IF(収録作品入力!E49="","",収録作品入力!E49) | G48: =IF(収録作品入力!F49="","",収録作品入力!F49) | H48: =IF(収録作品入力!G49="",0,収録作品入力!G49) -> 0 | I48: =IF(収録作品入力!H49="",0,収録作品入力!H49) -> 0 | J48: =IF(収録作品入力!I49="","",収録作品入力!I49) | K48: =IF(収録作品入力!J49="",IF(J48="V 詞曲","原詞",""),収録作品入力!J49) | L48: =IF(K48="原詞","無","") | M48: =IF(D48="","",100) | N48: =IF(D48="","",100) | O48: =IF(E48="",F48,CONCATENATE(E48,"・",F48)) | P48: =IF(VLOOKUP(O48,O:R,4,FALSE)=R48,"",VLOOKUP(O48,O:R,4,FALSE)&"と同") -> 1と同 | Q48: =IF(ISERROR(FINDB("録音",$S$2)),IF(D48="","",IF(AND(N48>0,N48<=100),"【JASRAC】","【"&N48&"】")),IF(D48="","",IF(AND(M48>0,M48<=100),"【JASRAC】","【"&M48&"】"))) | R48: 47
B49: 48 | C49: =IF(収録作品入力!B50="","",収録作品入力!B50) | D49: =IF(収録作品入力!C50="","",収録作品入力!C50) | E49: =IF(収録作品入力!D50="","",収録作品入力!D50) | F49: =IF(収録作品入力!E50="","",収録作品入力!E50) | G49: =IF(収録作品入力!F50="","",収録作品入力!F50) | H49: =IF(収録作品入力!G50="",0,収録作品入力!G50) -> 0 | I49: =IF(収録作品入力!H50="",0,収録作品入力!H50) -> 0 | J49: =IF(収録作品入力!I50="","",収録作品入力!I50) | K49: =IF(収録作品入力!J50="",IF(J49="V 詞曲","原詞",""),収録作品入力!J50) | L49: =IF(K49="原詞","無","") | M49: =IF(D49="","",100) | N49: =IF(D49="","",100) | O49: =IF(E49="",F49,CONCATENATE(E49,"・",F49)) | P49: =IF(VLOOKUP(O49,O:R,4,FALSE)=R49,"",VLOOKUP(O49,O:R,4,FALSE)&"と同") -> 1と同 | Q49: =IF(ISERROR(FINDB("録音",$S$2)),IF(D49="","",IF(AND(N49>0,N49<=100),"【JASRAC】","【"&N49&"】")),IF(D49="","",IF(AND(M49>0,M49<=100),"【JASRAC】","【"&M49&"】"))) | R49: 48
B50: 49 | C50: =IF(収録作品入力!B51="","",収録作品入力!B51) | D50: =IF(収録作品入力!C51="","",収録作品入力!C51) | E50: =IF(収録作品入力!D51="","",収録作品入力!D51) | F50: =IF(収録作品入力!E51="","",収録作品入力!E51) | G50: =IF(収録作品入力!F51="","",収録作品入力!F51) | H50: =IF(収録作品入力!G51="",0,収録作品入力!G51) -> 0 | I50: =IF(収録作品入力!H51="",0,収録作品入力!H51) -> 0 | J50: =IF(収録作品入力!I51="","",収録作品入力!I51) | K50: =IF(収録作品入力!J51="",IF(J50="V 詞曲","原詞",""),収録作品入力!J51) | L50: =IF(K50="原詞","無","") | M50: =IF(D50="","",100) | N50: =IF(D50="","",100) | O50: =IF(E50="",F50,CONCATENATE(E50,"・",F50)) | P50: =IF(VLOOKUP(O50,O:R,4,FALSE)=R50,"",VLOOKUP(O50,O:R,4,FALSE)&"と同") -> 1と同 | Q50: =IF(ISERROR(FINDB("録音",$S$2)),IF(D50="","",IF(AND(N50>0,N50<=100),"【JASRAC】","【"&N50&"】")),IF(D50="","",IF(AND(M50>0,M50<=100),"【JASRAC】","【"&M50&"】"))) | R50: 49
B51: 50 | C51: =IF(収録作品入力!B52="","",収録作品入力!B52) | D51: =IF(収録作品入力!C52="","",収録作品入力!C52) | E51: =IF(収録作品入力!D52="","",収録作品入力!D52) | F51: =IF(収録作品入力!E52="","",収録作品入力!E52) | G51: =IF(収録作品入力!F52="","",収録作品入力!F52) | H51: =IF(収録作品入力!G52="",0,収録作品入力!G52) -> 0 | I51: =IF(収録作品入力!H52="",0,収録作品入力!H52) -> 0 | J51: =IF(収録作品入力!I52="","",収録作品入力!I52) | K51: =IF(収録作品入力!J52="",IF(J51="V 詞曲","原詞",""),収録作品入力!J52) | L51: =IF(K51="原詞","無","") | M51: =IF(D51="","",100) | N51: =IF(D51="","",100) | O51: =IF(E51="",F51,CONCATENATE(E51,"・",F51)) | P51: =IF(VLOOKUP(O51,O:R,4,FALSE)=R51,"",VLOOKUP(O51,O:R,4,FALSE)&"と同") -> 1と同 | Q51: =IF(ISERROR(FINDB("録音",$S$2)),IF(D51="","",IF(AND(N51>0,N51<=100),"【JASRAC】","【"&N51&"】")),IF(D51="","",IF(AND(M51>0,M51<=100),"【JASRAC】","【"&M51&"】"))) | R51: 50
B52: 51 | C52: =IF(収録作品入力!B53="","",収録作品入力!B53) | D52: =IF(収録作品入力!C53="","",収録作品入力!C53) | E52: =IF(収録作品入力!D53="","",収録作品入力!D53) | F52: =IF(収録作品入力!E53="","",収録作品入力!E53) | G52: =IF(収録作品入力!F53="","",収録作品入力!F53) | H52: =IF(収録作品入力!G53="",0,収録作品入力!G53) -> 0 | I52: =IF(収録作品入力!H53="",0,収録作品入力!H53) -> 0 | J52: =IF(収録作品入力!I53="","",収録作品入力!I53) | K52: =IF(収録作品入力!J53="",IF(J52="V 詞曲","原詞",""),収録作品入力!J53) | L52: =IF(K52="原詞","無","") | M52: =IF(D52="","",100) | N52: =IF(D52="","",100) | O52: =IF(E52="",F52,CONCATENATE(E52,"・",F52)) | P52: =IF(VLOOKUP(O52,O:R,4,FALSE)=R52,"",VLOOKUP(O52,O:R,4,FALSE)&"と同") -> 1と同 | Q52: =IF(ISERROR(FINDB("録音",$S$2)),IF(D52="","",IF(AND(N52>0,N52<=100),"【JASRAC】","【"&N52&"】")),IF(D52="","",IF(AND(M52>0,M52<=100),"【JASRAC】","【"&M52&"】"))) | R52: 51
B53: 52 | C53: =IF(収録作品入力!B54="","",収録作品入力!B54) | D53: =IF(収録作品入力!C54="","",収録作品入力!C54) | E53: =IF(収録作品入力!D54="","",収録作品入力!D54) | F53: =IF(収録作品入力!E54="","",収録作品入力!E54) | G53: =IF(収録作品入力!F54="","",収録作品入力!F54) | H53: =IF(収録作品入力!G54="",0,収録作品入力!G54) -> 0 | I53: =IF(収録作品入力!H54="",0,収録作品入力!H54) -> 0 | J53: =IF(収録作品入力!I54="","",収録作品入力!I54) | K53: =IF(収録作品入力!J54="",IF(J53="V 詞曲","原詞",""),収録作品入力!J54) | L53: =IF(K53="原詞","無","") | M53: =IF(D53="","",100) | N53: =IF(D53="","",100) | O53: =IF(E53="",F53,CONCATENATE(E53,"・",F53)) | P53: =IF(VLOOKUP(O53,O:R,4,FALSE)=R53,"",VLOOKUP(O53,O:R,4,FALSE)&"と同") -> 1と同 | Q53: =IF(ISERROR(FINDB("録音",$S$2)),IF(D53="","",IF(AND(N53>0,N53<=100),"【JASRAC】","【"&N53&"】")),IF(D53="","",IF(AND(M53>0,M53<=100),"【JASRAC】","【"&M53&"】"))) | R53: 52
B54: 53 | C54: =IF(収録作品入力!B55="","",収録作品入力!B55) | D54: =IF(収録作品入力!C55="","",収録作品入力!C55) | E54: =IF(収録作品入力!D55="","",収録作品入力!D55) | F54: =IF(収録作品入力!E55="","",収録作品入力!E55) | G54: =IF(収録作品入力!F55="","",収録作品入力!F55) | H54: =IF(収録作品入力!G55="",0,収録作品入力!G55) -> 0 | I54: =IF(収録作品入力!H55="",0,収録作品入力!H55) -> 0 | J54: =IF(収録作品入力!I55="","",収録作品入力!I55) | K54: =IF(収録作品入力!J55="",IF(J54="V 詞曲","原詞",""),収録作品入力!J55) | L54: =IF(K54="原詞","無","") | M54: =IF(D54="","",100) | N54: =IF(D54="","",100) | O54: =IF(E54="",F54,CONCATENATE(E54,"・",F54)) | P54: =IF(VLOOKUP(O54,O:R,4,FALSE)=R54,"",VLOOKUP(O54,O:R,4,FALSE)&"と同") -> 1と同 | Q54: =IF(ISERROR(FINDB("録音",$S$2)),IF(D54="","",IF(AND(N54>0,N54<=100),"【JASRAC】","【"&N54&"】")),IF(D54="","",IF(AND(M54>0,M54<=100),"【JASRAC】","【"&M54&"】"))) | R54: 53
...

Sheet 楽曲集約
B1: 行ラベル | C1: データの個数 / 合算集約番号 | D1: ※エクセル「データ」タブの「すべて更新」をクリック
A2: 1 | C2: 100 | D2: =IF(B2="","",IF(C2>=2,B2,""))
A3: 2 | B3: 総計 | C3: 100 | D3: =IF(B3="","",IF(C3>=2,B3,"")) -> 総計
A4: 3 | D4: =IF(B4="","",IF(C4>=2,B4,""))
A5: 4 | D5: =IF(B5="","",IF(C5>=2,B5,""))
A6: 5 | D6: =IF(B6="","",IF(C6>=2,B6,""))
A7: 6 | D7: =IF(B7="","",IF(C7>=2,B7,""))
A8: 7 | D8: =IF(B8="","",IF(C8>=2,B8,""))
A9: 8 | D9: =IF(B9="","",IF(C9>=2,B9,""))
A10: 9 | D10: =IF(B10="","",IF(C10>=2,B10,""))
A11: 10 | D11: =IF(B11="","",IF(C11>=2,B11,""))
A12: 11 | D12: =IF(B12="","",IF(C12>=2,B12,""))
A13: 12 | D13: =IF(B13="","",IF(C13>=2,B13,""))
A14: 13 | D14: =IF(B14="","",IF(C14>=2,B14,""))
A15: 14 | D15: =IF(B15="","",IF(C15>=2,B15,""))
... A66: 65 | D66: =IF(B66="","",IF(C66>=2,B66,""))
A67: 66 | D67: =IF(C67>=2,B67,"")
A68: 67 | D68: =IF(C68>=2,B68,"")
A69: 68 | D69: =IF(C69>=2,B69,"")
A70: 69 | D70: =IF(C70>=2,B70,"")
A71: 70 | D71: =IF(C71>=2,B71,"")
A72: 71 | D72: =IF(C72>=2,B72,"")
A73: 72 | D73: =IF(C73>=2,B73,"")
A74: 73 | D74: =IF(C74>=2,B74,"")
A75: 74 | D75: =IF(C75>=2,B75,"")
A76: 75 | D76: =IF(C76>=2,B76,"")
A77: 76 | D77: =IF(C77>=2,B77,"")
A78: 77 | D78: =IF(C78>=2,B78,"")
... A101: 100 | D101: =IF(C101>=2,B101,"")

Sheet 洋画申込書
A1: 一般社団法人 日本音楽著作権協会 御中 | CW1: 1
A2: =IF(収録楽曲情報!S2="外国映画","外国映画上映利用申込書","映画（録音・上映）利用申込書") -> 外国映画上映利用申込書 | CW2: 1
A3: お申込日 | G3: =IF(外国映画情報入力!C6="","",外国映画情報入力!C6) | CW3: 1
A4: 映画題名 | L4: =IF(外国映画情報入力!C16="",IF(外国映画情報入力!C17="","",外国映画情報入力!C17),CONCATENATE(外国映画情報入力!C16,"（",外国映画情報入力!C17,"）")) | AW4: 映画類別 | BG4: =IF(算定シミュレーション!$U$1="","",IF(算定シミュレーション!$U$1=1,"一般娯楽",IF(算定シミュレーション!$U$1=2,"その他",IF(算定シミュレーション!$U$1=3,"イベント収録（演奏会）",IF(算定シミュレーション!$U$1=4,"イベント収録（演奏会以外）",""))))) -> 一般娯楽 | CA4: ID | CK4: =IF(収録楽曲情報!$T$4="","",収録楽曲情報!$T$4) -> 0
AW5: 請求日 | BG5: =IF(収録楽曲情報!$S$6="","",収録楽曲情報!$S$6) -> 0 | BR5: 請求書番号 | CA5: =LEFT(RIGHT(収録楽曲情報!$X$2,10)) -> 0 | CC5: =LEFT(RIGHT(収録楽曲情報!$X$2,9)) -> 0 | CE5: =LEFT(RIGHT(収録楽曲情報!$X$2,8)) -> 0 | CG5: - | CI5: =LEFT(RIGHT(収録楽曲情報!$X$2,7)) -> 0 | CK5: =LEFT(RIGHT(収録楽曲情報!$X$2,6)) -> 0 | CM5: =LEFT(RIGHT(収録楽曲情報!$X$2,5)) -> 0 | CO5: =LEFT(RIGHT(収録楽曲情報!$X$2,4)) -> 0 | CQ5: =LEFT(RIGHT(収録楽曲情報!$X$2,3)) -> 0 | CS5: =LEFT(RIGHT(収録楽曲情報!$X$2,2)) -> 0 | CU5: =LEFT(RIGHT(収録楽曲情報!$X$2,1)) -> 0
CW6: 1
A7: お申込者 | D7: ご住所 | L7: =IF(外国映画情報入力!C7="","",外国映画情報入力!C7) | AW7: プリント本数 （スクリーン数） | BG7: =IF(外国映画情報入力!C18="","",外国映画情報入力!C18) | BK7: 字幕版又は吹替版の いずれか一方のみが 上映される常設館数 | BS7: =IF(外国映画情報入力!O19="","",外国映画情報入力!O19) | BW7: 封切日 | CG7: =IF(外国映画情報入力!C22="","",外国映画情報入力!C22) | CW7: 1
CW8: 1
L9: =IF(外国映画情報入力!C8="","",外国映画情報入力!C8) | CW9: 1
BW10: 制作国 | CG10: =IF(外国映画情報入力!O22="","",外国映画情報入力!O22) | CW10: 1
L11: =IF(外国映画情報入力!C9="","",外国映画情報入力!C9) | BK11: 字幕版及び吹替版 いずれも上映される 常設館数 | BS11: =IF(外国映画情報入力!O20="","",外国映画情報入力!O20) | CW11: 1
CW12: 1
D13: 法人名 | L13: =IF(外国映画情報入力!C10="","",外国映画情報入力!C10) | BW13: 音楽監督 | CG13: =IF(外国映画情報入力!C23="","",外国映画情報入力!C23) | CW13: 1
CW14: 1
AW15: Ｒ指定の有無 | BG15: =IF(外国映画情報入力!C21="無","☑","☐") -> ☐ | BI15: 無 | BK15: =IF(外国映画情報入力!C21="","☐",IF(外国映画情報入力!C21="有","☑",IF(LEFT(外国映画情報入力!C21,1)="R","☑","☐"))) -> ☐ | BM15: 有 | BO15: =IF(外国映画情報入力!C21="無","",IF(外国映画情報入力!C21="","","（" &外国映画情報入力!C21 & "）")) | BW15: 主な上映館 | CG15: =IF(外国映画情報入力!O23="","",外国映画情報入力!O23) | CW15: 1
CW16: 1
D17: 代表者名 | L17: =IF(外国映画情報入力!C11="","",外国映画情報入力!C11) | AO17: 印 | AW17: 種類 | BG17: =IF(外国映画情報入力!C24=BI17,"☑","☐") -> ☐ | BI17: フィクション | BO17: =IF(外国映画情報入力!C24=BQ17,"☑","☐") -> ☐ | BQ17: ドキュメンタリー | BY17: =IF(外国映画情報入力!C24=CA17,"☑","☐") -> ☐ | CA17: プラネタリウム | CI17: =IF(外国映画情報入力!C24=CK17,"☑","☐") -> ☐ | CK17: 予告編 | CW17: 1
CW18: 1
BG19: =IF(外国映画情報入力!C24="イベント収録","☑","☐") -> ☐ | BI19: イベント収録（イベント内容： | BW19: =IF(外国映画情報入力!C24="イベント収録",IF(外国映画情報入力!K24="","",外国映画情報入力!K24),"") | CV19: ） | CW19: 1
CW20: 1
D21: ご担当部署 | L21: =IF(外国映画情報入力!C12="","",外国映画情報入力!C12) | AB21: ＴＥＬ | AF21: =IF(外国映画情報入力!C14="","",外国映画情報入力!C14) | AW21: 製作会社 | BG21: =IF(外国映画情報入力!C25="","",外国映画情報入力!C25) | BW21: 配給会社 | CG21: =IF(外国映画情報入力!C26="","",外国映画情報入力!C26) | CW21: 1
CW22: 1
AB23: ＦＡＸ | AF23: =IF(外国映画情報入力!N14="","",外国映画情報入力!N14) | CW23: 1
D24: ご担当者名 | L24: =IF(外国映画情報入力!C13="","",外国映画情報入力!C13) | CW24: 1
AB25: 携帯 | AF25: =IF(外国映画情報入力!C15="","",外国映画情報入力!C15) | AW25: 楽曲明細の有無 | BG25: =IF(外国映画情報入力!C27=BI25,"☑","☐") -> ☐ | BI25: 有 | BK25: =IF(外国映画情報入力!C27=BM25,"☑","☐") -> ☐ | BM25: 無 | BO25: =IF(外国映画情報入力!C27=BQ25,"☑","☐") -> ☐ | BQ25: 後日提出 | CW25: 1
CW26: 1
D27: E-mail | L27: =IF(外国映画情報入力!N15="","",外国映画情報入力!N15) | CW27: 1
CW28: 1
A29: =IF(収録楽曲情報!S2="外国映画"," 私（申込者）は、本映画において固定されている管理著作物を上映利用することについて、協会の定める利用許諾条項（外国映画上映）に定める申込者の義務を完全に履行することを承諾のうえ申込みます。"," 貴協会が管理する下記音楽著作物を、当該映画に利用することについて、貴協会の定める利用許諾契約の履行を承諾のうえ申し込みます。なお、外国曲利用については、添付の使用承諾書のコピー（または合意条件を転記した一覧表等）のとおり、すでに権利者の同意を得ています。") -> 私（申込者）は、本映画において固定されている管理著作物を上映利用することについて、協会の定める利用許諾条項（外国映画上映）に定める申込者の義務を完全に履行することを承諾のうえ申込みます。 | AW29: 映画情報サイト URL | BG29: =IF(外国映画情報入力!C28="","",外国映画情報入力!C28) | CW29: 1
CW30: 1
CW31: 1
CW32: 1
CW33: 1
C34: 著作物題名 | S34: 作詞者名（訳詞者名）・作曲者名（編曲者名） | AK34: 利用時間 | AQ34: I/V区分 | AV34: 原訳区分 | BA34: 替歌 | BC34: 音楽出版者名 | BM34: 使用料 | CE34: 作品コード | CU34: E | CW34: 1
AK35: （分） | AN35: （秒） | CW35: 1
A36: 1 | C36: =IF(収録楽曲情報!D2="","",収録楽曲情報!D2&収録楽曲情報!Q2) | S36: =IF(収録楽曲情報!E2="","",収録楽曲情報!E2 & " ・ ") & IF(収録楽曲情報!F2="","",収録楽曲情報!F2) | AK36: =IF(算定シミュレーション!AO13=0,"",算定シミュレーション!AO13) | AN36: =IF(算定シミュレーション!AP13=0,"",算定シミュレーション!AP13) | AQ36: =IF(収録楽曲情報!J2="","",収録楽曲情報!J2) | AV36: =IF(収録楽曲情報!K2="","",収録楽曲情報!K2) | BA36: =IF(収録楽曲情報!L2="","",収録楽曲情報!L2) | BC36: =IF(収録楽曲情報!G2="","",収録楽曲情報!G2) | BQ36: =算定シミュレーション!AD13 | BS36: =算定シミュレーション!AE13 | BU36: =算定シミュレーション!AF13 | BW36: =算定シミュレーション!AG13 | BY36: =算定シミュレーション!AH13 | CA36: =算定シミュレーション!AI13 | CC36: =IF(算定シミュレーション!AJ13="算","算",IF(LEFT(収録楽曲情報!Q2,2)="【委",0,算定シミュレーション!AJ13)) -> ― | CE36: =LEFT(収録楽曲情報!C2,1) | CG36: =MID(収録楽曲情報!C2,2,1) | CI36: =MID(収録楽曲情報!C2,3,1) | CK36: =MID(収録楽曲情報!C2,4,1) | CM36: =MID(収録楽曲情報!C2,5,1) | CO36: =MID(収録楽曲情報!C2,6,1) | CQ36: =MID(収録楽曲情報!C2,7,1) | CS36: =MID(収録楽曲情報!C2,8,1) | CW36: 1
A37: 2 | C37: =IF(収録楽曲情報!D3="","",収録楽曲情報!D3&収録楽曲情報!Q3) | S37: =IF(収録楽曲情報!E3="","",収録楽曲情報!E3 & " ・ ") & IF(収録楽曲情報!F3="","",収録楽曲情報!F3) | AK37: =IF(算定シミュレーション!AO14=0,"",算定シミュレーション!AO14) | AN37: =IF(算定シミュレーション!AP14=0,"",算定シミュレーション!AP14) | AQ37: =IF(収録楽曲情報!J3="","",収録楽曲情報!J3) | AV37: =IF(収録楽曲情報!K3="","",収録楽曲情報!K3) | BA37: =IF(収録楽曲情報!L3="","",収録楽曲情報!L3) | BC37: =IF(収録楽曲情報!G3="","",収録楽曲情報!G3) | BQ37: =算定シミュレーション!AD14 | BS37: =算定シミュレーション!AE14 | BU37: =算定シミュレーション!AF14 | BW37: =算定シミュレーション!AG14 | BY37: =算定シミュレーション!AH14 | CA37: =算定シミュレーション!AI14 | CC37: =IF(算定シミュレーション!AJ14="算","算",IF(LEFT(収録楽曲情報!Q3,2)="【委",0,算定シミュレーション!AJ14)) -> ― | CE37: =LEFT(収録楽曲情報!C3,1) | CG37: =MID(収録楽曲情報!C3,2,1) | CI37: =MID(収録楽曲情報!C3,3,1) | CK37: =MID(収録楽曲情報!C3,4,1) | CM37: =MID(収録楽曲情報!C3,5,1) | CO37: =MID(収録楽曲情報!C3,6,1) | CQ37: =MID(収録楽曲情報!C3,7,1) | CS37: =MID(収録楽曲情報!C3,8,1) | CW37: 1
A38: 3 | C38: =IF(収録楽曲情報!D4="","",収録楽曲情報!D4&収録楽曲情報!Q4) | S38: =IF(収録楽曲情報!E4="","",収録楽曲情報!E4 & " ・ ") & IF(収録楽曲情報!F4="","",収録楽曲情報!F4) | AK38: =IF(算定シミュレーション!AO15=0,"",算定シミュレーション!AO15) | AN38: =IF(算定シミュレーション!AP15=0,"",算定シミュレーション!AP15) | AQ38: =IF(収録楽曲情報!J4="","",収録楽曲情報!J4) | AV38: =IF(収録楽曲情報!K4="","",収録楽曲情報!K4) | BA38: =IF(収録楽曲情報!L4="","",収録楽曲情報!L4) | BC38: =IF(収録楽曲情報!G4="","",収録楽曲情報!G4) | BQ38: =算定シミュレーション!AD15 | BS38: =算定シミュレーション!AE15 | BU38: =算定シミュレーション!AF15 | BW38: =算定シミュレーション!AG15 | BY38: =算定シミュレーション!AH15 | CA38: =算定シミュレーション!AI15 | CC38: =IF(算定シミュレーション!AJ15="算","算",IF(LEFT(収録楽曲情報!Q4,2)="【委",0,算定シミュレーション!AJ15)) -> ― | CE38: =LEFT(収録楽曲情報!C4,1) | CG38: =MID(収録楽曲情報!C4,2,1) | CI38: =MID(収録楽曲情報!C4,3,1) | CK38: =MID(収録楽曲情報!C4,4,1) | CM38: =MID(収録楽曲情報!C4,5,1) | CO38: =MID(収録楽曲情報!C4,6,1) | CQ38: =MID(収録楽曲情報!C4,7,1) | CS38: =MID(収録楽曲情報!C4,8,1) | CW38: 1
A39: 4 | C39: =IF(収録楽曲情報!D5="","",収録楽曲情報!D5&収録楽曲情報!Q5) | S39: =IF(収録楽曲情報!E5="","",収録楽曲情報!E5 & " ・ ") & IF(収録楽曲情報!F5="","",収録楽曲情報!F5) | AK39: =IF(算定シミュレーション!AO16=0,"",算定シミュレーション!AO16) | AN39: =IF(算定シミュレーション!AP16=0,"",算定シミュレーション!AP16) | AQ39: =IF(収録楽曲情報!J5="","",収録楽曲情報!J5) | AV39: =IF(収録楽曲情報!K5="","",収録楽曲情報!K5) | BA39: =IF(収録楽曲情報!L5="","",収録楽曲情報!L5) | BC39: =IF(収録楽曲情報!G5="","",収録楽曲情報!G5) | BQ39: =算定シミュレーション!AD16 | BS39: =算定シミュレーション!AE16 | BU39: =算定シミュレーション!AF16 | BW39: =算定シミュレーション!AG16 | BY39: =算定シミュレーション!AH16 | CA39: =算定シミュレーション!AI16 | CC39: =IF(算定シミュレーション!AJ16="算","算",IF(LEFT(収録楽曲情報!Q5,2)="【委",0,算定シミュレーション!AJ16)) -> ― | CE39: =LEFT(収録楽曲情報!C5,1) | CG39: =MID(収録楽曲情報!C5,2,1) | CI39: =MID(収録楽曲情報!C5,3,1) | CK39: =MID(収録楽曲情報!C5,4,1) | CM39: =MID(収録楽曲情報!C5,5,1) | CO39: =MID(収録楽曲情報!C5,6,1) | CQ39: =MID(収録楽曲情報!C5,7,1) | CS39: =MID(収録楽曲情報!C5,8,1) | CW39: 1
A40: 5 | C40: =IF(収録楽曲情報!D6="","",収録楽曲情報!D6&収録楽曲情報!Q6) | S40: =IF(収録楽曲情報!E6="","",収録楽曲情報!E6 & " ・ ") & IF(収録楽曲情報!F6="","",収録楽曲情報!F6) | AK40: =IF(算定シミュレーション!AO17=0,"",算定シミュレーション!AO17) | AN40: =IF(算定シミュレーション!AP17=0,"",算定シミュレーション!AP17) | AQ40: =IF(収録楽曲情報!J6="","",収録楽曲情報!J6) | AV40: =IF(収録楽曲情報!K6="","",収録楽曲情報!K6) | BA40: =IF(収録楽曲情報!L6="","",収録楽曲情報!L6) | BC40: =IF(収録楽曲情報!G6="","",収録楽曲情報!G6) | BQ40: =算定シミュレーション!AD17 | BS40: =算定シミュレーション!AE17 | BU40: =算定シミュレーション!AF17 | BW40: =算定シミュレーション!AG17 | BY40: =算定シミュレーション!AH17 | CA40: =算定シミュレーション!AI17 | CC40: =IF(算定シミュレーション!AJ17="算","算",IF(LEFT(収録楽曲情報!Q6,2)="【委",0,算定シミュレーション!AJ17)) -> ― | CE40: =LEFT(収録楽曲情報!C6,1) | CG40: =MID(収録楽曲情報!C6,2,1) | CI40: =MID(収録楽曲情報!C6,3,1) | CK40: =MID(収録楽曲情報!C6,4,1) | CM40: =MID(収録楽曲情報!C6,5,1) | CO40: =MID(収録楽曲情報!C6,6,1) | CQ40: =MID(収録楽曲情報!C6,7,1) | CS40: =MID(収録楽曲情報!C6,8,1) | CW40: 1
...

Sheet 算定シミュレーション
