Workbook
Name 店頭以外全選択: ⑥店頭以外!$A$1:$BD$80
Name 配信全選択: ③配信!$A$1:$BJ$95

Sheet 目次
B1: 目次
C5: 放送
C9: 配信
C13: 上映・演奏

Sheet はじめにお読みください
B1: お申込みからお支払いまで
B3: １ お申込みの前に
B4: (1)当協会ホームページ「利用者の皆さま」コーナーにある「広告での音楽利用」をご確認ください。
B6: (2)お申込みは、広告をする商品又はサービスごとに必要です。同一の楽曲を複数の商品又はサービスで利用する場合、 商品又はサービスごとにお申込みください。
B8: (3)1つの広告において、複数の楽曲を利用する場合、楽曲ごとにお申込みください。
B10: (4)1つの広告において、同一の楽曲を利用した複数のバージョンがある場合、お申込みを1つにまとめることができます。
B12: 2 利用のお申込み（お申込み期限：利用開始の前日までです。）
B13: (1)「広告展開利用申込書」に必要事項を記入してください。
B15: (2)利用開始前日までに、複製部 広告・ゲーム・映画課にE-mail（agm-ad@jasrac.or.jp）に添付する方法等でお申込みください。
B17: 注意事項（必ずお読みください。）
B18: ①テレビCM放送、ラジオCM放送及びインターネット配信CMの利用のお申込みは、放送回数や配信回数の確認が取れる方（広告関係事業者）が 行ってください。
B19: ②お申込み期間を超えて継続利用する場合、次の利用開始の前日までに改めてお申込みください。
... B75: (2)使用料は、請求書発行日から30日以内にお支払いください。
B78: =広告展開利用申込書!V28 -> 202507

Sheet 利用許諾条項
A2: 利用許諾契約条項（広告展開利用）
A4: （総則）
A5: 第１条 | B5: 一般社団法人日本音楽著作権協会（以下「甲」という。）と、甲が定める広告展開利用申込書（電磁的方法によるものを含む。以下「申込書」という。）を提出した者（以下「乙」という。）との間の、広告用複製物の広告展開利用に関する利用許諾契約（以下「本契約」という。）は、本利用許諾条項（本契約の内容とすることを目的として甲が準備したこの利用許諾条項をいう。以下同じ。）を内容とします。
A6: ２ | B6: 本契約は、乙が甲に対し、申込書を提出し、甲が、乙に対し音楽著作物利用許諾に係る通知（電磁的な方法によるものを含む。）を交付すること（電磁的な方法による場合には、当該通知が乙に到達すること。）により成立します。
A8: （定義）
A9: 第２条 | B9: 本契約において次の各号に掲げる用語の意義は、当該各号に定めるところによります。
B10: (1) | C10: 「広告用複製物」とは、広告目的で行う複製（広告に利用することを目的として、著作物を複製し、又はその複製物により頒布することをいう。）により製作された複製物をいいます。
B11: (2) | C11: 「広告展開利用」とは、広告用複製物における企業名、商品名、サービス名等の広告内容を広く一般に知らしめるために、様々な媒体を介して行う、広告用複製物に複製された音楽著作物の利用のうち、放送（地上波に限る。以下同じ。）、インタラクティブ配信又は演奏若しくは上映（以下「演奏等」という。）をいいます。ただし、各利用形態について、それぞれ次に掲げる範囲に限ります。
C12: ア 放送
C13: 放送事業者が設定する広告枠を利用した放送
C14: イ インタラクティブ配信
C15: 配信者が設定する広告枠を利用したインタラクティブ配信
C16: ウ 演奏等
C17: (ｱ) 劇場での上映（映画を上映する場所での上映）
C18: (ｲ) 店頭での演奏等
C19: （広告するサービス、商品等の広告内容を提供する場所での演奏等）
C20: (ｳ) 街頭ビジョン・デジタルサイネージでの上映
C21: （屋内外に設置されたモニターでの上映。ただし、博覧会、展示会
C22: その他の催物において入場者に向けて行われる上映を除く。）
C23: (ｴ) 交通機関での上映
... C26: （モニターや音響機器等を設置した車両による車両外部に向けた演奏等）
B27: (3) | C27: 「管理著作物」とは、甲が前号に規定する各広告展開利用に係る著作権を管理する音楽著作物をいいます。
B28: (4) | C28: 「使用料規程」とは、甲が定め文化庁長官に届け出た規程をいいます。
B29: (5) | C29: 「使用料」とは、次条第１項 の規定による利用許諾の対価をいいます。
B30: (6) | C30: 「利用期間 」とは、利用形態ごとに、乙が申込書に記載した、管理著作物を利用する期間をいいます。
A32: （利用許諾）
A33: 第３条 | B33: 甲は、乙が本利用許諾条項の定めを遵守することを条件として、乙に対し、申込書記載の範囲内において、管理著作物を広告展開利用すること（以下「本利用」という。）を許諾します。
A34: ２ | B34: 前項の規定による許諾は、いかなる意味においても管理著作物に係る権利の譲渡を一切含みません。
A35: ３ | B35: 乙の都合により、申込書に記載した内容を変更する場合は、遅滞なく変更する内容を書面により甲に報告し、甲の承諾を得なければなりません。
A36: ４ | B36: 乙は、申込書に記載した範囲を超えて、管理著作物を利用してはなりません。
A38: （利用報告）
A39: 第４条 | B39: 乙は、甲に対し、本利用の状況について、次の各号に掲げる利用形態ごとに、甲所定の書式により、当該各号に定める内容を報告しなければなりません。なお、インタラクティブ配信については、第１０条に規定する証憑書類等を添付の上で報告するものとします。
B40: (1) | C40: 放送
C41: 利用期間において放送した全ての放送局ごとの回数
B42: (2) | C42: インタラクティブ配信
C43: 利用期間において配信した全てのサイトごとの回数（甲が求めた場合は、甲の指定する単位で集計した回数）
B44: (3) | C44: 演奏等
C45: ア 劇場での上映については、上映開始日、同時に上映した最大のスクリーン数及び １回当たりの上映時間
C46: イ 店頭での上映については、上映開始日、上映用媒体の複製個数又は上映するモニ ター台数のいずれか多い数及び１回当たりの上映時間
C47: ウ 店頭での演奏については、演奏開始日、演奏用媒体の複製個数又は演奏する店舗 数のいずれか多い数及び１回当たりの演奏時間
...

Sheet 広告展開利用申込書
A1: 広告展開利用申込書 | AC1: 許諾IDを入力して黒字部分をTBL_報告に貼り付け
A3: 一般社団法人日本音楽著作権協会 御中 | AC3: 許諾ID | AF3: ※1年3か月まで対応
A4: 貴協会が管理する音楽著作物を、次の方法で広告展開に利用することについて、貴協会が定める利用許諾条項を承諾の上、申し込みます。 | AC4: ID | AD4: 許諾ID | AE4: 許諾番号 | AF4: 種目 | AG4: 報告日 | AH4: 報告期間FROM | AI4: 報告期間 TO | AJ4: スクリーン数・複製個数 | AK4: 利用時間（分） | AL4: 利用時間（秒） | AM4: 原訳区分 | AN4: 請求日 | AO4: 請求書番号 | AP4: 使用料額 | AQ4: 消費税率
A5: 申込日 | I5: 利用内容 | J5: 利用形態 | M5: 展開先 | S5: 利用 有無 | T5: 利用期間 | V5: 報告書 | AB5: 1 | AD5: =IF($AD$3="","",$AD$3) | AF5: =VLOOKUP(AB5,【非】貼付!$A$42:$P$63,5,FALSE) -> #N/A | AH5: =VLOOKUP(AB5,【非】貼付!$A$42:$P$63,7,FALSE) -> #N/A | AI5: =VLOOKUP(AB5,【非】貼付!$A$42:$P$63,8,FALSE) -> #N/A | AM5: =IF($G$23="", "", IF(TRIM($G$22)="曲のみ", "器楽",$G$23)) | AQ5: 0.1
A6: 申込者 | C6: 住所 | T6: 利用開始日 | U6: 利用終了日 | AB6: 2 | AD6: =IF($AD$3="","",$AD$3) | AF6: =VLOOKUP(AB6,【非】貼付!$A$42:$P$63,5,FALSE) -> #N/A | AH6: =VLOOKUP(AB6,【非】貼付!$A$42:$P$63,7,FALSE) -> #N/A | AI6: =VLOOKUP(AB6,【非】貼付!$A$42:$P$63,8,FALSE) -> #N/A | AM6: =IF($G$23="", "", IF(TRIM($G$22)="曲のみ", "器楽",$G$23)) | AQ6: 0.1
F7: ビル | J7: 1 | K7: 放送 | M7: 地上波テレビ の広告枠 | AB7: 3 | AD7: =IF($AD$3="","",$AD$3) | AF7: =VLOOKUP(AB7,【非】貼付!$A$42:$P$63,5,FALSE) -> #N/A | AH7: =VLOOKUP(AB7,【非】貼付!$A$42:$P$63,7,FALSE) -> #N/A | AI7: =VLOOKUP(AB7,【非】貼付!$A$42:$P$63,8,FALSE) -> #N/A | AM7: =IF($G$23="", "", IF(TRIM($G$22)="曲のみ", "器楽",$G$23)) | AQ7: 0.1
B8: 法人名 | M8: 地上波ラジオ の広告枠 | AB8: 4 | AD8: =IF($AD$3="","",$AD$3) | AF8: =VLOOKUP(AB8,【非】貼付!$A$42:$P$63,5,FALSE) -> #N/A | AH8: =VLOOKUP(AB8,【非】貼付!$A$42:$P$63,7,FALSE) -> #N/A | AI8: =VLOOKUP(AB8,【非】貼付!$A$42:$P$63,8,FALSE) -> #N/A | AM8: =IF($G$23="", "", IF(TRIM($G$22)="曲のみ", "器楽",$G$23)) | AQ8: 0.1
B9: 代表者名 | J9: 2 | K9: ｲﾝﾀﾗｸﾃｨﾌﾞ配信 | M9: インターネット上 の広告枠 | AB9: 5 | AD9: =IF($AD$3="","",$AD$3) | AF9: =VLOOKUP(AB9,【非】貼付!$A$42:$P$63,5,FALSE) -> #N/A | AH9: =VLOOKUP(AB9,【非】貼付!$A$42:$P$63,7,FALSE) -> #N/A | AI9: =VLOOKUP(AB9,【非】貼付!$A$42:$P$63,8,FALSE) -> #N/A | AM9: =IF($G$23="", "", IF(TRIM($G$22)="曲のみ", "器楽",$G$23)) | AQ9: 0.1
B10: 部署名 | J10: 3 | K10: 演奏等 | M10: 劇場のスクリーン | AB10: 6 | AD10: =IF($AD$3="","",$AD$3) | AF10: =VLOOKUP(AB10,【非】貼付!$A$42:$P$63,5,FALSE) -> #N/A | AH10: =VLOOKUP(AB10,【非】貼付!$A$42:$P$63,7,FALSE) -> #N/A | AI10: =VLOOKUP(AB10,【非】貼付!$A$42:$P$63,8,FALSE) -> #N/A | AM10: =IF($G$23="", "", IF(TRIM($G$22)="曲のみ", "器楽",$G$23)) | AQ10: 0.1
B11: 担当者名 | M11: 店頭のモニター （上映） | AB11: 7 | AD11: =IF($AD$3="","",$AD$3) | AF11: =VLOOKUP(AB11,【非】貼付!$A$42:$P$63,5,FALSE) -> #N/A | AH11: =VLOOKUP(AB11,【非】貼付!$A$42:$P$63,7,FALSE) -> #N/A | AI11: =VLOOKUP(AB11,【非】貼付!$A$42:$P$63,8,FALSE) -> #N/A | AM11: =IF($G$23="", "", IF(TRIM($G$22)="曲のみ", "器楽",$G$23)) | AQ11: 0.1
B12: TEL | M12: 店頭のｵｰﾃﾞｨｵ 機器（演奏） | AB12: 8 | AD12: =IF($AD$3="","",$AD$3) | AF12: =VLOOKUP(AB12,【非】貼付!$A$42:$P$63,5,FALSE) -> #N/A | AH12: =VLOOKUP(AB12,【非】貼付!$A$42:$P$63,7,FALSE) -> #N/A | AI12: =VLOOKUP(AB12,【非】貼付!$A$42:$P$63,8,FALSE) -> #N/A | AM12: =IF($G$23="", "", IF(TRIM($G$22)="曲のみ", "器楽",$G$23)) | AQ12: 0.1
B13: 携帯電話 | M13: 店頭以外のサイネージ（上映） | AB13: 9 | AD13: =IF($AD$3="","",$AD$3) | AF13: =VLOOKUP(AB13,【非】貼付!$A$42:$P$63,5,FALSE) -> #N/A | AH13: =VLOOKUP(AB13,【非】貼付!$A$42:$P$63,7,FALSE) -> #N/A | AI13: =VLOOKUP(AB13,【非】貼付!$A$42:$P$63,8,FALSE) -> #N/A | AM13: =IF($G$23="", "", IF(TRIM($G$22)="曲のみ", "器楽",$G$23)) | AQ13: 0.1
B14: E-mail | M14: 広告宣伝車 （上映） | AB14: 10 | AD14: =IF($AD$3="","",$AD$3) | AF14: =VLOOKUP(AB14,【非】貼付!$A$42:$P$63,5,FALSE) -> #N/A | AH14: =VLOOKUP(AB14,【非】貼付!$A$42:$P$63,7,FALSE) -> #N/A | AI14: =VLOOKUP(AB14,【非】貼付!$A$42:$P$63,8,FALSE) -> #N/A | AM14: =IF($G$23="", "", IF(TRIM($G$22)="曲のみ", "器楽",$G$23)) | AQ14: 0.1
B15: ※許諾番号をE-mailで通知します。CCがある場合は、「;」（セミコロン）で区切ってください。 | M15: 広告宣伝車 （演奏） | AB15: 11 | AD15: =IF($AD$3="","",$AD$3) | AF15: =VLOOKUP(AB15,【非】貼付!$A$42:$P$63,5,FALSE) -> #N/A | AH15: =VLOOKUP(AB15,【非】貼付!$A$42:$P$63,7,FALSE) -> #N/A | AI15: =VLOOKUP(AB15,【非】貼付!$A$42:$P$63,8,FALSE) -> #N/A | AM15: =IF($G$23="", "", IF(TRIM($G$22)="曲のみ", "器楽",$G$23)) | AQ15: 0.1
A16: 広告の内容 | B16: 広告主名 | I16: ※ | J16: 利用形態１及び２の報告書は、当協会からE-mailでお知らせする報告期日までにご提出ください。また、使用料の減額計算の適用には、条件がありますので利用許諾条項をご確認ください。 | AB16: 12 | AD16: =IF($AD$3="","",$AD$3) | AF16: =VLOOKUP(AB16,【非】貼付!$A$42:$P$63,5,FALSE) -> #N/A | AH16: =VLOOKUP(AB16,【非】貼付!$A$42:$P$63,7,FALSE) -> #N/A | AI16: =VLOOKUP(AB16,【非】貼付!$A$42:$P$63,8,FALSE) -> #N/A | AM16: =IF($G$23="", "", IF(TRIM($G$22)="曲のみ", "器楽",$G$23)) | AQ16: 0.1
B17: 広告する商品/ サービス名 | I17: ※ | J17: 利用形態３の報告書は、報告書記載事項が確定している場合は併せてご提出いただき、確定していない場合又は追加で利用する場合は利用開始日の翌月の末日までにご提出ください。 | AB17: 13 | AD17: =IF($AD$3="","",$AD$3) | AF17: =VLOOKUP(AB17,【非】貼付!$A$42:$P$63,5,FALSE) -> #N/A | AH17: =VLOOKUP(AB17,【非】貼付!$A$42:$P$63,7,FALSE) -> #N/A | AI17: =VLOOKUP(AB17,【非】貼付!$A$42:$P$63,8,FALSE) -> #N/A | AM17: =IF($G$23="", "", IF(TRIM($G$22)="曲のみ", "器楽",$G$23)) | AQ17: 0.1
B18: 楽曲名 | AB18: 14 | AD18: =IF($AD$3="","",$AD$3) | AF18: =VLOOKUP(AB18,【非】貼付!$A$42:$P$63,5,FALSE) -> #N/A | AH18: =VLOOKUP(AB18,【非】貼付!$A$42:$P$63,7,FALSE) -> #N/A | AI18: =VLOOKUP(AB18,【非】貼付!$A$42:$P$63,8,FALSE) -> #N/A | AM18: =IF($G$23="", "", IF(TRIM($G$22)="曲のみ", "器楽",$G$23)) | AQ18: 0.1
B19: 作詞者名 （訳詞者名） | I19: ♪♪♪♪♪♪♪♪♪♪♪♪♪♪♪♪♪♪♪♪♪♪♪♪♪♪♪♪♪♪♪♪♪♪♪♪♪♪♪♪♪♪♪♪♪ | AB19: 15 | AD19: =IF($AD$3="","",$AD$3) | AF19: =VLOOKUP(AB19,【非】貼付!$A$42:$P$63,5,FALSE) -> #N/A | AH19: =VLOOKUP(AB19,【非】貼付!$A$42:$P$63,7,FALSE) -> #N/A | AI19: =VLOOKUP(AB19,【非】貼付!$A$42:$P$63,8,FALSE) -> #N/A | AM19: =IF($G$23="", "", IF(TRIM($G$22)="曲のみ", "器楽",$G$23)) | AQ19: 0.1
B20: 作曲者名 （編曲者名） | I20: （JASRAC使用欄） | AB20: 16 | AD20: =IF($AD$3="","",$AD$3) | AF20: =VLOOKUP(AB20,【非】貼付!$A$42:$P$63,5,FALSE) -> #N/A | AH20: =VLOOKUP(AB20,【非】貼付!$A$42:$P$63,7,FALSE) -> #N/A | AI20: =VLOOKUP(AB20,【非】貼付!$A$42:$P$63,8,FALSE) -> #N/A | AM20: =IF($G$23="", "", IF(TRIM($G$22)="曲のみ", "器楽",$G$23)) | AQ20: 0.1
B21: 作品コード | AB21: 17 | AD21: =IF($AD$3="","",$AD$3) | AF21: =VLOOKUP(AB21,【非】貼付!$A$42:$P$63,5,FALSE) -> #N/A | AH21: =VLOOKUP(AB21,【非】貼付!$A$42:$P$63,7,FALSE) -> #N/A | AI21: =VLOOKUP(AB21,【非】貼付!$A$42:$P$63,8,FALSE) -> #N/A | AM21: =IF($G$23="", "", IF(TRIM($G$22)="曲のみ", "器楽",$G$23)) | AQ21: 0.1
B22: 詞曲の利用方法 | AB22: 18 | AD22: =IF($AD$3="","",$AD$3) | AF22: =VLOOKUP(AB22,【非】貼付!$A$42:$P$63,5,FALSE) -> #N/A | AH22: =VLOOKUP(AB22,【非】貼付!$A$42:$P$63,7,FALSE) -> #N/A | AI22: =VLOOKUP(AB22,【非】貼付!$A$42:$P$63,8,FALSE) -> #N/A | AM22: =IF($G$23="", "", IF(TRIM($G$22)="曲のみ", "器楽",$G$23)) | AQ22: 0.1
B23: 原詞訳詞区分 | AB23: 19 | AD23: =IF($AD$3="","",$AD$3) | AF23: =VLOOKUP(AB23,【非】貼付!$A$42:$P$63,5,FALSE) -> #N/A | AH23: =VLOOKUP(AB23,【非】貼付!$A$42:$P$63,7,FALSE) -> #N/A | AI23: =VLOOKUP(AB23,【非】貼付!$A$42:$P$63,8,FALSE) -> #N/A | AM23: =IF($G$23="", "", IF(TRIM($G$22)="曲のみ", "器楽",$G$23)) | AQ23: 0.1
B24: 広告目的複製 手続き | L24: お申込み先 | AB24: 20 | AD24: =IF($AD$3="","",$AD$3) | AF24: =VLOOKUP(AB24,【非】貼付!$A$42:$P$63,5,FALSE) -> #N/A | AH24: =VLOOKUP(AB24,【非】貼付!$A$42:$P$63,7,FALSE) -> #N/A | AI24: =VLOOKUP(AB24,【非】貼付!$A$42:$P$63,8,FALSE) -> #N/A | AM24: =IF($G$23="", "", IF(TRIM($G$22)="曲のみ", "器楽",$G$23)) | AQ24: 0.1
B25: =IF(G24="許諾済","許諾番号",IF(G24="申請予定","申請予定日",IF(G24="他者申請","申請者名","－"))) -> － | L25: 一般社団法人日本音楽著作権協会 複製部 | AB25: 21 | AD25: =IF($AD$3="","",$AD$3) | AF25: =VLOOKUP(AB25,【非】貼付!$A$42:$P$63,5,FALSE) -> #N/A | AH25: =VLOOKUP(AB25,【非】貼付!$A$42:$P$63,7,FALSE) -> #N/A | AI25: =VLOOKUP(AB25,【非】貼付!$A$42:$P$63,8,FALSE) -> #N/A | AM25: =IF($G$23="", "", IF(TRIM($G$22)="曲のみ", "器楽",$G$23)) | AQ25: 0.1
B26: ※「広告主名」「商品名」は、「広告目的複製」のご申請内容と同一となるようご注意ください。 | L26: 〒151-8540 東京都渋谷区上原3丁目6番12号 E-mail agm-ad@jasrac.or.jp
B27: ※J-WIDに表示のある著作者の訳詞・編曲をご利用の場合は（訳詞者名・編曲者名）もご記載ください。
V28: 202507

Sheet ①テレビ
N1: 放 送 局 及 び 放 送 回 数
A2: テレビＣＭ放送報告書兼請求明細書 | N2: 1類 | O2: 日本テレビ | P2: NTV | R2: ＴＢＳテレビ | S2: TBS | U2: フジテレビ | V2: CX | X2: テレビ朝日 | Y2: EX
A4: 一般社団法人日本音楽著作権協会 御中 | N4: 2類 | O4: 読売 | P4: YTV | R4: 毎日 | S4: MBS | U4: 関西 | V4: KTV | X4: 朝日 | Y4: ABC | AA4: テレビ東京 | AB4: TX
B5: テレビCMの放送回数が確定しましたので報告します。
A6: 報告日 | I6: 許諾番号※ | N6: 3類 | O6: 中京 | P6: CTV | R6: ＣＢＣテレビ | S6: CBC | U6: 東海 | V6: THK | X6: 名古屋 | Y6: NBN
A7: 報告期間(3か月以内) | I7: ～
B8: ※広告展開利用の許諾番号（メールで通知済みの数字6桁）をご入力ください。 | N8: 4類 | O8: 札幌 | P8: STV | R8: 北海道 | S8: HBC | U8: 北海道文化 | V8: UHB | X8: 北海道ﾃﾚﾋﾞ | Y8: HTB | AA8: 東京ﾒﾄﾛﾎﾟﾘﾀﾝ | AB8: MX
A9: ↓「広告展開利用申込書」シートの内容が反映されます。 | O9: 福岡 | P9: FBS | R9: ＲＫＢ毎日 | S9: RKB | U9: ﾃﾚﾋﾞ西日本 | V9: TNC | X9: 九州朝日 | Y9: KBC
A10: 申込者 | B10: 住所 | D10: =広告展開利用申込書!$G$6&" "&広告展開利用申込書!G7 | N10: 5類 | O10: 広島 | P10: HTV | R10: 東北 | S10: TBC | U10: 仙台 | V10: OX | AA10: ﾃﾚﾋﾞ北海道 | AB10: TVH
R11: 新潟 | S11: BSN | U11: 福島 | V11: FTV | AA11: ﾃﾚﾋﾞ愛知 | AB11: TVA
B12: 法人名 | D12: =IF(広告展開利用申込書!G8="","",広告展開利用申込書!G8) | R12: 信越 | S12: SBC | U12: 新潟総合 | V12: NST | AA12: ﾃﾚﾋﾞ大阪 | AB12: TVO
R13: 静岡 | S13: SBS | U13: ﾃﾚﾋﾞ静岡 | V13: SUT | AA13: ＴＶＱ九州 | AB13: TVQ
B14: 部署名 | D14: =IF(広告展開利用申込書!G10="","",広告展開利用申込書!G10) | I14: 担当者名 | J14: =IF(広告展開利用申込書!G11="","",広告展開利用申込書!G11) | R14: 山陽 | S14: RSK
B15: ＴＥＬ | D15: =IF(広告展開利用申込書!G12="","",広告展開利用申込書!G12) | I15: 携帯電話 | J15: =IF(広告展開利用申込書!G13="","",広告展開利用申込書!G13) | R15: 中国 | S15: RCC
B16: Ｅ－ｍａｉｌ | D16: =IF(広告展開利用申込書!G14="","",広告展開利用申込書!G14) | N16: 6類 | O16: 青森 | P16: RAB | R16: 青森テレビ | S16: ATV | U16: 岩手めんこい | V16: MIT | X16: 青森朝日 | Y16: ABA | AA16: とちぎテレビ | AB16: GYT
A17: 広告の内容 | B17: 広告主名 | D17: =IF(広告展開利用申込書!G16="","",広告展開利用申込書!G16) | O17: ﾃﾚﾋﾞ岩手 | P17: TVI | R17: ＩＢＣ岩手 | S17: IBC | U17: 秋田テレビ | V17: AKT | X17: 岩手朝日 | Y17: IAT | AA17: 群馬テレビ | AB17: GTV
O18: 宮城 | P18: MMT | R18: ﾃﾚﾋﾞﾕｰ山形 | S18: TUY | U18: さくらんぼ | V18: SAY | X18: 東日本 | Y18: KHB | AA18: ﾃﾚﾋﾞ埼玉 | AB18: TVS
B19: 商品名 | D19: =IF(広告展開利用申込書!G17="","",広告展開利用申込書!G17) | O19: 秋田 | P19: ABS | R19: ﾃﾚﾋﾞﾕｰ福島 | S19: TUF | U19: 長野 | V19: NBS | X19: 秋田朝日 | Y19: AAB | AA19: 千葉 | AB19: CTC
O20: 山形 | P20: YBC | R20: ﾃﾚﾋﾞ山梨 | S20: UTY | U20: 富山 | V20: BBT | X20: 山形テレビ | Y20: YTS | AA20: ﾃﾚﾋﾞ神奈川 | AB20: TVK
B21: 楽曲名 | D21: =IF(広告展開利用申込書!G18="","",広告展開利用申込書!G18) | O21: 福島中央 | P21: FCT | R21: ﾁｭｰﾘｯﾌﾟ | S21: TUT | U21: 石川 | V21: ITC | X21: 福島 | Y21: KFB | AA21: 岐阜 | AB21: GBS
O22: ﾃﾚﾋﾞ新潟 | P22: TeNY | R22: 北陸 | S22: MRO | U22: 福井テレビ | V22: FTB | X22: 新潟ﾃﾚﾋﾞ21 | Y22: UX | AA22: 三重 | AB22: MTV
B23: 作品コード | D23: =IF(広告展開利用申込書!G21="","",広告展開利用申込書!G21) | G23: 詞曲 | I23: =IF(広告展開利用申込書!G22="","",広告展開利用申込書!G22) | J23: 原訳区分 | K23: =IF(広告展開利用申込書!G23="","",広告展開利用申込書!G23) | O23: ﾃﾚﾋﾞ信州 | P23: TSB | R23: 山陰 | S23: BSS | U23: 山陰中央 | V23: TSK | X23: 長野朝日 | Y23: ABN | AA23: びわ湖 | AB23: BBC
O24: 山梨 | P24: YBS | R24: ﾃﾚﾋﾞ山口 | S24: TYS | U24: 岡山 | V24: OHK | X24: 静岡朝日 | Y24: SATV | AA24: 京都 | AB24: KBS
A25: 請求明細 | O25: 静岡第一 | P25: SDT | R25: あいテレビ | S25: ITV | U25: ﾃﾚﾋﾞ新広島 | V25: TSS | X25: 北陸朝日 | Y25: HAB | AA25: 奈良 | AB25: TVN
A26: 1 使用料計算 | J26: （単位：円） | O26: 北日本 | P26: KNB | R26: ﾃﾚﾋﾞ高知 | S26: KUTV | U26: ﾃﾚﾋﾞ愛媛 | V26: EBC | X26: 広島ホーム | Y26: HOME | AA26: サンテレビ | AB26: SUN
A27: 類別 | C27: 単価 | E27: 放送回数(ｲ) | G27: 小計(ﾛ) | I27: 使用料 | J27: =G34 -> 0 | O27: ﾃﾚﾋﾞ金沢 | P27: KTK | R27: 長崎 | S27: NBC | U27: 高知さんさん | V27: KSS | X27: 山口朝日 | Y27: YAB | AA27: ﾃﾚﾋﾞ和歌山 | AB27: WTV
A28: 1類 | C28: =TRUNC(【非】式!E2*【非】式!$C$2) -> 12000 | D28: × | E28: =SUM(Q2,T2,W2,Z2,) -> 0 | F28: ＝ | G28: =C28*E28 -> 0 | I28: 消費税(10%) | J28: =ROUNDDOWN(J27*0.1,0) -> 0 | O28: 福井 | P28: FBC | R28: 熊本 | S28: RKK | U28: サガ | V28: STS | X28: 瀬戸内海 | Y28: KSB | AA28: ﾃﾚﾋﾞせとうち | AB28: TSC
A29: 2類 | C29: =TRUNC(【非】式!E3*【非】式!$C$2) -> 8400 | D29: × | E29: =SUM(Q4,T4,W4,Z4,AC4) -> 0 | F29: ＝ | G29: =C29*E29 -> 0 | I29: 請求額 | J29: =SUM(J27:J28) -> 0 | O29: 日本海 | P29: NKT | R29: 大分 | S29: OBS | U29: ﾃﾚﾋﾞ長崎 | V29: KTN | X29: 愛媛朝日 | Y29: EAT | AC29: =SUM(AC4:AC28) -> 0
A30: 3類 | C30: =TRUNC(【非】式!E4*【非】式!$C$2) -> 7200 | D30: × | E30: =SUM(Q6,T6,W6,Z6,) -> 0 | F30: ＝ | G30: =C30*E30 -> 0 | O30: 山口 | P30: KRY | R30: 宮崎 | S30: MRT | U30: ﾃﾚﾋﾞ熊本 | V30: TKU | X30: 長崎文化 | Y30: NCC
A31: 4類 | C31: =TRUNC(【非】式!E5*【非】式!$C$2) -> 4800 | D31: × | E31: =SUM(Q8:Q9,T8:T9,W8:W9,Z8:Z9,AC8) -> 0 | F31: ＝ | G31: =C31*E31 -> 0 | O31: 四国 | P31: JRT | R31: 南日本 | S31: MBC | U31: ﾃﾚﾋﾞ宮崎 | V31: UMK | X31: 熊本朝日 | Y31: KAB
A32: 5類 | C32: =TRUNC(【非】式!E6*【非】式!$C$2) -> 3600 | D32: × | E32: =SUM(Q10,T10:T15,W10:W13,AC10:AC13) -> 0 | F32: ＝ | G32: =C32*E32 -> 0 | O32: 西日本 | P32: RNC | R32: 琉球 | S32: RBC | U32: 鹿児島テレビ | V32: KTS | X32: 大分朝日 | Y32: OAB
A33: 6類 | C33: =TRUNC(【非】式!E7*【非】式!$C$2) -> 3000 | D33: × | E33: =SUM(Q16:Q38,T16:T32,W16:W33,Z16:Z34,AC16:AC28) -> 0 | F33: ＝ | G33: =C33*E33 -> 0 | O33: 南海 | P33: RNB | T33: =SUM(T2:T32) -> 0 | U33: 沖縄 | V33: OTV | X33: 鹿児島 | Y33: KKB
A34: 合計 | E34: =SUM(E28:E33) -> 0 | G34: =ROUNDDOWN(G28+G29+G30+G31+G32+G33,0) -> 0 | O34: 高知 | P34: RKC | W34: =SUM(W2:W33) -> 0 | X34: 琉球朝日 | Y34: QAB
O35: 長崎国際 | P35: NIB | Z35: =SUM(Z2:Z34) -> 0
A36: 2 利用許諾条項第８条に基づく減額を適用した場合の使用料計算 | O36: 熊本県民 | P36: KKT
A37: 放送回数区分 | C37: 回数 | E37: 平均単価(ﾛ/ｲ) | G37: 減額係数 | I37: 小計 | J37: 減額使用料 | K37: =I44 -> - | O37: ﾃﾚﾋﾞ大分 | P37: TOS
A38: 100回まで | C38: =IF(E34<=100,E34,100) -> 0 | D38: × | E38: =IFERROR(ROUND(G34/E34,2),"") | F38: × | G38: 1 | H38: ＝ | I38: =IFERROR(INT(E38*C38*G38),"-") -> - | J38: 消費税(10%) | K38: =IFERROR(ROUNDDOWN(K37*0.1,0),"-") -> - | O38: 鹿児島読売 | P38: KYT
A39: 101～300回 | C39: =IF(101<=E34,IF(E34<=300,+E34-100,200),0) -> 0 | D39: × | F39: × | G39: 0.9 | H39: ＝ | I39: =IFERROR(INT(E38*C39*G39),"-") -> - | J39: 減額請求額 | K39: =IF(SUM(K37:K38)=0,"-",SUM(K37:K38)) -> - | Q39: =SUM(Q2:Q38) -> 0
A40: 301～500回 | C40: =IF(E34>=301,IF(E34<=500,E34-300,200),0) -> 0 | D40: × | F40: × | G40: 0.7 | H40: ＝ | I40: =IFERROR(INT(E38*C40*G40),"-") -> - | N40: =IF(【非】式!C2<1,"（放送利用に関する当協会の管理率が"&TEXT(【非】式!C2*100,"0.00")&"%のため規定使用料の"&TEXT(【非】式!C2*100,"0.00")&"%で計算）","") | AA40: =IF(広告展開利用申込書!V20="","",広告展開利用申込書!V20)
A41: 501～3,000回 | C41: =IF(E34>=501,IF(E34<=3000,E34-500,2500),0) -> 0 | D41: × | F41: × | G41: 0.45 | H41: ＝ | I41: =IFERROR(INT(E38*C41*G41),"-") -> -
...

Sheet ②ラジオ
N1: 放 送 局 及 び 放 送 回 数
A2: ラジオＣＭ放送報告書兼請求明細書 | N2: 1類 | O2: TBSラジオ | Q2: 6類 | R2: 青森 | U2: 山口
O3: 文化 | R3: FM青森 | U3: FM山口
A4: 一般社団法人日本音楽著作権協会 御中 | O4: ニッポン | R4: ＩＢＣ岩手 | U4: 四国
B5: ラジオCMの放送回数が確定しましたので報告します。 | N5: 2類 | O5: FM東京 | R5: FM岩手 | U5: 西日本
A6: 報告日 | I6: 許諾番号※ | O6: J-WAVE | R6: 秋田 | U6: FM香川
A7: 報告期間（3か月以内） | I7: ～ | O7: MBSラジオ | R7: FM秋田 | U7: 南海
B8: ※広告展開利用の許諾番号（メールで通知済みの数字6桁）をご入力ください。 | O8: 朝日 | R8: 山形 | U8: FM愛媛
O9: ラジオ大阪 | R9: FM山形 | U9: FM徳島
A10: ↓「広告展開利用申込書」シートの内容が反映されます。 | N10: 3類 | O10: RFﾗｼﾞｵ日本 | R10: FM福島 | U10: 高知
A11: 申込者 | B11: 住所 | D11: =広告展開利用申込書!$G$6&" "&広告展開利用申込書!G7 | O11: CBCラジオ | R11: FMラジオ新潟 | U11: FM高知
O12: 東海ラジオ | R12: 日経ラジオ | U12: LOVE FM
B13: 法人名 | D13: =IF(広告展開利用申込書!G8="","",広告展開利用申込書!G8) | O13: FM大阪 | R13: FM群馬 | U13: 長崎
N14: 4類 | O14: 北海道 | R14: 栃木 | U14: FM長崎
B15: 部署名 | D15: =IF(広告展開利用申込書!G10="","",広告展開利用申込書!G10) | I15: 担当者名 | J15: =IF(広告展開利用申込書!G11="","",広告展開利用申込書!G11) | O15: STVラジオ | R15: FM栃木 | U15: 熊本
B16: ＴＥＬ | D16: =IF(広告展開利用申込書!G12="","",広告展開利用申込書!G12) | I16: 携帯電話 | J16: =IF(広告展開利用申込書!G13="","",広告展開利用申込書!G13) | O16: 横浜FM | R16: LuckyFM茨城 | U16: FM熊本
B17: Ｅ－ｍａｉｌ | D17: =IF(広告展開利用申込書!G14="","",広告展開利用申込書!G14) | O17: FM愛知 | R17: interFM897 | U17: 大分
A18: 広告の内容 | B18: 広告主名 | D18: =IF(広告展開利用申込書!G16="","",広告展開利用申込書!G16) | O18: ZIP-FM | R18: FM NACK5 | U18: FM大分
O19: FM802 | R19: BAYFM | U19: 宮崎
B20: 商品名 | D20: =IF(広告展開利用申込書!G17="","",広告展開利用申込書!G17) | O20: RKB毎日 | R20: 長野FM | U20: FM宮崎
O21: 九州朝日 | R21: 山梨 | U21: FM佐賀
B22: 楽曲名 | D22: =IF(広告展開利用申込書!G18="","",広告展開利用申込書!G18) | N22: 5類 | O22: FM北海道 | R22: FM FUJI | U22: 南日本
O23: FMﾉｰｽｳｪｰﾌﾞ | R23: 北日本 | U23: FM鹿児島
B24: 作品コード | D24: =IF(広告展開利用申込書!G21="","",広告展開利用申込書!G21) | G24: 詞曲 | I24: =IF(広告展開利用申込書!G22="","",広告展開利用申込書!G22) | J24: 原訳区分 | K24: =IF(広告展開利用申込書!G23="","",広告展開利用申込書!G23) | O24: 東北 | R24: 富山FM | U24: 琉球
O25: FM仙台 | R25: 北陸 | U25: ラジオ沖縄
O26: ラジオ福島 | R26: FM石川 | U26: FM沖縄
A27: 請求明細 | O27: 新潟 | R27: 福井
A28: 1 使用料計算 | J28: （単位：円） | O28: 信越 | R28: 福井FM
A29: 類別 | C29: 単価 | E29: 放送回数(ｲ) | G29: 小計(ﾛ) | I29: 使用料 | J29: =G36 -> 0 | O29: 静岡 | R29: 岐阜
A30: 1類 | C30: =TRUNC(【非】式!E11*【非】式!$C$11) -> 5000 | D30: × | E30: =SUM(P2:P4) -> 0 | F30: ＝ | G30: =C30*E30 -> 0 | I30: 消費税(10%) | J30: =ROUNDDOWN(J29*0.1,0) -> 0 | O30: 静岡FM | R30: FM岐阜
A31: 2類 | C31: =TRUNC(【非】式!E12*【非】式!$C$11) -> 3500 | D31: × | E31: =SUM(P5:P9) -> 0 | F31: ＝ | G31: =C31*E31 -> 0 | I31: 請求額 | J31: =SUM(J29:J30) -> 0 | O31: 京都 | R31: 三重FM
A32: 3類 | C32: =TRUNC(【非】式!E13*【非】式!$C$11) -> 3000 | D32: × | E32: =SUM(P10:P13) -> 0 | F32: ＝ | G32: =C32*E32 -> 0 | O32: ラジオ関西 | R32: FM COCOLO
A33: 4類 | C33: =TRUNC(【非】式!E14*【非】式!$C$11) -> 2000 | D33: × | E33: =SUM(P14:P21) -> 0 | F33: ＝ | G33: =C33*E33 -> 0 | O33: Kiss FM KOBE | R33: FM京都
A34: 5類 | C34: =TRUNC(【非】式!E15*【非】式!$C$11) -> 1500 | D34: × | E34: =SUM(P22:P38) -> 0 | F34: ＝ | G34: =C34*E34 -> 0 | O34: 山陽 | R34: FM滋賀
A35: 6類 | C35: =TRUNC(【非】式!E16*【非】式!$C$11) -> 1250 | D35: × | E35: =SUM(T2:T38,V2:V26) -> 0 | F35: ＝ | G35: =C35*E35 -> 0 | O35: 中国 | R35: 和歌山
A36: 合計 | E36: =SUM(E30:E35) -> 0 | G36: =ROUNDDOWN(G30+G31+G32+G33+G34+G35,0) -> 0 | O36: 広島FM | R36: 山陰
O37: FM福岡 | R37: FM山陰
A38: 2 利用許諾条項第８条に基づく減額を適用した場合の使用料計算 | O38: CROSS FM | R38: 岡山FM
A39: 放送回数区分 | C39: 回数 | E39: 平均単価(ﾛ/ｲ) | G39: 減額係数 | I39: 小計 | J39: 減額使用料 | K39: =I46 -> -
A40: 100回まで | C40: =IF(E36<=100,E36,100) -> 0 | D40: × | E40: =IFERROR(ROUND(G36/E36,2),"") | F40: × | G40: 1 | H40: ＝ | I40: =IFERROR(INT(C40*E40*G40),"-") -> - | J40: 消費税(10%) | K40: =IFERROR(ROUNDDOWN(K39*0.1,0),"-") -> -
...

Sheet ③配信
E2: インターネットＣＭ配信報告書兼請求明細書 | AA2: =IF(BF93<>"", "1/2", "") | AF2: 1 | AG2: サイト名 | AV2: 事前申込減額 | BC2: 期日内報告減額
AG3: 広告メニュー | AQ3: 配信報告期間(３か月以内） | BB3: 配信回数 | BF3: 合計配信回数
A4: 一般社団法人日本音楽著作権協会 御中 | AV4: ～ | BF4: =IF(SUM(BB4:BE6)>0,SUM(BB4:BE6),0) -> 0
AV5: ～ | BF5: 使用料（税抜）
B6: インターネットCMの配信回数が確定しましたので報告します。 | AV6: ～ | BF6: =IF(【非】式!I41>0,IF(【非】式!I41>5000,【非】式!I41,5000),0) -> 0 | BI6: 円
A7: 報告日 | P7: 許諾番号※ | AF7: 2 | AG7: サイト名 | AV7: 事前申込減額 | BC7: 期日内報告減額
AG8: 広告メニュー | AQ8: 配信報告期間(３か月以内） | BB8: 配信回数 | BF8: 合計配信回数
B9: ※広告展開利用の許諾番号（メールで通知済みの数字6桁）をご入力ください。 | AV9: ～ | BF9: =IF(SUM(BB9:BE11)>0,SUM(BB9:BE11),0) -> 0
AV10: ～ | BF10: 使用料（税抜）
AV11: ～ | BF11: =IF(【非】式!I42>0,IF(【非】式!I42>5000,【非】式!I42,5000),0) -> 0 | BI11: 円
A12: ↓「広告展開利用申込書」シートの内容が反映されます。 | AF12: 3 | AG12: サイト名 | AV12: 事前申込減額 | BC12: 期日内報告減額
A13: 申込者 | B13: 住所 | E13: =広告展開利用申込書!$G$6&" "&広告展開利用申込書!$G$7 | AG13: 広告メニュー | AQ13: 配信報告期間(３か月以内） | BB13: 配信回数 | BF13: 合計配信回数
AV14: ～ | BF14: =IF(SUM(BB14:BE16)>0,SUM(BB14:BE16),0) -> 0
B15: 法人名 | E15: =IF(広告展開利用申込書!$G$8="","",広告展開利用申込書!$G$8) | AV15: ～ | BF15: 使用料（税抜）
AV16: ～ | BF16: =IF(【非】式!I43>0,IF(【非】式!I43>5000,【非】式!I43,5000),0) -> 0 | BI16: 円
B17: 部署名 | E17: =IF(広告展開利用申込書!G10="","",広告展開利用申込書!G10) | P17: 担当者名 | S17: =IF(広告展開利用申込書!G11="","",広告展開利用申込書!G11) | AF17: 4 | AG17: サイト名 | AV17: 事前申込減額 | BC17: 期日内報告減額
B18: TEL | E18: =IF(広告展開利用申込書!$G$12="","",広告展開利用申込書!$G$12) | P18: 携帯電話 | S18: =IF(広告展開利用申込書!G13="","",広告展開利用申込書!G13) | AG18: 広告メニュー | AQ18: 配信報告期間(３か月以内） | BB18: 配信回数 | BF18: 合計配信回数
B19: E-mail | E19: =IF(広告展開利用申込書!G14="","",広告展開利用申込書!G14) | AV19: ～ | BF19: =IF(SUM(BB19:BE21)>0,SUM(BB19:BE21),0) -> 0
A20: 広告の内容 | B20: 広告主名 | E20: =IF(広告展開利用申込書!$G$16="","",広告展開利用申込書!$G$16) | AV20: ～ | BF20: 使用料（税抜）
AV21: ～ | BF21: =IF(【非】式!I44>0,IF(【非】式!I44>5000,【非】式!I44,5000),0) -> 0 | BI21: 円
B22: 商品名 | E22: =IF(広告展開利用申込書!$G$17="","",広告展開利用申込書!$G$17) | AF22: 5 | AG22: サイト名 | AV22: 事前申込減額 | BC22: 期日内報告減額
AG23: 広告メニュー | AQ23: 配信報告期間(３か月以内） | BB23: 配信回数 | BF23: 合計配信回数
B24: 楽曲名 | E24: =IF(広告展開利用申込書!$G$18="","",広告展開利用申込書!$G$18) | AV24: ～ | BF24: =IF(SUM(BB24:BE26)>0,SUM(BB24:BE26),0) -> 0
AV25: ～ | BF25: 使用料（税抜）
B26: 作品コード | E26: =IF(広告展開利用申込書!$G$21="","",広告展開利用申込書!$G$21) | P26: 詞曲 | S26: =IF(広告展開利用申込書!G22="","",広告展開利用申込書!G22) | W26: 原訳区分 | AA26: =IF(広告展開利用申込書!G23="","",広告展開利用申込書!G23) | AV26: ～ | BF26: =IF(【非】式!I45>0,IF(【非】式!I45>5000,【非】式!I45,5000),0) -> 0 | BI26: 円
AF27: 6 | AG27: サイト名 | AV27: 事前申込減額 | BC27: 期日内報告減額
AG28: 広告メニュー | AQ28: 配信報告期間(３か月以内） | BB28: 配信回数 | BF28: 合計配信回数
A29: 請求明細 | AV29: ～ | BF29: =IF(SUM(BB29:BE31)>0,SUM(BB29:BE31),0) -> 0
AV30: ～ | BF30: 使用料（税抜）
B31: 使用料合計 | L31: 消費税相当額（10％） | U31: 請求額 | AV31: ～ | BF31: =IF(【非】式!I46>0,IF(【非】式!I46>5000,【非】式!I46,5000),0) -> 0 | BI31: 円
B32: =SUM(BF6,BF11,BF16,BF21,BF26,BF31,BF36,BF41,AA57,AA62,AA67,AA72,AA77,AA82,AA87,AA92,BF52,BF57,BF62,BF67,BF72,BF77,BF82,BF87,BF92,) -> 0 | I32: 円 | J32: ＋ | L32: =TRUNC(B32*10%) -> 0 | R32: 円 | S32: ＝ | U32: =B32+L32 -> 0 | AC32: 円 | AF32: 7 | AG32: サイト名 | AV32: 事前申込減額 | BC32: 期日内報告減額
AG33: 広告メニュー | AQ33: 配信報告期間(３か月以内） | BB33: 配信回数 | BF33: 合計配信回数
P34: =IF(【非】式!C29<1,"（インタラクティブ配信利用に関する当協会の管理率が"&TEXT(【非】式!H41*100,"0.00")&"%のため規定使用料の"&TEXT(【非】式!H41*100,"0.00")&"%で計算）","") | AV34: ～ | BF34: =IF(SUM(BB34:BE36)>0,SUM(BB34:BE36),0) -> 0
AV35: ～ | BF35: 使用料（税抜）
B36: 請求日 | AV36: ～ | BF36: =IF(【非】式!I47>0,IF(【非】式!I47>5000,【非】式!I47,5000),0) -> 0 | BI36: 円
T37: =IF(広告展開利用申込書!V20="","",広告展開利用申込書!V20) | AF37: 8 | AG37: サイト名 | AV37: 事前申込減額 | BC37: 期日内報告減額
B38: 請求書番号 | AG38: 広告メニュー | AQ38: 配信報告期間(３か月以内） | BB38: 配信回数 | BF38: 合計配信回数
T39: 確認印 | Y39: 担当印 | AV39: ～ | BF39: =IF(SUM(BB39:BE41)>0,SUM(BB39:BE41),0) -> 0
B40: 請求額 | N40: 円 | AV40: ～ | BF40: 使用料（税抜）
AV41: ～ | BF41: =IF(【非】式!I48>0,IF(【非】式!I48>5000,【非】式!I48,5000),0) -> 0 | BI41: 円
...

Sheet ④劇場用CM
A2: 劇場用CM上映報告書兼明細書 | AA2: 請求明細
A5: 一般社団法人日本音楽著作権協会 御中
B7: 劇場用CMの利用内容が確定しましたので報告します。
A8: 報告日 | N8: 許諾番号※ | AA8: １スクリ―ン当たり の使用料 | AJ8: スクリーン数 | AP8: 使用料（税抜）
B10: ※広告展開利用の許諾番号（メールで通知済みの数字6桁）をご入力ください。 | AA10: =(【非】式!F68*【非】式!$C$68) -> 0 | AH10: 円 | AI10: × | AJ10: =F31 -> 0 | AO10: ＝ | AP10: =TRUNC(AJ10*AA10) -> 0 | AX10: 円
A12: ↓「広告展開利用申込書」シートの内容が反映されます。
A13: 申込者 | B13: 住所 | E13: =広告展開利用申込書!$G$6&" "&広告展開利用申込書!$G$7
B15: 法人名 | E15: =IF(広告展開利用申込書!$G$8="","",広告展開利用申込書!$G$8) | AA15: 使用料（税抜） | AJ15: 消費税相当額 (10%) | AP15: 請求額
B17: 部署名 | E17: =IF(広告展開利用申込書!G10="","",広告展開利用申込書!G10) | N17: 担当者名 | Q17: =IF(広告展開利用申込書!G11="","",広告展開利用申込書!G11) | AA17: =AP10 -> 0 | AH17: 円 | AI17: ＋ | AJ17: =TRUNC(AA17*0.1) -> 0 | AN17: 円 | AO17: ＝ | AP17: =AA17+AJ17 -> 0 | AX17: 円
B18: TEL | E18: =IF(広告展開利用申込書!$G$12="","",広告展開利用申込書!$G$12) | N18: 携帯電話 | Q18: =IF(広告展開利用申込書!G13="","",広告展開利用申込書!G13)
B19: E-mail | E19: =IF(広告展開利用申込書!G14="","",広告展開利用申込書!G14) | AA19: =IF(【非】式!C68<1,"（上映利用に関する当協会の管理率が"&TEXT(【非】式!C68*100,"0.00")&"%のため規定使用料の"&TEXT(【非】式!C68*100,"0.00")&"%で計算）","")
A20: 広告の内容 | B20: 広告主名 | E20: =IF(広告展開利用申込書!$G$16="","",広告展開利用申込書!$G$16)
B22: 商品名 | E22: =IF(広告展開利用申込書!$G$17="","",広告展開利用申込書!$G$17)
B24: 楽曲名 | E24: =IF(広告展開利用申込書!$G$18="","",広告展開利用申込書!$G$18) | AA24: 請求日
AO25: =IF(広告展開利用申込書!V20="","",広告展開利用申込書!V20)
B26: 作品コード | E26: =IF(広告展開利用申込書!$G$21="","",広告展開利用申込書!$G$21) | N26: 詞曲 | Q26: =IF(広告展開利用申込書!G22="","",広告展開利用申込書!G22) | T26: 原訳区分 | V26: =IF(広告展開利用申込書!G23="","",広告展開利用申込書!G23) | AA26: 請求書番号
A28: 利用内容 | AA28: 請求額 | AL28: 円 | AO28: 確認印 | AT28: 担当印
A29: 上映開始日 | F29: スクリーン数 | J29: 利用時間 | P29: 主な上映館
J30: 分 | M30: 秒
AA31: 一般社団法人日本音楽著作権協会 複製部
AA32: 〒151-8540 東京都渋谷区上原3丁目6番12号
A33: ※スクリーン数は、同時に上映する最大のスクリーン数をご入力ください。 | AA33: E-mail agm-ad@jasrac.or.jp
A34: ※本書は、上映開始日の翌月の末日までにご提出ください。 | AX34: =CONCATENATE(広告展開利用申込書!V28,"･D20") -> 202507･D20

Sheet ⑤店頭
AB3: 請求明細
A4: =IF(B2="上映","店頭でのCM上映報告書兼請求明細書",IF(B2="演奏","店頭でのCM演奏報告書兼請求明細書",""))
AB6: 1個当たりの使用料 | AO6: 複製個数 | AU6: 使用料小計（税抜）
A7: 一般社団法人日本音楽著作権協会 御中
AB8: 1～10個 | AI8: 2000 | AM8: 円 | AN8: × | AO8: =IF($F$35<=10,$F$35,10) -> 0 | AT8: ＝ | AU8: =AI8*AO8 -> 0 | AZ8: 円
B9: =IF(B2="上映","店頭でのCM上映の利用内容が確定しましたので報告します。",IF(B2="演奏","店頭でのCM演奏の利用内容が確定しましたので報告します。",""))
A10: 報告日 | N10: 許諾番号※ | AB10: 11～50個 | AI10: 1000 | AM10: 円 | AN10: × | AO10: =IF($F$35<=10,0,IF($F$35<=50,$F$35-10,40)) -> 0 | AT10: ＝ | AU10: =AI10*AO10 -> 0 | AZ10: 円
B12: ※広告展開利用の許諾番号（メールで通知済みの数字6桁）をご入力ください。 | AB12: 51～100個 | AI12: 500 | AM12: 円 | AN12: × | AO12: =IF($F$35<=50,0,IF($F$35<=100,$F$35-50,50)) -> 0 | AT12: ＝ | AU12: =AI12*AO12 -> 0 | AZ12: 円
AB14: 101～500個 | AI14: 400 | AM14: 円 | AN14: × | AO14: =IF($F$35<=100,0,IF($F$35<=500,$F$35-100,400)) -> 0 | AT14: ＝ | AU14: =AI14*AO14 -> 0 | AZ14: 円
A15: ↓「広告展開利用申込書」シートの内容が反映されます。
A16: 申込者 | B16: 住所 | E16: =広告展開利用申込書!$G$6&" "&広告展開利用申込書!$G$7 | AB16: 501～1,000個 | AI16: 300 | AM16: 円 | AN16: × | AO16: =IF($F$35<=500,0,IF($F$35<=1000,$F$35-500,500)) -> 0 | AT16: ＝ | AU16: =AI16*AO16 -> 0 | AZ16: 円
B18: 法人名 | E18: =IF(広告展開利用申込書!$G$8="","",広告展開利用申込書!$G$8) | AB18: 1,001～10,000個 | AI18: 200 | AM18: 円 | AN18: × | AO18: =IF($F$35<=1000,0,IF($F$35<=10000,$F$35-1000,9000)) -> 0 | AT18: ＝ | AU18: =AI18*AO18 -> 0 | AZ18: 円
B20: 部署名 | E20: =IF(広告展開利用申込書!G10="","",広告展開利用申込書!G10) | N20: 担当者名 | Q20: =IF(広告展開利用申込書!G11="","",広告展開利用申込書!G11) | AB20: 10,001個以上 | AI20: 100 | AM20: 円 | AN20: × | AO20: =IF($F$35<=10000,0,$F$35-10000) -> 0 | AT20: ＝ | AU20: =AI20*AO20 -> 0 | AZ20: 円
B21: TEL | E21: =IF(広告展開利用申込書!$G$12="","",広告展開利用申込書!$G$12) | N21: 携帯電話 | Q21: =IF(広告展開利用申込書!G13="","",広告展開利用申込書!G13)
B22: E-mail | E22: =IF(広告展開利用申込書!G14="","",広告展開利用申込書!G14) | AB22: 合計 | AO22: =SUM(AO8:AS21) -> 0 | AU22: =SUM(AU8:AX20) -> 0 | AZ22: 円
A23: 広告の内容 | B23: 広告主名 | E23: =IF(広告展開利用申込書!$G$16="","",広告展開利用申込書!$G$16)
B25: 商品名 | E25: =IF(広告展開利用申込書!$G$17="","",広告展開利用申込書!$G$17) | AB25: 使用料（税抜） | AM25: 消費税相当額(10%) | AU25: 請求額
B27: 楽曲名 | E27: =IF(広告展開利用申込書!$G$18="","",広告展開利用申込書!$G$18) | AB27: =AU22 -> 0 | AJ27: 円 | AK27: ＋ | AM27: =AB27*0.1 -> 0 | AS27: 円 | AT27: ＝ | AU27: =AB27+AM27 -> 0 | AZ27: 円
B29: 作品コード | E29: =IF(広告展開利用申込書!$G$21="","",広告展開利用申込書!$G$21) | N29: 詞曲 | Q29: =IF(広告展開利用申込書!G22="","",広告展開利用申込書!G22) | T29: 原訳区分 | W29: =IF(広告展開利用申込書!G23="","",広告展開利用申込書!G23)
AB31: 請求日 | AS31: =IF(広告展開利用申込書!V20="","",広告展開利用申込書!V20)
A32: 利用内容
A33: =IF(B2="上映","上映開始日",IF(B2="演奏","演奏開始日","")) | F33: 複製個数 | J33: １回当たりの利用時間 | P33: =IF(B2="上映","主な上映場所",IF(B2="演奏","主な演奏場所","")) | AB33: 請求書番号
J34: 分 | M34: 秒 | AS34: 確認印 | AW34: 担当印
AB35: 請求額 | AO35: 円
A37: =IF(B2="上映","※複製個数は、上映用の媒体数又は上映するモニター数のいずれか多い方の数をご入力ください。",IF(B2="演奏","※複製個数は、演奏用の媒体数又は演奏する店舗数のいずれか多い方の数をご入力ください。",""))
A38: =IF(B2="上映","※上映用の媒体に複数曲を収録する場合にはあらかじめご連絡ください。",IF(B2="演奏","※演奏用の媒体に複数曲を収録する場合にはあらかじめご連絡ください。","")) | AB38: 一般社団法人日本音楽著作権協会 複製部
A39: =IF(B2="上映","※本書は、上映開始日の翌月の末日までにご提出ください。",IF(B2="演奏","※本書は、演奏開始日の翌月の末日までにご提出ください。","")) | AB39: 〒151-8540 東京都渋谷区上原3丁目6番12号
AB40: E-mail agm-ad@jasrac.or.jp | AZ40: =CONCATENATE(広告展開利用申込書!V28,IF(B2="上映","･A44",IF(B2="演奏","･A27",""))) -> 202507

Sheet ⑥店頭以外
F2: 店頭以外でのCM上映報告書兼請求明細書 | X2: =IF(AZ78<>"", "1/2", "") | AC2: 1 | AD2: 利用形態 | AO2: 上映期間 | AX2: ～
F3: （街頭ビジョン、交通機関、その他のデジタルサイネージ） | AD3: =IF(AG2="街頭ビジョン","ビジョン名",IF(AG2="デジタルサイネージ","サイネージ名",IF(AG2="電車内広告","路線名",IF(AG2="自動車内広告","サービス名","")))) | AO3: =IF(AG2="街頭ビジョン","1台当たりの回数",IF(AG2="デジタルサイネージ","1台当たりの回数",IF(AG2="電車内広告","1両当たりの回数",IF(AG2="自動車内広告","1台当たりの回数","")))) | AU3: 回 | AW3: 算定方法 | AZ3: =IF(AG2="","",IF(【非】式2!G122="","",【非】式2!H122))
A4: 一般社団法人 日本音楽著作権協会 御中 | AD4: 媒体費(円) | AO4: =IF(AG2="街頭ビジョン","モニター台数",IF(AG2="デジタルサイネージ","モニター台数",IF(AG2="電車内広告","1編成の車両数",IF(AG2="自動車内広告","自動車台数","")))) | AU4: =IF(AG2="街頭ビジョン","台",IF(AG2="デジタルサイネージ","台",IF(AG2="電車内広告","両",IF(AG2="自動車内広告","台","")))) | AW4: 上映回数 | AZ4: =IFERROR(IF(IF(AG2="電車内広告",AS5*AS4*AS3,AS4*AS3)=0,"",IF(AG2="電車内広告",AS5*AS4*AS3,AS4*AS3)),"") | BC4: 回
AD5: 公表URL | AO5: =IF(AG2="電車内広告","編成数","") | AU5: =IF(AG2="電車内広告","編成","") | AW5: 使用料 | AZ5: =IF(BD3="有",0,IF(AG2="","",IF(【非】式2!G122=0,0,【非】式2!G122))) | BC5: 円
B6: CM上映の利用内容が確定しましたので報告します。 | AC6: 2 | AD6: 利用形態 | AO6: 上映期間 | AX6: ～
A7: 報告日 | O7: 許諾番号※ | AD7: =IF(AG6="街頭ビジョン","ビジョン名",IF(AG6="デジタルサイネージ","サイネージ名",IF(AG6="電車内広告","路線名",IF(AG6="自動車内広告","サービス名","")))) | AO7: =IF(AG6="街頭ビジョン","1台当たりの回数",IF(AG6="デジタルサイネージ","1台当たりの回数",IF(AG6="電車内広告","1両当たりの回数",IF(AG6="自動車内広告","1台当たりの回数","")))) | AU7: 回 | AW7: 算定方法 | AZ7: =IF(AG6="","",IF(【非】式2!G123="","",【非】式2!H123))
AD8: 媒体費(円) | AO8: =IF(AG6="街頭ビジョン","モニター台数",IF(AG6="デジタルサイネージ","モニター台数",IF(AG6="電車内広告","1編成の車両数",IF(AG6="自動車内広告","自動車台数","")))) | AU8: =IF(AG6="街頭ビジョン","台",IF(AG6="デジタルサイネージ","台",IF(AG6="電車内広告","両",IF(AG6="自動車内広告","台","")))) | AW8: 上映回数 | AZ8: =IFERROR(IF(IF(AG6="電車内広告",AS9*AS8*AS7,AS8*AS7)=0,"",IF(AG6="電車内広告",AS9*AS8*AS7,AS8*AS7)),"") | BC8: 回
B9: ※広告展開利用の許諾番号（メールで通知済みの数字6桁）をご入力ください。 | AD9: 公表URL | AO9: =IF(AG6="電車内広告","編成数","") | AU9: =IF(AG6="電車内広告","編成","") | AW9: 使用料 | AZ9: =IF(BD7="有",0,IF(AG6="","",IF(【非】式2!G123=0,0,【非】式2!G123))) | BC9: 円
AC10: 3 | AD10: 利用形態 | AO10: 上映期間 | AX10: ～
A11: ↓「広告展開利用申込書」シートの内容が反映されます。 | AD11: =IF(AG10="街頭ビジョン","ビジョン名",IF(AG10="デジタルサイネージ","サイネージ名",IF(AG10="電車内広告","路線名",IF(AG10="自動車内広告","サービス名","")))) | AO11: =IF(AG10="街頭ビジョン","1台当たりの回数",IF(AG10="デジタルサイネージ","1台当たりの回数",IF(AG10="電車内広告","1両当たりの回数",IF(AG10="自動車内広告","1台当たりの回数","")))) | AU11: 回 | AW11: 算定方法 | AZ11: =IF(AG10="","",IF(【非】式2!G124="","",【非】式2!H124))
A12: 申込者 | B12: 住所 | F12: =広告展開利用申込書!$G$6&" "&広告展開利用申込書!$G$7 | AD12: 媒体費(円) | AO12: =IF(AG10="街頭ビジョン","モニター台数",IF(AG10="デジタルサイネージ","モニター台数",IF(AG10="電車内広告","1編成の車両数",IF(AG10="自動車内広告","自動車台数","")))) | AU12: =IF(AG10="街頭ビジョン","台",IF(AG10="デジタルサイネージ","台",IF(AG10="電車内広告","両",IF(AG10="自動車内広告","台","")))) | AW12: 上映回数 | AZ12: =IFERROR(IF(IF(AG10="電車内広告",AS13*AS12*AS11,AS12*AS11)=0,"",IF(AG10="電車内広告",AS13*AS12*AS11,AS12*AS11)),"") | BC12: 回
AD13: 公表URL | AO13: =IF(AG10="電車内広告","編成数","") | AU13: =IF(AG10="電車内広告","編成","") | AW13: 使用料 | AZ13: =IF(BD11="有",0,IF(AG10="","",IF(【非】式2!G124=0,0,【非】式2!G124))) | BC13: 円
B14: 法人名 | F14: =IF(広告展開利用申込書!$G$8="","",広告展開利用申込書!$G$8) | AC14: 4 | AD14: 利用形態 | AO14: 上映期間 | AX14: ～
AD15: =IF(AG14="街頭ビジョン","ビジョン名",IF(AG14="デジタルサイネージ","サイネージ名",IF(AG14="電車内広告","路線名",IF(AG14="自動車内広告","サービス名","")))) | AO15: =IF(AG14="街頭ビジョン","1台当たりの回数",IF(AG14="デジタルサイネージ","1台当たりの回数",IF(AG14="電車内広告","1両当たりの回数",IF(AG14="自動車内広告","1台当たりの回数","")))) | AU15: 回 | AW15: 算定方法 | AZ15: =IF(AG14="","",IF(【非】式2!G125="","",【非】式2!H125))
B16: 部署名 | F16: =IF(広告展開利用申込書!G10="","",広告展開利用申込書!G10) | O16: 担当者名 | R16: =IF(広告展開利用申込書!G11="","",広告展開利用申込書!G11) | AD16: 媒体費(円) | AO16: =IF(AG14="街頭ビジョン","モニター台数",IF(AG14="デジタルサイネージ","モニター台数",IF(AG14="電車内広告","1編成の車両数",IF(AG14="自動車内広告","自動車台数","")))) | AU16: =IF(AG14="街頭ビジョン","台",IF(AG14="デジタルサイネージ","台",IF(AG14="電車内広告","両",IF(AG14="自動車内広告","台","")))) | AW16: 上映回数 | AZ16: =IFERROR(IF(IF(AG14="電車内広告",AS17*AS16*AS15,AS16*AS15)=0,"",IF(AG14="電車内広告",AS17*AS16*AS15,AS16*AS15)),"") | BC16: 回
B17: TEL | F17: =IF(広告展開利用申込書!$G$12="","",広告展開利用申込書!$G$12) | O17: 携帯電話 | R17: =IF(広告展開利用申込書!G13="","",広告展開利用申込書!G13) | AD17: 公表URL | AO17: =IF(AG14="電車内広告","編成数","") | AU17: =IF(AG14="電車内広告","編成","") | AW17: 使用料 | AZ17: =IF(BD15="有",0,IF(AG14="","",IF(【非】式2!G125=0,0,【非】式2!G125))) | BC17: 円
B18: E-mail | F18: =IF(広告展開利用申込書!G14="","",広告展開利用申込書!G14) | AC18: 5 | AD18: 利用形態 | AO18: 上映期間 | AX18: ～
A19: 広告の内容 | B19: 広告主名 | F19: =IF(広告展開利用申込書!$G$16="","",広告展開利用申込書!$G$16) | AD19: =IF(AG18="街頭ビジョン","ビジョン名",IF(AG18="デジタルサイネージ","サイネージ名",IF(AG18="電車内広告","路線名",IF(AG18="自動車内広告","サービス名","")))) | AO19: =IF(AG18="街頭ビジョン","1台当たりの回数",IF(AG18="デジタルサイネージ","1台当たりの回数",IF(AG18="電車内広告","1両当たりの回数",IF(AG18="自動車内広告","1台当たりの回数","")))) | AU19: 回 | AW19: 算定方法 | AZ19: =IF(AG18="","",IF(【非】式2!G126="","",【非】式2!H126))
AD20: 媒体費(円) | AO20: =IF(AG18="街頭ビジョン","モニター台数",IF(AG18="デジタルサイネージ","モニター台数",IF(AG18="電車内広告","1編成の車両数",IF(AG18="自動車内広告","自動車台数","")))) | AU20: =IF(AG18="街頭ビジョン","台",IF(AG18="デジタルサイネージ","台",IF(AG18="電車内広告","両",IF(AG18="自動車内広告","台","")))) | AW20: 上映回数 | AZ20: =IFERROR(IF(IF(AG18="電車内広告",AS21*AS20*AS19,AS20*AS19)=0,"",IF(AG18="電車内広告",AS21*AS20*AS19,AS20*AS19)),"") | BC20: 回
B21: 商品名 | F21: =IF(広告展開利用申込書!$G$17="","",広告展開利用申込書!$G$17) | AD21: 公表URL | AO21: =IF(AG18="電車内広告","編成数","") | AU21: =IF(AG18="電車内広告","編成","") | AW21: 使用料 | AZ21: =IF(BD19="有",0,IF(AG18="","",IF(【非】式2!G126=0,0,【非】式2!G126))) | BC21: 円
AC22: 6 | AD22: 利用形態 | AO22: 上映期間 | AX22: ～
B23: 楽曲名 | F23: =IF(広告展開利用申込書!$G$18="","",広告展開利用申込書!$G$18) | AD23: =IF(AG22="街頭ビジョン","ビジョン名",IF(AG22="デジタルサイネージ","サイネージ名",IF(AG22="電車内広告","路線名",IF(AG22="自動車内広告","サービス名","")))) | AO23: =IF(AG22="街頭ビジョン","1台当たりの回数",IF(AG22="デジタルサイネージ","1台当たりの回数",IF(AG22="電車内広告","1両当たりの回数",IF(AG22="自動車内広告","1台当たりの回数","")))) | AU23: 回 | AW23: 算定方法 | AZ23: =IF(AG22="","",IF(【非】式2!G127="","",【非】式2!H127))
AD24: 媒体費(円) | AO24: =IF(AG22="街頭ビジョン","モニター台数",IF(AG22="デジタルサイネージ","モニター台数",IF(AG22="電車内広告","1編成の車両数",IF(AG22="自動車内広告","自動車台数","")))) | AU24: =IF(AG22="街頭ビジョン","台",IF(AG22="デジタルサイネージ","台",IF(AG22="電車内広告","両",IF(AG22="自動車内広告","台","")))) | AW24: 上映回数 | AZ24: =IFERROR(IF(IF(AG22="電車内広告",AS25*AS24*AS23,AS24*AS23)=0,"",IF(AG22="電車内広告",AS25*AS24*AS23,AS24*AS23)),"") | BC24: 回
B25: 作品コード | F25: =IF(広告展開利用申込書!$G$21="","",広告展開利用申込書!$G$21) | O25: 詞曲 | R25: =IF(広告展開利用申込書!G22="","",広告展開利用申込書!G22) | U25: 原訳区分 | X25: =IF(広告展開利用申込書!G23="","",広告展開利用申込書!G23) | AD25: 公表URL | AO25: =IF(AG22="電車内広告","編成数","") | AU25: =IF(AG22="電車内広告","編成","") | AW25: 使用料 | AZ25: =IF(BD23="有",0,IF(AG22="","",IF(【非】式2!G127=0,0,【非】式2!G127))) | BC25: 円
AC26: 7 | AD26: 利用形態 | AO26: 上映期間 | AX26: ～
A27: 請求明細 | AD27: =IF(AG26="街頭ビジョン","ビジョン名",IF(AG26="デジタルサイネージ","サイネージ名",IF(AG26="電車内広告","路線名",IF(AG26="自動車内広告","サービス名","")))) | AO27: =IF(AG26="街頭ビジョン","1台当たりの回数",IF(AG26="デジタルサイネージ","1台当たりの回数",IF(AG26="電車内広告","1両当たりの回数",IF(AG26="自動車内広告","1台当たりの回数","")))) | AU27: 回 | AW27: 算定方法 | AZ27: =IF(AG26="","",IF(【非】式2!G128="","",【非】式2!H128))
AD28: 媒体費(円) | AO28: =IF(AG26="街頭ビジョン","モニター台数",IF(AG26="デジタルサイネージ","モニター台数",IF(AG26="電車内広告","1編成の車両数",IF(AG26="自動車内広告","自動車台数","")))) | AU28: =IF(AG26="街頭ビジョン","台",IF(AG26="デジタルサイネージ","台",IF(AG26="電車内広告","両",IF(AG26="自動車内広告","台","")))) | AW28: 上映回数 | AZ28: =IFERROR(IF(IF(AG26="電車内広告",AS29*AS28*AS27,AS28*AS27)=0,"",IF(AG26="電車内広告",AS29*AS28*AS27,AS28*AS27)),"") | BC28: 回
B29: 使用料合計 | K29: 消費税相当額（10％） | S29: 請求額 | AD29: 公表URL | AO29: =IF(AG26="電車内広告","編成数","") | AU29: =IF(AG26="電車内広告","編成","") | AW29: 使用料 | AZ29: =IF(BD27="有",0,IF(AG26="","",IF(【非】式2!G128=0,0,【非】式2!G128))) | BC29: 円
B30: =SUM(AZ5,AZ9,AZ13,AZ17,AZ21,AZ25,AZ29,AZ33,X49,X53,X57,X61,X65,X69,X73,X77,AZ45,AZ49,AZ53,AZ57,AZ61,AZ65,AZ69,AZ73,AZ77) -> 0 | H30: 円 | I30: + | K30: =ROUNDDOWN(B30*0.1,0) -> 0 | P30: 円 | Q30: ＝ | S30: =B30+K30 -> 0 | Y30: 円 | AC30: 8 | AD30: 利用形態 | AO30: 上映期間 | AX30: ～
AD31: =IF(AG30="街頭ビジョン","ビジョン名",IF(AG30="デジタルサイネージ","サイネージ名",IF(AG30="電車内広告","路線名",IF(AG30="自動車内広告","サービス名","")))) | AO31: =IF(AG30="街頭ビジョン","1台当たりの回数",IF(AG30="デジタルサイネージ","1台当たりの回数",IF(AG30="電車内広告","1両当たりの回数",IF(AG30="自動車内広告","1台当たりの回数","")))) | AU31: 回 | AW31: 算定方法 | AZ31: =IF(AG30="","",IF(【非】式2!G129="","",【非】式2!H129))
B32: 請求日 | R32: =IF(広告展開利用申込書!V20="","",広告展開利用申込書!V20) | AD32: 媒体費(円) | AO32: =IF(AG30="街頭ビジョン","モニター台数",IF(AG30="デジタルサイネージ","モニター台数",IF(AG30="電車内広告","1編成の車両数",IF(AG30="自動車内広告","自動車台数","")))) | AU32: =IF(AG30="街頭ビジョン","台",IF(AG30="デジタルサイネージ","台",IF(AG30="電車内広告","両",IF(AG30="自動車内広告","台","")))) | AW32: 上映回数 | AZ32: =IFERROR(IF(IF(AG30="電車内広告",AS33*AS32*AS31,AS32*AS31)=0,"",IF(AG30="電車内広告",AS33*AS32*AS31,AS32*AS31)),"") | BC32: 回
B33: 請求書番号 | AD33: 公表URL | AO33: =IF(AG30="電車内広告","編成数","") | AU33: =IF(AG30="電車内広告","編成","") | AW33: 使用料 | AZ33: =IF(BD31="有",0,IF(AG30="","",IF(【非】式2!G129=0,0,【非】式2!G129))) | BC33: 円
B34: 請求額 | N34: 円 | R34: 確認印 | V34: 担当印 | AW34: =IF(AZ78<>"", "1枚目合計", "") | AZ34: =IF(AZ78<>"", SUM(AZ5,AZ9,AZ13,AZ17,AZ21,AZ25,AZ29,AZ33), "")
AD35: ※ | AE35: 「公表URL」は「媒体費」が公表されているWEBサイトのURLをご入力ください。
AE36: 「媒体費」は、WEBサイト等で公表されている価格を指し、公表のない場合は回数での算定となります。
B37: 一般社団法人日本音楽著作権協会 複製部 | AD37: ※ | AE37: 上映用の媒体に複数曲を収録する場合にはあらかじめご連絡ください。
B38: 〒151-8540 東京都渋谷区上原3丁目6番12号 | AD38: ※ | AE38: 本書は、利用開始日を含む月の翌月末日までにご提出ください。
B39: E-mail agm-ad@jasrac.or.jp | BA39: =CONCATENATE(広告展開利用申込書!V28,"･A44") -> 202507･A44 | BE39: ※
G42: 店頭以外でのCM上映報告書兼請求明細書 | Z42: 2/2 | AC42: 17 | AD42: 利用形態 | AO42: 上映期間 | AX42: ～
G43: （街頭ビジョン、交通機関、その他のデジタルサイネージ） | AD43: =IF(AG42="街頭ビジョン","ビジョン名",IF(AG42="デジタルサイネージ","サイネージ名",IF(AG42="電車内広告","路線名",IF(AG42="自動車内広告","サービス名","")))) | AO43: =IF(AG42="街頭ビジョン","1台当たりの回数",IF(AG42="デジタルサイネージ","1台当たりの回数",IF(AG42="電車内広告","1両当たりの回数",IF(AG42="自動車内広告","1台当たりの回数","")))) | AU43: 回 | AW43: 算定方法 | AZ43: =IF(AG42="","",IF(【非】式2!G138="","",【非】式2!H138))
...

Sheet ⑦宣伝車
A3: =IF(B1="上映","広告宣伝車でのCM上映報告書兼請求明細書",IF(B1="演奏","広告宣伝車でのCM演奏報告書兼請求明細書",""))
A5: 一般社団法人 日本音楽著作権協会 御中
B7: =IF(B1="上映","広告宣伝車でのCM上映の利用内容が確定しましたので報告します。",IF(B1="演奏","広告宣伝車でのCM演奏の利用内容が確定しましたので報告します。",""))
A8: 報告日 | K8: 許諾番号※ | S8: 適法録音物 | AC8: 利用期間 | AL8: 走行地区 | AQ8: 1日の 演奏時間 | AU8: 使用料
B10: ※広告展開利用の許諾番号（メールで通知済みの数字6桁）をご入力ください。 | AB10: 1 | AG10: ～ | AT10: 分 | AU10: =【非】式2!N192 -> 0
A12: ↓「広告展開利用申込書」シートの内容が反映されます。 | AB12: 2 | AG12: ～ | AT12: 分 | AU12: =【非】式2!N193 -> 0
A13: 申込者 | B13: 住所 | E13: =広告展開利用申込書!$G$6&" "&広告展開利用申込書!$G$7
AB14: 3 | AG14: ～ | AT14: 分 | AU14: =【非】式2!N194 -> 0
B15: 法人名 | E15: =IF(広告展開利用申込書!$G$8="","",広告展開利用申込書!$G$8)
AB16: 4 | AG16: ～ | AT16: 分 | AU16: =【非】式2!N195 -> 0
B17: 部署名 | E17: =IF(広告展開利用申込書!G10="","",広告展開利用申込書!G10) | N17: 担当者名 | Q17: =IF(広告展開利用申込書!G11="","",広告展開利用申込書!G11)
B18: TEL | E18: =IF(広告展開利用申込書!$G$12="","",広告展開利用申込書!$G$12) | N18: 携帯電話 | Q18: =IF(広告展開利用申込書!G13="","",広告展開利用申込書!G13) | AB18: 5 | AG18: ～ | AT18: 分 | AU18: =【非】式2!N196 -> 0
B19: E-mail | E19: =IF(広告展開利用申込書!G14="","",広告展開利用申込書!G14)
A20: 広告の内容 | B20: 広告主名 | E20: =IF(広告展開利用申込書!$G$16="","",広告展開利用申込書!$G$16) | AB20: 6 | AG20: ～ | AT20: 分 | AU20: =【非】式2!N197 -> 0
B22: 商品名 | E22: =IF(広告展開利用申込書!$G$17="","",広告展開利用申込書!$G$17) | AB22: 7 | AG22: ～ | AT22: 分 | AU22: =【非】式2!N198 -> 0
B24: 楽曲名 | E24: =IF(広告展開利用申込書!$G$18="","",広告展開利用申込書!$G$18) | AB24: 8 | AG24: ～ | AT24: 分 | AU24: =【非】式2!N199 -> 0
B26: 作品コード | E26: =IF(広告展開利用申込書!$G$21="","",広告展開利用申込書!$G$21) | N26: 詞曲 | Q26: =IF(広告展開利用申込書!G22="","",広告展開利用申込書!G22) | T26: 原訳区分 | W26: =IF(広告展開利用申込書!G23="","",広告展開利用申込書!G23) | AC26: ※ | AD26: 走行地区が同じでも、複数台になる場合は分けてご入力ください。
AC27: =IF(B1="上映","※ 上映用の媒体に複数曲を収録する場合にはあらかじめご連絡ください。",IF(B1="演奏","※ 演奏用の媒体に複数曲を収録する場合にはあらかじめご連絡ください。",""))
AC28: ※ | AD28: 本書は、利用開始日を含む月の翌月末日までにご提出ください。
AQ30: =IF(広告展開利用申込書!V20="","",広告展開利用申込書!V20)
A31: 請求明細
AB32: 請求日 | AQ32: 確認印 | AU32: 担当印
B33: 使用料合計 | J33: 消費税相当額（10％） | R33: 請求額 | AB33: 請求書番号
B34: =IF(SUM(【非】式2!N192:N199)=0,"",SUM(【非】式2!N192:N199)) | G34: 円 | H34: + | J34: =IF(B34="","",ROUNDDOWN(B34*0.1,0)) | O34: 円 | P34: ＝ | R34: =IF(B34="","",B34+J34) | X34: 円 | AB34: 請求額 | AM34: 円
AA37: 一般社団法人日本音楽著作権協会 複製部
AA38: 〒151-8540 東京都渋谷区上原3丁目6番12号 | AX38: =CONCATENATE(広告展開利用申込書!V28,IF(B1="上映","･A44",IF(B1="演奏","･A27",""))) -> 202507
AA39: E-mail agm-ad@jasrac.or.jp

Sheet ③配信-計算シート
A2: ｲﾝﾀｰﾈｯﾄCM配信計算ｼｰﾄ
AB3: 1 減額が適用されない場合の使用料計算
A5: ・ | B5: 下表に配信回数等をご入力いただくことにより、「③配信」で算出される使用料の計算方法の確認や、シミュレーションが可能です。 | AC5: 単価 | AG5: 配信回数（千回単位） | AO5: 使用料 | AU5: 消費税相当額(10%) | BA5: 請求額
AC6: 50 | AF6: × | AG6: =N16 -> 0 | AN6: = | AO6: =ROUNDDOWN(AC6*AG6,0) -> 0 | AT6: 円 | AU6: =ROUNDDOWN(AO6*0.1,0) -> 0 | AZ6: 円 | BA6: =AO6+AU6 -> 0 | BF6: 円
A7: ・ | B7: 同一広告が複数サイトに掲載される場合は、サイトごとに使用料を算出する必要がありますのでご注意ください。 | BF7: ・・・(A)
A9: ・ | B9: 複数サイト分を確認したい場合は、１サイトごとにご確認ください。 | AB9: 2 配信回数による減額を適用した場合の使用料計算
A10: ・ | B10: 算出される使用料は当協会の管理率が100％の場合の使用料になります。 | AC10: 配信開始日の前日までに広告展開利用の申込みがあり、配信報告期間（３か月以内）の配信回数が10万回を超えた場合は、利用許諾条項第７条に基づく減額を適用します。
E14: 配信回数 | N14: 千回単位 | AC14: 配信回数区分 | AN14: 配信回数（千回単位） | AT14: 実質単価 | AV14: （減額率） | AZ14: 使用料小計
AC15: 100,000回まで | AN15: =IF(N16<=100,N16,100) -> 0 | AS15: × | AT15: 50 | AV15: 0 | AX15: = | AZ15: =AN15*AT15 -> 0 | BE15: 円
N16: =IF(R16<=1000,IF(R16=0,0,1000/1000),(ROUNDDOWN(R16,-3))/1000) -> 0 | R16: =SUM(E16:H17) -> 0 | AC16: 100,001～1,000,000回 | AN16: =IF(101<=N16,IF(N16<=1000,+N16-100,900),0) -> 0 | AS16: × | AT16: 45 | AV16: 0.1 | AX16: = | AZ16: =AN16*AT16 -> 0 | BE16: 円
AC17: 1,000,001～5,000,000回 | AN17: =IF(N16>=1001,IF(N16<=5000,N16-1000,4000),0) -> 0 | AS17: × | AT17: 40 | AV17: 0.2 | AX17: = | AZ17: =AN17*AT17 -> 0 | BE17: 円
E18: こちらは1サイトあたりの使用料を試算いただくための計算シートです。 | AC18: 5,000,001～10,000,000回 | AN18: =IF(N16>=5001,IF(N16<=10000,N16-5000,5000),0) -> 0 | AS18: × | AT18: 35 | AV18: 0.3 | AX18: = | AZ18: =AN18*AT18 -> 0 | BE18: 円
E19: ご報告いただく際は「③配信」をご利用ください。 | AC19: 10,000,001～20,000,000回 | AN19: =IF(N16>=10001,IF(N16<=20000,N16-10000,10000),0) -> 0 | AS19: × | AT19: 30 | AV19: 0.4 | AX19: = | AZ19: =AN19*AT19 -> 0 | BE19: 円
AC20: 20,000,001回以上 | AN20: =IF(N16>=20001,+N16-20000,0) -> 0 | AS20: × | AT20: 25 | AV20: 0.5 | AX20: = | AZ20: =AN20*AT20 -> 0 | BE20: 円
AN21: 減額後の使用料 | AT21: 消費税相当額(10%) | AZ21: 減額後の請求額
AN22: =SUM(AZ15:AZ20) -> 0 | AS22: 円 | AT22: =ROUNDDOWN(AN22*0.1,0) -> 0 | AY22: 円 | AZ22: =AN22+AT22 -> 0 | BE22: 円
BF23: ・・・(B)
AB26: 3 配信回数の報告期限までの報告による減額を適用した場合の使用料計算
AC27: 配信報告期間を3か月以内とした、正確な報告を配信報告期間終了日の2か月後の末日までに行った場合は、利用許諾条項第8条に基づく減額を適用します。
AC30: ア （A)に適用した場合
AE31: 使用料 （A) | AL31: 減額 | AO31: 5％減額使用料 | AU31: 消費税相当額(10%) | BA31: 5％減額請求額
AE32: =AO6 -> 0 | AJ32: 円 | AK32: × | AL32: 0.95 | AN32: = | AO32: =ROUNDDOWN(AE32*AL32,0) -> 0 | AT32: 円 | AU32: =ROUNDDOWN(AO32*0.1,0) -> 0 | AZ32: 円 | BA32: =AO32+AU32 -> 0 | BF32: 円
BF33: ・・・(C)
AC35: イ （B)に適用した場合
AE36: 使用料 （B) | AL36: 減額 | AO36: 5％減額使用料 | AU36: 消費税相当額(10%) | BA36: 5％減額請求額
AE37: =AN22 -> 0 | AJ37: 円 | AK37: × | AL37: 0.95 | AN37: = | AO37: =ROUNDDOWN(AE37*AL37,0) -> 0 | AT37: 円 | AU37: =ROUNDDOWN(AO37*0.1,0) -> 0 | AZ37: 円 | BA37: =AO37+AU37 -> 0 | BF37: 円
BF38: ・・・(D)
AC40: ※算定した金額が5,000円に満たない場合の使用料は、5,000円（税別）となります。
AC41: ※請求額は、2及び3の減額計算の適不適の確認後に確定します。
BB42: =広告展開利用申込書!V28 -> 202507

Sheet ⑥店頭以外-計算シート
A1: 店頭以外（街頭ビジョン、交通機関、その他のデジタルサイネージ）でのCM上映計算シート
A3: ・下表に上映回数等ご入力いただくことにより、「⑥店頭以外」で算出される使用料の計算方法の確認や、シミュレーションが可能です。
A4: ・「街頭ビジョン・デジタルサイネージ」、「電車内広告」、「自動車内広告」に分かれておりますので、該当する欄にご入力ください。
AV6: こちらは１媒体あたりの使用料を試算いただくためのシートです。
M7: 上映回数による使用料計算 | AV7: ご報告いただく際は「⑥店頭以外」シートをご利用ください。
A8: １．街頭ビジョン・デジタルサイネージ | M8: 上映回数 | R8: =IF(H12="不明","",IF(H10="不明","",IF(H12*H10=0,"",H12*H10))) | W8: 回 | Z8: =IF(H12="不明","",IF(H10="不明","",IF(H12="","",IF(H10="","","( "&H12&"台"&" × "&H10&"回 )")))) | AK8: ①媒体費×5% （または最低使用料 ※2） | AR8: =IF(H14=0,"",MAX(ROUNDDOWN(H14*0.05,0),97200)) | AV8: 円
M9: 参酌回数 | R9: =AC14 | W9: 回相当
A10: モニター1台あたりの 上映回数 | K10: 回 | M10: 内訳 | Y10: (係数) | AK10: ②上映回数による使用料 | AR10: =AA16 | AV10: 円
M11: 1～100回 | R11: =IF(R8="","",IF(R8<100,R8,100)) | W11: 回 | Y11: =IF(H10="","× 90%",IF(H10<11,"× 100%","× 90%")) -> × 90% | AC11: =IF(R11="","",IF(R11<11,R11,IF(R11<100,ROUNDDOWN(R11*0.9,0),90))) | AG11: 回
A12: 1か所あたりの モニター台数 | K12: 台 | M12: 101～1000回 | R12: =IF(R8="","",IF(R8<101,"",IF(R8<1001,R8-100,900))) | W12: 回 | Y12: × 80% | AC12: =IF(R12="","",IF(R12<1000,ROUNDDOWN(R12*0.8,0),720)) | AG12: 回
M13: 1001回～ | R13: =IF(R8="","",IF(R8<1001,"",R8-1000)) | W13: 回 | Y13: ⇒ | AC13: =IF(R13="","",ROUNDDOWN(R13/1000,0)*10+IF(ROUNDDOWN((R13-ROUNDDOWN(R13/1000,0)*1000)*0.8,0)<=9,ROUNDDOWN((R13-ROUNDDOWN(R13/1000,0)*1000)*0.8,0),10)) | AG13: 回 | AI13: ※1 | AK13: １．街頭ビジョン・デジタルサイネージ 請求額（①か②のいずれか少ない額）
A14: 公表されている媒体費 | K14: 円 | Y14: 合計 | AC14: =IF(SUM(AC11:AF13)=0,"",SUM(AC11:AF13)) | AG14: 回
M15: 単価 | Q15: × | S15: 参酌回数 | Y15: × | AA15: ②上映回数による使用料(税抜) | AK15: （使用料・税抜） | AO15: (消費税) | AR15: (合計・税込）
M16: 120 | S16: =AC14 | AA16: =IF(S16="","",M16*S16) | AG16: 円 | AK16: =IF(H10="不明",AR8,IF(AA16="","",IF(MIN(AA16,AR8)=0,"",MIN(AA16,AR8)))) | AN16: 円 | AO16: =IF(AK16="","",ROUNDDOWN(AK16*0.1,0)) | AQ16: 円 | AR16: =IF(AK16="","",AK16+AO16) | AV16: 円
A19: ２．電車内広告 | M19: 上映回数 | R19: =IF(H25="不明","",IF(H21="不明","",IF(H23="不明","",IF(H23*H21*H25=0,"",H23*H21*H25)))) | W19: 回 | Z19: =IF(H25="不明","",IF(H21="不明","",IF(H23="不明","",IF(H23="","",IF(H21="","",IF(H25="","","( "&H23&"両"&" × "&H21&"回"&" × "&H25&"編成 )")))))) | AK19: ①媒体費×5% （または最低使用料 ※2） | AR19: =IF(H27=0,"",MAX(ROUNDDOWN(H27*0.05,0),97200*48/120)) | AV19: 円
M20: 参酌回数 | R20: =AC25 | W20: 回相当
A21: 1両あたりの上映回数 | K21: 回 | M21: 内訳 | Y21: (係数) | AK21: ②上映回数による使用料 | AR21: =AA27 | AV21: 円
M22: 1～100回 | R22: =IF(R19="","",IF(R19<100,R19,100)) | W22: 回 | Y22: =IF(H21="","× 90%",IF(H21<11,"× 100%","× 90%")) -> × 90% | AC22: =IF(R22="","",IF(R22<11,R22,IF(R22<100,ROUNDDOWN(R22*0.9,0),90))) | AG22: 回
A23: 1編成あたりの車両数 | K23: 両 | M23: 101～1000回 | R23: =IF(R19="","",IF(R19<101,"",IF(R19<1001,R19-100,900))) | W23: 回 | Y23: × 80% | AC23: =IF(R23="","",IF(R23<1000,ROUNDDOWN(R23*0.8,0),720)) | AG23: 回
M24: 1001回～ | R24: =IF(R19="","",IF(R19<1001,"",R19-1000)) | W24: 回 | Y24: ⇒ | AC24: =IF(R24="","",ROUNDDOWN(R24/1000,0)*10+IF(ROUNDDOWN((R24-ROUNDDOWN(R24/1000,0)*1000)*0.8,0)<=9,ROUNDDOWN((R24-ROUNDDOWN(R24/1000,0)*1000)*0.8,0),10)) | AG24: 回 | AI24: ※1 | AK24: ２．電車内広告 請求額 （①か②のいずれか少ない額）
A25: 編成数 | K25: 編成 | Y25: 合計 | AC25: =IF(SUM(AC22:AF24)=0,"",SUM(AC22:AF24)) | AG25: 回
M26: 単価※3 | Q26: × | S26: 参酌回数 | Y26: × | AA26: ②上映回数による使用料(税抜) | AK26: （使用料・税抜） | AO26: (消費税) | AR26: (合計・税込）
A27: 公表されている媒体費 | K27: 円 | M27: 48 | S27: =AC25 | AA27: =IF(S27="","",M27*S27) | AG27: 円 | AK27: =IF(MIN(AA27,AR19)=0,"",MIN(AA27,AR19)) | AN27: 円 | AO27: =IF(AK27="","",ROUNDDOWN(AK27*0.1,0)) | AQ27: 円 | AR27: =IF(AK27="","",AK27+AO27) | AV27: 円
M28: ※3 1両あたりモニター1台、定員数200名未満とする
A31: ３．自動車内広告 | M31: 上映回数 | R31: =IF(H35="不明","",IF(H33="不明","",IF(H35*H33=0,"",H35*H33))) | W31: 回 | Z31: =IF(H35="不明","",IF(H33="不明","",IF(H35="","",IF(H33="","","( "&H35&"台"&" × "&H33&"回 )")))) | AK31: ①媒体費×5% （または最低使用料 ※2） | AR31: =IF(H37=0,"",MAX(ROUNDDOWN(H37*0.05,0),97200*24/120)) | AV31: 円
M32: 参酌回数 | R32: =AC37 | W32: 回相当
A33: 1台あたりの上映回数 | K33: 回 | M33: 内訳 | Y33: (係数) | AK33: ②上映回数による使用料 | AR33: =AA39 | AV33: 円
M34: 1～100回 | R34: =IF(R31="","",IF(R31<100,R31,100)) | W34: 回 | Y34: =IF(H33="","× 90%",IF(H33<11,"× 100%","× 90%")) -> × 90% | AC34: =IF(R34="","",IF(R34<11,R34,IF(R34<100,ROUNDDOWN(R34*0.9,0),90))) | AG34: 回
A35: 自動車台数 | K35: 台 | M35: 101～1000回 | R35: =IF(R31="","",IF(R31<101,"",IF(R31<1001,R31-100,900))) | W35: 回 | Y35: × 80% | AC35: =IF(R35="","",IF(R35<1000,ROUNDDOWN(R35*0.8,0),720)) | AG35: 回
M36: 1001回～ | R36: =IF(R31="","",IF(R31<1001,"",R31-1000)) | W36: 回 | Y36: ⇒ | AC36: =IF(R36="","",ROUNDDOWN(R36/1000,0)*10+IF(ROUNDDOWN((R36-ROUNDDOWN(R36/1000,0)*1000)*0.8,0)<=9,ROUNDDOWN((R36-ROUNDDOWN(R36/1000,0)*1000)*0.8,0),10)) | AG36: 回 | AI36: ※1 | AK36: ３．自動車内広告 請求額 （①か②のいずれか少ない額）
A37: 公表されている媒体費 | K37: 円 | Y37: 合計 | AC37: =IF(SUM(AC34:AF36)=0,"",SUM(AC34:AF36)) | AG37: 回
M38: 単価※4 | Q38: × | S38: 参酌回数 | Y38: × | AA38: ②上映回数による使用料(税抜) | AK38: （使用料・税抜） | AO38: (消費税) | AR38: (合計・税込）
M39: 24 | S39: =AC37 | AA39: =IF(S39="","",M39*S39) | AG39: 円 | AK39: =IF(MIN(AA39,AR31)=0,"",MIN(AA39,AR31)) | AN39: 円 | AO39: =IF(AK39="","",ROUNDDOWN(AK39*0.1,0)) | AQ39: 円 | AR39: =IF(AK39="","",AK39+AO39) | AV39: 円
M40: ※4 1台あたりモニター1台、定員数100名未満とする（最低区分）
A42: ※1 上映回数1,000回を超える分について | AA42: ※2 最低使用料について
A43: 1,000回までを超えるごとに、10回相当を加算します。 | AA43: 1回当たりの上映単価×1000回分(参酌回数 810回相当)が
A44: ただし1,000回に満たない回数×80%が10回相当未満の | AA44: 最低使用料となります。
A45: 場合は、その回数相当を加算します。 | AT45: =広告展開利用申込書!V28 -> 202507

Sheet 【非】式
A1: 別紙1-1 | B1: テレビ | C1: 徴収率 | D1: 類 | E1: 単価
C2: 1 | D2: 1類 | E2: 12000
D3: 2類 | E3: 8400
D4: 3類 | E4: 7200
D5: 4類 | E5: 4800
D6: 5類 | E6: 3600
D7: 6類 | E7: 3000
A10: 別紙1-2 | B10: ラジオ | C10: 徴収率 | D10: 類 | E10: 単価
C11: 1 | D11: 1類 | E11: 5000
D12: 2類 | E12: 3500
D13: 3類 | E13: 3000
D14: 4類 | E14: 2000
D15: 5類 | E15: 1500
D16: 6類 | E16: 1250
A21: 別紙2の徴収率計算
A22: 管理率の計算 | D22: 演奏 | E22: 録音 | F22: 合計
C23: 徴収比率 | D23: 0.85 | E23: 0.15 | F23: =SUM(D23:E23) -> 1
C24: 管理率 | D24: 1 | E24: 1
C25: 徴収率 | D25: =D23*D24 -> 0.85 | E25: =E23*E24 -> 0.15 | F25: =ROUNDDOWN(SUM(D25:E25),4) -> 1
A29: 別紙2-1 | B29: 配信 | C29: =F25 -> 1 | D29: 適用使用料 | E29: 使用料（税抜） | F29: 使用料(税込）
D30: A | E30: =TRUNC('③配信-計算シート'!AO6*C29) -> 0 | F30: =TRUNC(E30*1.1) -> 0
D31: B | E31: =TRUNC('③配信-計算シート'!AN22*C29) -> 0 | F31: =TRUNC(E31*1.1) -> 0
D32: C | E32: =TRUNC('③配信-計算シート'!AO32*C29) -> 0 | F32: =TRUNC(E32*1.1) -> 0
D33: D | E33: =TRUNC('③配信-計算シート'!AO37*C29) -> 0 | F33: =TRUNC(E33*1.1) -> 0
D34: 最低使用料 | E34: 5000 | F34: =TRUNC(E34*1.1) -> 5500
A39: 別紙2 | B39: 配信 | C39: =F25 -> 1
A40: 配信回数 | B40: 千回単位 | C40: 単価 | D40: 税抜使用料（無無） | E40: 税抜使用料（無有） | F40: 税抜使用料（有無） | G40: 税抜使用料（有有） | H40: 徴収率 | I40: 確定税抜使用料
A41: =IF(③配信!BF4="",0,③配信!BF4) -> 0 | B41: =IF(A41<=1000,IF(A41=0,0,1000/1000),(ROUNDDOWN(A41,-3))/1000) -> 0 | C41: 50 | D41: =ROUNDDOWN(B41*C41*H41,0) -> 0 | E41: =ROUNDDOWN(ROUNDDOWN(B41*C41*H41,3)*0.95,0) -> 0 | F41: =ROUNDDOWN((IF(B41<=100,B41,100)*50+IF(101<=B41,IF(B41<=1000,B41-100,900),0)*45+IF(B41>=1001,IF(B41<=5000,B41-1000,4000),0)*40+IF(B41>=5001,IF(B41<=10000,B41-5000,5000),0)*35+IF(B41>=10001,IF(B41<=20000,B41-10000,10000),0)*30+IF(B41>=20001,B41-20000,0)*25)*H41,0) -> 0 | G41: =ROUNDDOWN(ROUNDDOWN((IF(B41<=100,B41,100)*50+IF(101<=B41,IF(B41<=1000,B41-100,900),0)*45+IF(B41>=1001,IF(B41<=5000,B41-1000,4000),0)*40+IF(B41>=5001,IF(B41<=10000,B41-5000,5000),0)*35+IF(B41>=10001,IF(B41<=20000,B41-10000,10000),0)*30+IF(B41>=20001,B41-20000,0)*25)*H41,3)*0.95,0) -> 0 | H41: =$F$25 -> 1 | I41: =IF(③配信!AZ2="適用",IF(③配信!BG2="適用",G41,F41),IF(③配信!BG2="適用",E41,D41)) -> 0 | J41: 1 | K41: 1
A42: =IF(③配信!BF9="",0,③配信!BF9) -> 0 | B42: =IF(A42<=1000,IF(A42=0,0,1000/1000),(ROUNDDOWN(A42,-3))/1000) -> 0 | C42: 50 | D42: =ROUNDDOWN(B42*C42*H42,0) -> 0 | E42: =ROUNDDOWN(ROUNDDOWN(B42*C42*H42,3)*0.95,0) -> 0 | F42: =ROUNDDOWN((IF(B42<=100,B42,100)*50+IF(101<=B42,IF(B42<=1000,B42-100,900),0)*45+IF(B42>=1001,IF(B42<=5000,B42-1000,4000),0)*40+IF(B42>=5001,IF(B42<=10000,B42-5000,5000),0)*35+IF(B42>=10001,IF(B42<=20000,B42-10000,10000),0)*30+IF(B42>=20001,B42-20000,0)*25)*H42,0) -> 0 | G42: =ROUNDDOWN(ROUNDDOWN((IF(B42<=100,B42,100)*50+IF(101<=B42,IF(B42<=1000,B42-100,900),0)*45+IF(B42>=1001,IF(B42<=5000,B42-1000,4000),0)*40+IF(B42>=5001,IF(B42<=10000,B42-5000,5000),0)*35+IF(B42>=10001,IF(B42<=20000,B42-10000,10000),0)*30+IF(B42>=20001,B42-20000,0)*25)*H42,3)*0.95,0) -> 0 | H42: =$F$25 -> 1 | I42: =IF(③配信!AZ7="適用",IF(③配信!BG7="適用",G42,F42),IF(③配信!BG7="適用",E42,D42)) -> 0 | J42: 2
A43: =IF(③配信!BF14="",0,③配信!BF14) -> 0 | B43: =IF(A43<=1000,IF(A43=0,0,1000/1000),(ROUNDDOWN(A43,-3))/1000) -> 0 | C43: 50 | D43: =ROUNDDOWN(B43*C43*H43,0) -> 0 | E43: =ROUNDDOWN(ROUNDDOWN(B43*C43*H43,3)*0.95,0) -> 0 | F43: =ROUNDDOWN((IF(B43<=100,B43,100)*50+IF(101<=B43,IF(B43<=1000,B43-100,900),0)*45+IF(B43>=1001,IF(B43<=5000,B43-1000,4000),0)*40+IF(B43>=5001,IF(B43<=10000,B43-5000,5000),0)*35+IF(B43>=10001,IF(B43<=20000,B43-10000,10000),0)*30+IF(B43>=20001,B43-20000,0)*25)*H43,0) -> 0 | G43: =ROUNDDOWN(ROUNDDOWN((IF(B43<=100,B43,100)*50+IF(101<=B43,IF(B43<=1000,B43-100,900),0)*45+IF(B43>=1001,IF(B43<=5000,B43-1000,4000),0)*40+IF(B43>=5001,IF(B43<=10000,B43-5000,5000),0)*35+IF(B43>=10001,IF(B43<=20000,B43-10000,10000),0)*30+IF(B43>=20001,B43-20000,0)*25)*H43,3)*0.95,0) -> 0 | H43: =$F$25 -> 1 | I43: =IF(③配信!AZ12="適用",IF(③配信!BG12="適用",G43,F43),IF(③配信!BG12="適用",E43,D43)) -> 0 | J43: 3
A44: =IF(③配信!BF19="",0,③配信!BF19) -> 0 | B44: =IF(A44<=1000,IF(A44=0,0,1000/1000),(ROUNDDOWN(A44,-3))/1000) -> 0 | C44: 50 | D44: =ROUNDDOWN(B44*C44*H44,0) -> 0 | E44: =ROUNDDOWN(ROUNDDOWN(B44*C44*H44,3)*0.95,0) -> 0 | F44: =ROUNDDOWN((IF(B44<=100,B44,100)*50+IF(101<=B44,IF(B44<=1000,B44-100,900),0)*45+IF(B44>=1001,IF(B44<=5000,B44-1000,4000),0)*40+IF(B44>=5001,IF(B44<=10000,B44-5000,5000),0)*35+IF(B44>=10001,IF(B44<=20000,B44-10000,10000),0)*30+IF(B44>=20001,B44-20000,0)*25)*H44,0) -> 0 | G44: =ROUNDDOWN(ROUNDDOWN((IF(B44<=100,B44,100)*50+IF(101<=B44,IF(B44<=1000,B44-100,900),0)*45+IF(B44>=1001,IF(B44<=5000,B44-1000,4000),0)*40+IF(B44>=5001,IF(B44<=10000,B44-5000,5000),0)*35+IF(B44>=10001,IF(B44<=20000,B44-10000,10000),0)*30+IF(B44>=20001,B44-20000,0)*25)*H44,3)*0.95,0) -> 0 | H44: =$F$25 -> 1 | I44: =IF(③配信!AZ17="適用",IF(③配信!BG17="適用",G44,F44),IF(③配信!BG17="適用",E44,D44)) -> 0 | J44: 4
A45: =IF(③配信!BF24="",0,③配信!BF24) -> 0 | B45: =IF(A45<=1000,IF(A45=0,0,1000/1000),(ROUNDDOWN(A45,-3))/1000) -> 0 | C45: 50 | D45: =ROUNDDOWN(B45*C45*H45,0) -> 0 | E45: =ROUNDDOWN(ROUNDDOWN(B45*C45*H45,3)*0.95,0) -> 0 | F45: =ROUNDDOWN((IF(B45<=100,B45,100)*50+IF(101<=B45,IF(B45<=1000,B45-100,900),0)*45+IF(B45>=1001,IF(B45<=5000,B45-1000,4000),0)*40+IF(B45>=5001,IF(B45<=10000,B45-5000,5000),0)*35+IF(B45>=10001,IF(B45<=20000,B45-10000,10000),0)*30+IF(B45>=20001,B45-20000,0)*25)*H45,0) -> 0 | G45: =ROUNDDOWN(ROUNDDOWN((IF(B45<=100,B45,100)*50+IF(101<=B45,IF(B45<=1000,B45-100,900),0)*45+IF(B45>=1001,IF(B45<=5000,B45-1000,4000),0)*40+IF(B45>=5001,IF(B45<=10000,B45-5000,5000),0)*35+IF(B45>=10001,IF(B45<=20000,B45-10000,10000),0)*30+IF(B45>=20001,B45-20000,0)*25)*H45,3)*0.95,0) -> 0 | H45: =$F$25 -> 1 | I45: =IF(③配信!AZ22="適用",IF(③配信!BG22="適用",G45,F45),IF(③配信!BG22="適用",E45,D45)) -> 0 | J45: 5
A46: =IF(③配信!BF29="",0,③配信!BF29) -> 0 | B46: =IF(A46<=1000,IF(A46=0,0,1000/1000),(ROUNDDOWN(A46,-3))/1000) -> 0 | C46: 50 | D46: =ROUNDDOWN(B46*C46*H46,0) -> 0 | E46: =ROUNDDOWN(ROUNDDOWN(B46*C46*H46,3)*0.95,0) -> 0 | F46: =ROUNDDOWN((IF(B46<=100,B46,100)*50+IF(101<=B46,IF(B46<=1000,B46-100,900),0)*45+IF(B46>=1001,IF(B46<=5000,B46-1000,4000),0)*40+IF(B46>=5001,IF(B46<=10000,B46-5000,5000),0)*35+IF(B46>=10001,IF(B46<=20000,B46-10000,10000),0)*30+IF(B46>=20001,B46-20000,0)*25)*H46,0) -> 0 | G46: =ROUNDDOWN(ROUNDDOWN((IF(B46<=100,B46,100)*50+IF(101<=B46,IF(B46<=1000,B46-100,900),0)*45+IF(B46>=1001,IF(B46<=5000,B46-1000,4000),0)*40+IF(B46>=5001,IF(B46<=10000,B46-5000,5000),0)*35+IF(B46>=10001,IF(B46<=20000,B46-10000,10000),0)*30+IF(B46>=20001,B46-20000,0)*25)*H46,3)*0.95,0) -> 0 | H46: =$F$25 -> 1 | I46: =IF(③配信!AZ27="適用",IF(③配信!BG27="適用",G46,F46),IF(③配信!BG27="適用",E46,D46)) -> 0 | J46: 6
A47: =IF(③配信!BF34="",0,③配信!BF34) -> 0 | B47: =IF(A47<=1000,IF(A47=0,0,1000/1000),(ROUNDDOWN(A47,-3))/1000) -> 0 | C47: 50 | D47: =ROUNDDOWN(B47*C47*H47,0) -> 0 | E47: =ROUNDDOWN(ROUNDDOWN(B47*C47*H47,3)*0.95,0) -> 0 | F47: =ROUNDDOWN((IF(B47<=100,B47,100)*50+IF(101<=B47,IF(B47<=1000,B47-100,900),0)*45+IF(B47>=1001,IF(B47<=5000,B47-1000,4000),0)*40+IF(B47>=5001,IF(B47<=10000,B47-5000,5000),0)*35+IF(B47>=10001,IF(B47<=20000,B47-10000,10000),0)*30+IF(B47>=20001,B47-20000,0)*25)*H47,0) -> 0 | G47: =ROUNDDOWN(ROUNDDOWN((IF(B47<=100,B47,100)*50+IF(101<=B47,IF(B47<=1000,B47-100,900),0)*45+IF(B47>=1001,IF(B47<=5000,B47-1000,4000),0)*40+IF(B47>=5001,IF(B47<=10000,B47-5000,5000),0)*35+IF(B47>=10001,IF(B47<=20000,B47-10000,10000),0)*30+IF(B47>=20001,B47-20000,0)*25)*H47,3)*0.95,0) -> 0 | H47: =$F$25 -> 1 | I47: =IF(③配信!AZ32="適用",IF(③配信!BG32="適用",G47,F47),IF(③配信!BG32="適用",E47,D47)) -> 0 | J47: 7
A48: =IF(③配信!BF39="",0,③配信!BF39) -> 0 | B48: =IF(A48<=1000,IF(A48=0,0,1000/1000),(ROUNDDOWN(A48,-3))/1000) -> 0 | C48: 50 | D48: =ROUNDDOWN(B48*C48*H48,0) -> 0 | E48: =ROUNDDOWN(ROUNDDOWN(B48*C48*H48,3)*0.95,0) -> 0 | F48: =ROUNDDOWN((IF(B48<=100,B48,100)*50+IF(101<=B48,IF(B48<=1000,B48-100,900),0)*45+IF(B48>=1001,IF(B48<=5000,B48-1000,4000),0)*40+IF(B48>=5001,IF(B48<=10000,B48-5000,5000),0)*35+IF(B48>=10001,IF(B48<=20000,B48-10000,10000),0)*30+IF(B48>=20001,B48-20000,0)*25)*H48,0) -> 0 | G48: =ROUNDDOWN(ROUNDDOWN((IF(B48<=100,B48,100)*50+IF(101<=B48,IF(B48<=1000,B48-100,900),0)*45+IF(B48>=1001,IF(B48<=5000,B48-1000,4000),0)*40+IF(B48>=5001,IF(B48<=10000,B48-5000,5000),0)*35+IF(B48>=10001,IF(B48<=20000,B48-10000,10000),0)*30+IF(B48>=20001,B48-20000,0)*25)*H48,3)*0.95,0) -> 0 | H48: =$F$25 -> 1 | I48: =IF(③配信!AZ37="適用",IF(③配信!BG37="適用",G48,F48),IF(③配信!BG37="適用",E48,D48)) -> 0 | J48: 8
A49: =IF(③配信!AA55="",0,③配信!AA55) -> 0 | B49: =IF(A49<=1000,IF(A49=0,0,1000/1000),(ROUNDDOWN(A49,-3))/1000) -> 0 | C49: 50 | D49: =ROUNDDOWN(B49*C49*H49,0) -> 0 | E49: =ROUNDDOWN(ROUNDDOWN(B49*C49*H49,3)*0.95,0) -> 0 | F49: =ROUNDDOWN((IF(B49<=100,B49,100)*50+IF(101<=B49,IF(B49<=1000,B49-100,900),0)*45+IF(B49>=1001,IF(B49<=5000,B49-1000,4000),0)*40+IF(B49>=5001,IF(B49<=10000,B49-5000,5000),0)*35+IF(B49>=10001,IF(B49<=20000,B49-10000,10000),0)*30+IF(B49>=20001,B49-20000,0)*25)*H49,0) -> 0 | G49: =ROUNDDOWN(ROUNDDOWN((IF(B49<=100,B49,100)*50+IF(101<=B49,IF(B49<=1000,B49-100,900),0)*45+IF(B49>=1001,IF(B49<=5000,B49-1000,4000),0)*40+IF(B49>=5001,IF(B49<=10000,B49-5000,5000),0)*35+IF(B49>=10001,IF(B49<=20000,B49-10000,10000),0)*30+IF(B49>=20001,B49-20000,0)*25)*H49,3)*0.95,0) -> 0 | H49: =$F$25 -> 1 | I49: =IF(③配信!U53="適用",IF(③配信!AB53="適用",G49,F49),IF(③配信!AB53="適用",E49,D49)) -> 0 | J49: 9 | K49: 2
A50: =IF(③配信!AA60="",0,③配信!AA60) -> 0 | B50: =IF(A50<=1000,IF(A50=0,0,1000/1000),(ROUNDDOWN(A50,-3))/1000) -> 0 | C50: 50 | D50: =ROUNDDOWN(B50*C50*H50,0) -> 0 | E50: =ROUNDDOWN(ROUNDDOWN(B50*C50*H50,3)*0.95,0) -> 0 | F50: =ROUNDDOWN((IF(B50<=100,B50,100)*50+IF(101<=B50,IF(B50<=1000,B50-100,900),0)*45+IF(B50>=1001,IF(B50<=5000,B50-1000,4000),0)*40+IF(B50>=5001,IF(B50<=10000,B50-5000,5000),0)*35+IF(B50>=10001,IF(B50<=20000,B50-10000,10000),0)*30+IF(B50>=20001,B50-20000,0)*25)*H50,0) -> 0 | G50: =ROUNDDOWN(ROUNDDOWN((IF(B50<=100,B50,100)*50+IF(101<=B50,IF(B50<=1000,B50-100,900),0)*45+IF(B50>=1001,IF(B50<=5000,B50-1000,4000),0)*40+IF(B50>=5001,IF(B50<=10000,B50-5000,5000),0)*35+IF(B50>=10001,IF(B50<=20000,B50-10000,10000),0)*30+IF(B50>=20001,B50-20000,0)*25)*H50,3)*0.95,0) -> 0 | H50: =$F$25 -> 1 | I50: =IF(③配信!U58="適用",IF(③配信!AB58="適用",G50,F50),IF(③配信!AB58="適用",E50,D50)) -> 0 | J50: 10
A51: =IF(③配信!AA65="",0,③配信!AA65) -> 0 | B51: =IF(A51<=1000,IF(A51=0,0,1000/1000),(ROUNDDOWN(A51,-3))/1000) -> 0 | C51: 50 | D51: =ROUNDDOWN(B51*C51*H51,0) -> 0 | E51: =ROUNDDOWN(ROUNDDOWN(B51*C51*H51,3)*0.95,0) -> 0 | F51: =ROUNDDOWN((IF(B51<=100,B51,100)*50+IF(101<=B51,IF(B51<=1000,B51-100,900),0)*45+IF(B51>=1001,IF(B51<=5000,B51-1000,4000),0)*40+IF(B51>=5001,IF(B51<=10000,B51-5000,5000),0)*35+IF(B51>=10001,IF(B51<=20000,B51-10000,10000),0)*30+IF(B51>=20001,B51-20000,0)*25)*H51,0) -> 0 | G51: =ROUNDDOWN(ROUNDDOWN((IF(B51<=100,B51,100)*50+IF(101<=B51,IF(B51<=1000,B51-100,900),0)*45+IF(B51>=1001,IF(B51<=5000,B51-1000,4000),0)*40+IF(B51>=5001,IF(B51<=10000,B51-5000,5000),0)*35+IF(B51>=10001,IF(B51<=20000,B51-10000,10000),0)*30+IF(B51>=20001,B51-20000,0)*25)*H51,3)*0.95,0) -> 0 | H51: =$F$25 -> 1 | I51: =IF(③配信!U63="適用",IF(③配信!AB63="適用",G51,F51),IF(③配信!AB63="適用",E51,D51)) -> 0 | J51: 11
