Workbook
Name オーディオ録音: 申込書!$CU$10:$CU$16
Name ビデオグラム: 申込書!$CU$2:$CU$8
Name 映画: 申込書!$CU$23
Name 演奏: 申込書!$CT$4
Name 掲載方法: 申込書!$CR$2:$CR$3
Name 掲載方法: #REF!
Name 出版等: 申込書!$CU$17:$CU$22
Name 上映: 申込書!$CT$2:$CT$3
Name 替歌利用: 申込書!$CP$2:$CP$3
Name 展開方法: 申込書!$CS$2:$CS$5
Name 展開方法: #REF!
Name 展示･掲示: 申込書!$CT$5
Name 配布など: 申込書!$CT$6:$CT$8
Name 放送利用: [1]申込書!$CM$2:$CM$3
Name 放送利用: 申込書!$CM$2:$CM$3
Name 訳詞利用: 申込書!$CO$2:$CO$3
Name 利用: 申込書!$CM$2:$CM$3
Name 利用サイト限定: 申込書!$CQ$2:$CQ$3
Name 利用形態: 申込書!$CT$2:$CT$8
Name 利用方法: 申込書!$CN$2:$CN$4
Name 利用方法: #REF!

Sheet 利用許諾条項
A1: 利用許諾条項
A2: （総則）
A3: 第1条 | B3: 一般社団法人日本音楽著作権協会（以下「甲」という。）と、甲の定める広告目的複製利用申込書（電磁的な方法によるものを含む。以下「申込書」という。）を提出した者（以下「乙」という。）との間の、甲が、広告目的で行う複製（広告に利用することを目的として、著作物を複製し、又はその複製物により頒布することをいう。以下同じ。）に係る著作権を管理する音楽著作物（以下「管理著作物」という。）の広告目的で行う複製に関する利用許諾契約（以下「本契約」という。）は、本利用許諾条項（本契約の内容とすることを目的として甲が準備したこの利用許諾条項をいう。以下同じ。）を内容とします。
A5: （利用許諾）
A6: 第2条 | B6: 甲は、乙が本利用許諾条項の定めを遵守することを条件として、乙に対し、申込書記載の範囲内において、広告に利用することを目的として、管理著作物を複製し、又はその複製物により頒布することを許諾します。この場合、甲は、乙に対し、広告目的複製利用許諾書（電磁的な方法によるものを含む。）を交付します。
A7: 2 | B7: 乙は、申込書記載の管理著作物について、申込書記載の利用形態に係る著作権の管理を甲に委託する者（以下「委託者」という。）から、本申込みに係る利用の前に当該管理著作物を利用することの同意（著作者人格権又は著作者の人格的利益を害しないことの確認を含む。）を得なければなりません。
A8: 3 | B8: 乙は、甲が前項の同意内容の確認のため証憑書類の提出を求めた場合は、これに応じなければなりません。
A9: 4 | B9: 第1項の規定による許諾は、いかなる意味においても管理著作物に係る権利の譲渡を一切含みません。
A11: （本契約に係る申込みの取消し）
A12: 第3条 | B12: 製作の中止その他の理由による本契約の申込み自体の取消しは、取消事由の発生後、乙が直ちにその理由を付した書面をもって通知し、甲がこれを承諾したときに限り認められます。
A14: （許諾番号等）
A15: 第4条 | B15: 乙は、第2条第1項に規定する許諾に基づき製作する複製物に、次に掲げる事項を表示しなければなりません（甲が表示を免除した場合を除く。）。
A16: (1) | B16: 甲の複製利用許諾の証として、甲の指定する箇所に「日本音楽著作権協会A-許諾番号」
B17: 又は「 A-許諾番号」
A18: (2) | B18: 甲の指定する箇所に乙の名称
A19: (3) | B19: 利用著作物の題号及び著作者名
A21: （使用料の支払義務）
A22: 第5条 | B22: 乙が、第2条第1項の利用許諾の対価として甲に支払う著作物使用料は、委託者が指定した金額に消費税相当額を加算した額とします。ただし、委託者が額を指定しないときは、甲の使用料規程に基づき、各利用形態に対応する規定により算定した額とします。
A23: 2 | B23: 乙は、甲に対し、前項に規定する著作物使用料を、請求書記載の発行日から30 日以内（甲が請求書において支払期限を指定する場合は、その指定した日まで。）に、甲の事務所に持参、送金又は甲が別途認める方法により支払わなければなりません。その支払費用は、乙の負担とします。
A25: （前受使用料）
A26: 第6条 | B26: 甲は、本利用許諾条項に定める乙の義務の確実な履行を担保するために必要と判断したときは、乙に対し、申込書の記載内容に基づき甲が算出した概算使用料（以下「前受使用料」という。）を申込書の提出と同時に甲に支払うことを、第2条第1項の許諾の条件とします。
A27: 2 | B27: 甲は、前項の前受使用料を第5条第1項に規定する使用料に充当します。この場合において、過払額が生じたときは、甲は、乙に対し、利息を付さずに当該過払額を返還するものとします。また、不足額が生じたときは、乙は、甲に対し、当該不足額をその請求書記載の発行日から30日以内（甲が請求書において支払期限を指定する場合は、その指定した日まで。）に甲の事務所に持参、送金又は甲が別途認める方法により支払うものとします。その支払費用は、乙の負担とします。
A29: （遅延損害金等）
A30: 第7条 | B30: 乙が、第5条の規定に違反して使用料の支払を遅滞したときは、乙は、甲に対し、支払期限の翌日から完済に至るまでの日数に応じ、当該使用料のほかに年率14.6％（1年を365日とする日割計算）相当額を遅延損害金として支払わなければなりません。
A31: 2 | B31: 乙の本契約違反により第三者に損害が生じたときは、乙がその責任を負わなければなりません。
A33: （製作する複製物の提出）
A34: 第8条 | B34: 乙は、甲が管理著作物の利用状況等を確認するために第2条第1項に規定する利用許諾に基づき製作する複製物の提出を求めたときは、速やかにこれを甲に提出しなければなりません。
A36: （法令の遵守）
A37: 第9条 | B37: 乙は、管理著作物の利用に当たり、著作者の意に反して管理著作物を変更、切除、その他の改変を加えること、著作者の名誉又は声望を害する方法により管理著作物を利用することなどによって、著作者人格権を侵害してはなりません。
A38: 2 | B38: 乙は、著作権法第96条に規定する複製権が第三者に帰属しているレコード（著作権法第2条第1項第5号に規定するレコードをいう。）を音源として、 第2条第1項の規定における複製を行うときは、乙の責任において、当該第三者の許諾を得なければなりません。
A39: 3 | B39: 乙は、本契約の成立に当たっては、前2項のほか関連する法令を遵守しなければなりません。
A41: （利用状況等調査の便宜供与義務）
A42: 第10条 | B42: 甲の職員又は甲の指定する者が管理著作物の利用状況等の調査のため、証憑書類等の閲覧を求めたときは、乙はこれに同意し、必要な便宜を与えなければなりません。
A43: 2 | B43: 甲は、本利用許諾に基づき乙等から開示を受けた情報を秘密として扱い、第三者に開示又は漏洩しないものとします。
A45: （許諾の取消し）
A46: 第11条 | B46: 甲は、複製物の製作前に、乙が本契約に違反したとき、又は違反するおそれがあると甲が合理的に判断したときは、乙に対し、催告することなく直ちに書面により第2条第1項の規定による許諾を取り消すことができるものとします。
A48: （期限の利益の喪失）
A49: 第12条 | B49: 乙は、次の各号のいずれかに該当したときは、何らの通知・催告がなくても、期限の利益を失い、本契約に基づいて甲に対して負担する一切の債務を直ちに履行しなければならなりません。
A50: (1) | B50: 手形・小切手を不渡りにし、租税滞納処分を受け、又は仮差押・仮処分・強制執行等の申立て、若しくは破産・民事再生・会社更生手続開始等の申立てがあったとき。
A51: (2) | B51: 営業を廃止し、又は合併によらないで解散したとき。
...

Sheet 申込書
CM1: 放送利用 | CN1: 利用方法 | CO1: 訳詞利用 | CP1: 替歌利用 | CQ1: 配信サイト限定 | CR1: 掲載方法 | CS1: 展開方法 | CT1: 利用形態 | CU1: 種別 | CV1: 製造数 | CW1: 規定文言
B2: 一般社団法人 日本音楽著作権協会 御中 | AF2: 請求日 | AJ2: =IF(V57>=1,IF(AC50="年 月 日","",YEAR(AC50)),"") | AN2: 年 | AO2: =IF(V57>=1,IF(AC50="年 月 日","",MONTH(AC50)),"") | AR2: 月 | AS2: =IF(V57>=1,IF(AC50="年 月 日","",DAY(AC50)),"") | AV2: 日 | AX2: 請求書№ | BB2: =IF(ACCESS貼付用!AI3="","",ACCESS貼付用!AI3) | CM2: 有 | CN2: 詞曲 | CO2: 有 | CP2: 有 | CQ2: 有 | CR2: ダウンロード不可 | CS2: 上映 | CT2: ビデオグラム | CU2: DVD | CV2: 無制限 | CW2: 映画を除く上映媒体は、使用料規程第7節ﾋﾞﾃﾞｵｸﾞﾗﾑ録音1商用複製(3)(1)及び(2)以外の目的で複製する場合ｲ音楽のﾋﾞﾃﾞｵｸﾞﾗﾑ以外のﾋﾞﾃﾞｵｸﾞﾗﾑ(ｲ)複製使用料相当額を使用料とし、製造数確定後別途申請とする。
B3: 広告目的複製利用申込書 | CM3: 無 | CN3: 曲のみ | CO3: 無 | CP3: 無 | CQ3: 無 | CR3: 限定なし | CS3: 演奏 | CT3: 映画 | CU3: Blu-ray | CW3: 映画を除く上映媒体は、使用料規程第7節ﾋﾞﾃﾞｵｸﾞﾗﾑ録音1商用複製(3)(1)及び(2)以外の目的で複製する場合ｲ音楽のﾋﾞﾃﾞｵｸﾞﾗﾑ以外のﾋﾞﾃﾞｵｸﾞﾗﾑ(ｲ)複製使用料相当額とする。
CN4: 詞のみ | CS4: 展示・掲示 | CT4: オーディオ録音 | CU4: HDD | CW4: 映画を除く上映媒体は、使用料規程第7節ﾋﾞﾃﾞｵｸﾞﾗﾑ録音1商用複製(3)(1)及び(2)以外の目的で複製する場合ｲ音楽のﾋﾞﾃﾞｵｸﾞﾗﾑ以外のﾋﾞﾃﾞｵｸﾞﾗﾑ(ｲ)複製使用料相当額●●円に貴社権利保有率を乗じた額とする。
B5: 貴協会が著作権を管理する下記の音楽著作物を、広告目的で行う複製に利用することについて、貴協会の定める利用許諾条項を承諾の上、申し込みます。 | AD5: 委託者から同意を得た利用の内容 | AE5: 放送 | AF5: 利用 媒体 | AJ5: テレビ | AL5: 地上波 | AR5: BS | AX5: CS | BD5: 有線 | BJ5: 利用 方法 | BP5: 利用 地域 | CS5: 配布など | CT5: 出版等 | CU5: HDCAM
CT6: ビデオグラム | CU6: フラッシュメモリー
AJ7: ラジオ | AL7: 地上波 | AR7: BS | AX7: CS | BD7: 有線 | BJ7: 利用 期間 | BV7: ～ | CT7: オーディオ録音 | CU7: その他（備考参照）
B8: お申込日 | CT8: 出版等 | CU8: 未定
B9: お申込者 | C9: 住所 | AF9: 備考 | CU9: その他
CU10: CD（CD-R）
AE11: 配信 | AF11: 利用サイト・ サービス名 など | AJ11: （ドロップダウンから選択してください） | BJ11: 利用 方法 | BP11: 掲載 方法 | BS11: ダウンロード不可 | CU11: CD-ROM
CU12: ICチップ
C13: 法人名 | BJ13: 利用 期間 | BV13: ～ | CU13: フラッシュメモリー
CU14: HDD
C15: 代表者名 | AF15: 備考 | CU15: その他（備考参照）
CU16: 未定
C17: 担当部署 | AE17: 上映/演奏/展示･掲示/配布など | AF17: 展開 方法 | AJ17: 名称 | AU17: 利用形態 | AY17: 種別 | BC17: 製造数 | BG17: 利用 方法 | BJ17: 利用期間 | BU17: 備考 | CU17: 展示物・掲示物
CU18: チラシ
C19: 担当者 | AU19: =IFERROR(CHOOSE(MATCH(AF19, {"演奏","展示・掲示"}, 0), "オーディオ録音", "出版等"), "") | AY19: =IF(AU19="映画","その他","") | BC19: =IF(AU19="映画","―","") | BO19: ～ | CU19: 新聞広告
CU20: 雑誌広告
C21: TEL | AU21: =IFERROR(CHOOSE(MATCH(AF21, {"演奏","展示・掲示"}, 0), "オーディオ録音", "出版等"), "") | AY21: =IF(AU21="映画","その他","") | BC21: =IF(AU21="映画","―","") | BO21: ～ | CU21: その他（備考参照）
C22: E-mail | CU22: 未定
AU23: =IFERROR(CHOOSE(MATCH(AF23, {"演奏","展示・掲示"}, 0), "オーディオ録音", "出版等"), "") | AY23: =IF(AU23="映画","その他","") | BC23: =IF(AU23="映画","―","") | BO23: ～ | CU23: その他
B24: 広告主 | C24: 法人名
AU25: =IFERROR(CHOOSE(MATCH(AF25, {"演奏","展示・掲示"}, 0), "オーディオ録音", "出版等"), "") | AY25: =IF(AU25="映画","その他","") | BC25: =IF(AU25="映画","―","") | BO25: ～
C26: 担当部署
AU27: =IFERROR(CHOOSE(MATCH(AF27, {"演奏","展示・掲示"}, 0), "オーディオ録音", "出版等"), "") | AY27: =IF(AU27="映画","その他","") | BC27: =IF(AU27="映画","―","") | BO27: ～
C28: 担当者
AU29: =IFERROR(CHOOSE(MATCH(AF29, {"演奏","展示・掲示"}, 0), "オーディオ録音", "出版等"), "") | AY29: =IF(AU29="映画","その他","") | BC29: =IF(AU29="映画","―","") | BO29: ～
C30: TEL
AU31: =IFERROR(CHOOSE(MATCH(AF31, {"演奏","展示・掲示"}, 0), "オーディオ録音", "出版等"), "") | AY31: =IF(AU31="映画","その他","") | BC31: =IF(AU31="映画","―","") | BO31: ～
B32: 広告する商品/ サービス名
AU33: =IFERROR(CHOOSE(MATCH(AF33, {"演奏","展示・掲示"}, 0), "オーディオ録音", "出版等"), "") | AY33: =IF(AU33="映画","その他","") | BC33: =IF(AU33="映画","―","") | BO33: ～
B36: 楽曲名
AU37: 分配先 | BN37: 使用料 | BW37: 分配種目 | CE37: E
B38: 作詞者 （訳詞者名） | AC38: 広告目的複製利用許諾を得たCMを放送・配信・上映・演奏する場合、別途展開方法ごとに、利用許諾手続きが必要となります。 | AU38: =IF(B49="","",B49) | BK38: 8/8 | BO38: =IF(LEN($V$49)<8,"",LEFT(RIGHT($V$49,8),1)) | BP38: =IF(LEN($V$49)<7,"",LEFT(RIGHT($V$49,7),1)) | BQ38: =IF(LEN($V$49)<6,"",LEFT(RIGHT($V$49,6),1)) | BR38: =IF(LEN($V$49)<5,"",LEFT(RIGHT($V$49,5),1)) | BS38: =IF(LEN($V$49)<4,"",LEFT(RIGHT($V$49,4),1)) | BT38: =IF(LEN($V$49)<3,"",LEFT(RIGHT($V$49,3),1)) | BU38: =IF(LEN($V$49)<2,"",LEFT(RIGHT($V$49,2),1)) | BV38: =IF(LEN($V$49)<1,"",LEFT(RIGHT($V$49,1),1)) | BW38: =IF(V57>=1,IF(AF19<>"","N35",IF(BM7<>"","N33",IF(BM13<>"","N34",""))),"")
B40: 作曲者 （編曲者名）
AC41: ♪♬♪♬♪♬♪♬♪♬♪♬♪♬♪♬♪♬♪♬♪♬♪♬♪♬♪♬♪♬♪♬♪♬ | AU41: =IF(B51="","",B51) | BK41: 8/8 | BO41: =IF(LEN($V$51)<8,"",LEFT(RIGHT($V$51,8),1)) | BP41: =IF(LEN($V$51)<7,"",LEFT(RIGHT($V$51,7),1)) | BQ41: =IF(LEN($V$51)<6,"",LEFT(RIGHT($V$51,6),1)) | BR41: =IF(LEN($V$51)<5,"",LEFT(RIGHT($V$51,5),1)) | BS41: =IF(LEN($V$51)<4,"",LEFT(RIGHT($V$51,4),1)) | BT41: =IF(LEN($V$51)<3,"",LEFT(RIGHT($V$51,3),1)) | BU41: =IF(LEN($V$51)<2,"",LEFT(RIGHT($V$51,2),1)) | BV41: =IF(B51="","",IF(LEN($V$51)<1,"",LEFT(RIGHT($V$51,1),1))) | BW41: =IF(BB2="", TEXT(AC50,"yymmdd")&"_"&TRIM(BW38)&"_"&TRIM(BY56), BB2&"_"&TEXT(AC50,"yymmdd")&"_"&TRIM(BW38)&"_"&TRIM(BY56) ) -> 年 月 日__
B42: 作品コード | T42: 訳詞 利用 | V42: 無 | X42: 替歌 利用 | Z42: 無 | AC42: 広告目的複製利用許諾書
B44: 備考 | AD44: 許諾 第 | AI44: =IF(ACCESS貼付用!D3="","",CONCATENATE(LEFT(ACCESS貼付用!D3,1),"-",RIGHT(ACCESS貼付用!D3,6))) | AQ44: 号 | AU44: =IF(B53="","",B53) | BK44: 8/8 | BO44: =IF(LEN($V$53)<8,"",LEFT(RIGHT($V$53,8),1)) | BP44: =IF(LEN($V$53)<7,"",LEFT(RIGHT($V$53,7),1)) | BQ44: =IF(LEN($V$53)<6,"",LEFT(RIGHT($V$53,6),1)) | BR44: =IF(LEN($V$53)<5,"",LEFT(RIGHT($V$53,5),1)) | BS44: =IF(LEN($V$53)<4,"",LEFT(RIGHT($V$53,4),1)) | BT44: =IF(LEN($V$53)<3,"",LEFT(RIGHT($V$53,3),1)) | BU44: =IF(LEN($V$53)<2,"",LEFT(RIGHT($V$53,2),1)) | BV44: =IF(B53="","",IF(LEN($V$53)<BV461,"",LEFT(RIGHT($V$53,1),1)))
...

Sheet 申込書【例】
H6: 一般社団法人 日本音楽著作権協会 御中 | AL6: 請求日 | AT6: 年 | AX6: 月 | BB6: 日 | BD6: 請求書№
H7: 広告目的複製利用申込書
H9: 貴協会が著作権を管理する下記の音楽著作物を、広告目的で行う複製に利用することについて、貴協会の定める利用許諾条項を承諾の上、申し込みます。 | AJ9: 委託者から同意を得た利用の内容 | AK9: 放送 | AL9: 利用 媒体 | AP9: テレビ | AR9: 地上波 | AU9: 有 | AX9: BS | BA9: 無 | BD9: CS | BG9: 無 | BJ9: 有線 | BM9: 無 | BP9: 利用 方法 | BS9: 詞曲 | BV9: 利用 地域 | BY9: 全国
AP11: ラジオ | AR11: 地上波 | AU11: 無 | AX11: BS | BA11: 無 | BD11: CS | BG11: 無 | BJ11: 有線 | BM11: 無 | BP11: 利用 期間 | BS11: 45566 | CB11: ～ | CC11: 45930
H12: お申込日 | M12: 45550
H13: お申込者 | I13: 住所 | M13: 東京都 渋谷区 上原 3-6-12 | AL13: 備考 | AP13: （ex テレビ24/4/1～24/6/30、ラジオ24/4/1～24/5/31etc）
M15: ＪＡＳＲＡＣビル １Ｆ | AK15: 配信 | AL15: 利用サイト・ サービス名 など | AP15: 利用サイト・サービスの限定有（以下記載） | BP15: 利用 方法 | BS15: 詞曲 | BV15: 掲載 方法 | BY15: ダウンロード不可
AP16: 広告主公式SNS
I17: 法人名 | M17: 株式会社 ジャスラック | AF17: 印 | AP17: 動画配信サイト | BP17: 利用 期間 | BS17: 45566 | CB17: ～ | CC17: 45930
I19: 代表者名 | M19: 代表取締役 音楽 太郎 | AL19: 備考 | AP19: 動画配信サイトでは通常投稿のほか、広告枠への出稿も実施予定。
I21: 担当部署 | M21: 広告課 | AK21: 上映/演奏/展示･掲示/配布など | AL21: 展開 方法 | AP21: 名称 | BA21: 利用形態 | BE21: 種別 | BI21: 製造数 | BM21: 利用 方法 | BP21: 利用期間 | CA21: 備考
I23: 担当者 | M23: 上原 花子 | AL23: 上映 | AP23: 店頭用ビデオ | BA23: ビデオグラム | BE23: DVD | BI23: 無制限 | BM23: 詞曲 | BP23: 45566 | BU23: ～ | BV23: 45930
I25: TEL | M25: 03-3481-21** | AL25: 上映 | AP25: 劇場用CM | BA25: 映画 | BE25: その他 | BI25: ― | BM25: 詞曲 | BP25: 45566 | BU25: ～ | BV25: 45930
I26: E-mail | M26: *****@jasrac.or.jp
AL27: 演奏 | AP27: アドトラック | BA27: オーディオ録音 | BE27: CD-R | BI27: 未定 | BM27: 詞曲 | BP27: 45566 | BU27: ～ | BV27: 45930 | CA27: 使用料規程第7節ﾋﾞﾃﾞｵｸﾞﾗﾑ録音1商用複製(3)(1)及び(2)以外の目的で複製する場合ｲ音楽のﾋﾞﾃﾞｵｸﾞﾗﾑ以外のﾋﾞﾃﾞｵｸﾞﾗﾑ(ｲ)複製使用料相当額を使用料とし、製造数確定後別途申請とする。
H28: 広告主 | I28: 法人名 | M28: yoyogi-uehara コーポレーション
AL29: 展示・掲示 | AP29: 電車内中吊り広告 | BA29: 出版等 | BE29: 展示物・掲示物 | BI29: 5000 | BM29: 詞のみ | BP29: 45566 | BU29: ～ | BV29: 45930
I30: 担当部署 | M30: 宣伝部
AL31: 配布 | AP31: キーホルダー | BA31: オーディオ録音 | BE31: その他（備考参照） | BI31: 1000 | BM31: 曲のみ | BP31: 45566 | BU31: ～ | BV31: 45930
I32: 担当者 | M32: 企画 一郎
BA33: =IF(AL33="演奏","オーディオ録音","") | BI33: =IF(BA33="映画","―","") | BU33: ～
I34: TEL | M34: 03-3481-21〇〇
H35: 広告する商品/ サービス名 | M35: 会員獲得キャンペーン | BA35: =IF(AL35="演奏","オーディオ録音","") | BI35: =IF(BA35="映画","―","") | BU35: ～
BA37: =IF(AL37="演奏","オーディオ録音","") | BI37: =IF(BA37="映画","―","") | BU37: ～
H39: 楽曲名 | M39: COPYRIGHT MUSIC
AI40: 広告目的複製利用許諾を得たCMを放送・配信・上映・演奏する場合、別途展開方法ごとに、利用許諾手続きが必要となります。 | BA40: 分配先 | BT40: 使用料 | CC40: 分配種目 | CK40: E
H41: 作詞者 （訳詞者名） | M41: ジョン・スミス（広告健太） | BA41: =IF(H52="","",H52) -> ＪＡＳＲＡＣ音楽出版 | BQ41: 8/8 | BU41: =IF(LEN($V$49)<8,"",LEFT(RIGHT($V$49,8),1)) | BV41: =IF(LEN($V$49)<7,"",LEFT(RIGHT($V$49,7),1)) | BW41: =IF(LEN($V$49)<6,"",LEFT(RIGHT($V$49,6),1)) | BX41: =IF(LEN($V$49)<5,"",LEFT(RIGHT($V$49,5),1)) | BY41: =IF(LEN($V$49)<4,"",LEFT(RIGHT($V$49,4),1)) | BZ41: =IF(LEN($V$49)<3,"",LEFT(RIGHT($V$49,3),1)) | CA41: =IF(LEN($V$49)<2,"",LEFT(RIGHT($V$49,2),1)) | CB41: =IF(LEN($V$49)<1,"",LEFT(RIGHT($V$49,1),1)) | CC41: Ｎ | CF41: =IF(AL22="",IF(BY10=""," 34",IF(BY10>0," 33",""))," 35") -> 34
H43: 作曲者 （編曲者名） | M43: ジェーン・スミス（編曲賢二）
AI44: ♪♬♪♬♪♬♪♬♪♬♪♬♪♬♪♬♪♬♪♬♪♬♪♬♪♬♪♬♪♬♪♬♪♬ | BA44: =IF(H54="","",H54) -> 代々木上原ミュージック | BQ44: 8/8 | BU44: =IF(LEN($V$51)<8,"",LEFT(RIGHT($V$51,8),1)) | BV44: =IF(LEN($V$51)<7,"",LEFT(RIGHT($V$51,7),1)) | BW44: =IF(LEN($V$51)<6,"",LEFT(RIGHT($V$51,6),1)) | BX44: =IF(LEN($V$51)<5,"",LEFT(RIGHT($V$51,5),1)) | BY44: =IF(LEN($V$51)<4,"",LEFT(RIGHT($V$51,4),1)) | BZ44: =IF(LEN($V$51)<3,"",LEFT(RIGHT($V$51,3),1)) | CA44: =IF(LEN($V$51)<2,"",LEFT(RIGHT($V$51,2),1)) | CB44: =IF(H54="","",IF(LEN($V$51)<1,"",LEFT(RIGHT($V$51,1),1)))
H45: 作品コード | M45: 2J3-****-* | Z45: 訳詞 利用 | AB45: 有 | AD45: 替歌 利用 | AF45: 無 | AI45: 広告目的複製利用許諾書
H47: 備考 | AJ47: 許諾 第 | AO47: =IF(ACCESS貼付用!J6="","",CONCATENATE(LEFT(ACCESS貼付用!J6,1),"-",RIGHT(ACCESS貼付用!J6,6))) | AW47: 号 | BA47: =IF(H56="","",H56) -> AGMパブリッシャーズ | BQ47: 8/8 | BU47: =IF(LEN($V$53)<8,"",LEFT(RIGHT($V$53,8),1)) | BV47: =IF(LEN($V$53)<7,"",LEFT(RIGHT($V$53,7),1)) | BW47: =IF(LEN($V$53)<6,"",LEFT(RIGHT($V$53,6),1)) | BX47: =IF(LEN($V$53)<5,"",LEFT(RIGHT($V$53,5),1)) | BY47: =IF(LEN($V$53)<4,"",LEFT(RIGHT($V$53,4),1)) | BZ47: =IF(LEN($V$53)<3,"",LEFT(RIGHT($V$53,3),1)) | CA47: =IF(LEN($V$53)<2,"",LEFT(RIGHT($V$53,2),1)) | CB47: =IF(H56="","",IF(LEN($V$53)<CB464,"",LEFT(RIGHT($V$53,1),1)))
AI49: 当協会は、お申込者が、本書記載の内容に従い、当協会が著作権を管理する音楽著作物を、広告目的で複製することについて、当協会の定める利用許諾条項を順守することを条件に許諾します。
H50: 同意を得た委託者名 （音楽出版者、作詞者、作曲者等） | AB50: 使用料額（税抜） | BA50: =IF(H58="","",H58) | BQ50: 8/8 | BU50: =IF(LEN($V$55)<8,"",LEFT(RIGHT($V$55,8),1)) | BV50: =IF(LEN($V$55)<7,"",LEFT(RIGHT($V$55,7),1)) | BW50: =IF(LEN($V$55)<6,"",LEFT(RIGHT($V$55,6),1)) | BX50: =IF(LEN($V$55)<5,"",LEFT(RIGHT($V$55,5),1)) | BY50: =IF(LEN($V$55)<4,"",LEFT(RIGHT($V$55,4),1)) | BZ50: =IF(LEN($V$55)<3,"",LEFT(RIGHT($V$55,3),1)) | CA50: =IF(LEN($V$55)<2,"",LEFT(RIGHT($V$55,2),1)) | CB50: =IF(H58="","",IF(LEN($V$55)<1,"",LEFT(RIGHT($V$55,1),1)))
H52: ＪＡＳＲＡＣ音楽出版 | AB52: 1000000 | AG52: 円
AI53: =IF(ACCESS貼付用!AN6="","年 月 日",ACCESS貼付用!AN6) -> 年 月 日 | BP53: 小計 | BU53: =IF(LEN($V$57)<8,"",LEFT(RIGHT($V$57,8),1)) | BV53: =IF(LEN($V$57)<7,"",LEFT(RIGHT($V$57,7),1)) | BW53: =IF(LEN($V$57)<6,"",LEFT(RIGHT($V$57,6),1)) | BX53: =IF(LEN($V$57)<5,"",LEFT(RIGHT($V$57,5),1)) | BY53: =IF(LEN($V$57)<4,"",LEFT(RIGHT($V$57,4),1)) | BZ53: =IF(LEN($V$57)<3,"",LEFT(RIGHT($V$57,3),1)) | CA53: =IF(LEN($V$57)<2,"",LEFT(RIGHT($V$57,2),1)) | CB53: =IF(LEN($V$57)<1,"",LEFT(RIGHT($V$57,1),1))
H54: 代々木上原ミュージック | AB54: 3000000 | AG54: 円 | BA54: 確認印 | BH54: 担当印
AI55: 一般社団法人 日本音楽著作権協会
H56: AGMパブリッシャーズ | AB56: 2000000 | AG56: 円 | BP56: 消費税 相当額 (10%) | BV56: =IFERROR(IF(LEN(ROUNDDOWN($V$57/10,0))<7,"",LEFT(RIGHT(ROUNDDOWN($V$57/10,0),7),1)),"") | BW56: =IFERROR(IF(LEN(ROUNDDOWN($V$57/10,0))<6,"",LEFT(RIGHT(ROUNDDOWN($V$57/10,0),6),1)),"") | BX56: =IFERROR(IF(LEN(ROUNDDOWN($V$57/10,0))<5,"",LEFT(RIGHT(ROUNDDOWN($V$57/10,0),5),1)),"") | BY56: =IFERROR(IF(LEN(ROUNDDOWN($V$57/10,0))<4,"",LEFT(RIGHT(ROUNDDOWN($V$57/10,0),4),1)),"") | BZ56: =IFERROR(IF(LEN(ROUNDDOWN($V$57/10,0))<3,"",LEFT(RIGHT(ROUNDDOWN($V$57/10,0),3),1)),"") | CA56: =IFERROR(IF(LEN(ROUNDDOWN($V$57/10,0))<2,"",LEFT(RIGHT(ROUNDDOWN($V$57/10,0),2),1)),"") | CB56: =IFERROR(IF(LEN(ROUNDDOWN($V$57/10,0))<1,"",LEFT(RIGHT(ROUNDDOWN($V$57/10,0),1),1)),"") -> 0 | CC56: 9 | CD56: 9 | CE56: 9 | CF56: 9 | CG56: 9 | CH56: 9 | CI56: 9 | CJ56: 9 | CK56: 9
AI57: 複 製 部
AG58: 円
...

Sheet ACCESS貼付用
A1: TBL_広告目的複製
A2: ID | B2: 素材ID | C2: 受付日 | D2: 許諾番号 | E2: 処理担当者 | F2: 申請者 | G2: 部署名 | H2: 担当者 | I2: 連絡先℡ | J2: メールアドレス | K2: 許諾番号通知日時 | L2: 訳詞利用 | M2: 替歌利用 | N2: CM委嘱 | O2: CMタイアップ | P2: 作品届提出依頼 | Q2: 利用媒体（放送） | R2: 利用方法（放送） | S2: 利用開始日（放送） | T2: 利用終了日（放送） | U2: 利用地域（放送） | V2: 備考（放送） | W2: 使用料（放送） | X2: 利用サイト限定有無（配信） | Y2: 利用方法（配信） | Z2: ステータス | AA2: 利用開始日（配信） | AB2: 利用終了日（配信） | AC2: 掲載方法（配信） | AD2: 備考（配信） | AE2: 使用料（配信） | AF2: その他の媒体 | AG2: 備考 | AH2: 請求日 | AI2: 請求番号 | AJ2: 使用料額 | AK2: 消費税率
C3: =TODAY() -> 45849 | F3: =IF(申込書!G13="","",申込書!G13) | G3: =IF(申込書!G17="","",申込書!G17) | H3: =IF(申込書!G19="","",申込書!G19) | I3: =IF(申込書!G21="","",申込書!G21) | J3: =IF(申込書!G22="","",申込書!G22) | L3: =IF(申込書!V42="有","あり",IF(申込書!V42="無","なし","")) -> なし | M3: =IF(申込書!Z42="有","あり",IF(申込書!Z42="無","なし","")) -> なし | N3: =IF(ISERROR(FIND("委嘱",申込書!G44)),FALSE,IF(FIND("委嘱",申込書!G44)>0,TRUE,FALSE)) -> FALSE | O3: =IF(ISERROR(FIND("タイアップ",申込書!G44)),FALSE,IF(FIND("タイアップ",申込書!G44)>0,TRUE,FALSE)) -> FALSE | P3: FALSE | R3: =申込書!BM5 -> 0 | S3: =申込書!BM7 -> 0 | T3: =申込書!BZ7 -> 0 | U3: =申込書!#REF! -> #REF! | V3: =IF(申込書!AJ9="","",申込書!AJ9) | X3: =IF(申込書!#REF!="有","利用サイトを以下に限定",IF(申込書!#REF!="無","利用サイトの限定なし","")) -> #REF! | Y3: =申込書!BM11 -> 0 | Z3: 許諾済 | AA3: =申込書!BS13 -> 0 | AB3: =申込書!BZ13 -> 0 | AC3: =申込書!BS11 -> ダウンロード不可 | AD3: =IF(申込書!AJ15="","",申込書!AJ15) | AF3: =IF(申込書!AF19="","FALSE","TRUE") -> FALSE | AJ3: =申込書!V57 | AK3: 0.1
A5: ↑ A3からAK3までを選択コピー | B5: ↑ 既存の素材IDがある場合は入力。ない場合は作品マスタNEWを使って登録してから入力 | D5: ↑ 許諾番号取得して入力 | E5: ↑ Jの担当者名を入力 | AK5: ↑ A3からAK3までを選択コピー
A7: 作品マスタ
A8: ID | B8: *作品コード | C8: *作品名 | D8: 作詞者 | E8: 作曲者
B9: NEW | C9: =申込書!G36 -> 0 | D9: =申込書!G38 -> 0 | E9: =申込書!G40 -> 0
A11: 素材
A12: 作品コード | B12: スポンサー | C12: CMタイトル
A13: =IF(申込書!G42="",ACCESS貼付用!B9,SUBSTITUTE(申込書!G42,"-","")) -> NEW | B13: =申込書!G24 -> 0 | C13: =申込書!G32 -> 0
A15: TBL_その他媒体
A16: ID | B16: 複製ID | C16: № | D16: 展開方法 | E16: 名称 | F16: 利用形態 | G16: 種別 | H16: 利用方法 | I16: 製造数 | J16: 利用期間From | K16: 利用期間To | L16: 備考 | M16: 個別使用料 | N16: 規定額
B17: =$B$3 -> 0 | C17: 1 | D17: =申込書!AF19 -> 0 | E17: =申込書!AJ19 -> 0 | F17: =ASC(申込書!AU19) | G17: =申込書!AY19 | H17: =申込書!BG19 -> 0 | I17: =申込書!BC19 | J17: =IF(申込書!BJ19="","",申込書!BJ19) | K17: =IF(申込書!BP19="","",申込書!BP19) | N17: FALSE
B18: =$B$3 -> 0 | C18: 2 | D18: =申込書!AF21 -> 0 | E18: =申込書!AJ21 -> 0 | F18: =ASC(申込書!AU21) | G18: =申込書!AY21 | H18: =申込書!BG21 -> 0 | I18: =申込書!BC21 | J18: =IF(申込書!BJ21="","",申込書!BJ21) | K18: =IF(申込書!BP21="","",申込書!BP21) | N18: FALSE
B19: =$B$3 -> 0 | C19: 3 | D19: =申込書!AF23 -> 0 | E19: =申込書!AJ23 -> 0 | F19: =ASC(申込書!AU23) | G19: =申込書!AY23 | H19: =申込書!BG23 -> 0 | I19: =申込書!BC23 | J19: =IF(申込書!BJ23="","",申込書!BJ23) | K19: =IF(申込書!BP23="","",申込書!BP23) | N19: FALSE
B20: =$B$3 -> 0 | C20: 4 | D20: =申込書!AF25 -> 0 | E20: =申込書!AJ25 -> 0 | F20: =ASC(申込書!AU25) | G20: =申込書!AY25 | H20: =申込書!BG25 -> 0 | I20: =申込書!BC25 | J20: =IF(申込書!BJ25="","",申込書!BJ25) | K20: =IF(申込書!BP25="","",申込書!BP25) | N20: FALSE
B21: =$B$3 -> 0 | C21: 5 | D21: =申込書!AF27 -> 0 | E21: =申込書!AJ27 -> 0 | F21: =ASC(申込書!AU27) | G21: =申込書!AY27 | H21: =申込書!BG27 -> 0 | I21: =申込書!BC27 | J21: =IF(申込書!BJ27="","",申込書!BJ27) | K21: =IF(申込書!BP27="","",申込書!BP27) | N21: FALSE
B22: =$B$3 -> 0 | C22: 6 | D22: =申込書!AF29 -> 0 | E22: =申込書!AJ29 -> 0 | F22: =ASC(申込書!AU29) | G22: =申込書!AY29 | H22: =申込書!BG29 -> 0 | I22: =申込書!BC29 | J22: =IF(申込書!BJ29="","",申込書!BJ29) | K22: =IF(申込書!BP29="","",申込書!BP29) | N22: FALSE
B23: =$B$3 -> 0 | C23: 7 | D23: =申込書!AF31 -> 0 | E23: =申込書!AJ31 -> 0 | F23: =ASC(申込書!AU31) | G23: =申込書!AY31 | H23: =申込書!BG31 -> 0 | I23: =申込書!BC31 | J23: =IF(申込書!BJ31="","",申込書!BJ31) | K23: =IF(申込書!BP31="","",申込書!BP31) | N23: FALSE
B24: =$B$3 -> 0 | C24: 8 | D24: =申込書!AF33 -> 0 | E24: =申込書!AJ33 -> 0 | F24: =ASC(申込書!AU33) | G24: =申込書!AY33 | H24: =申込書!BG33 -> 0 | I24: =申込書!BC33 | J24: =IF(申込書!BJ33="","",申込書!BJ33) | K24: =IF(申込書!BP33="","",申込書!BP33) | N24: FALSE
A25: ↑ A17からN列の発生行までを選択コピー | N25: ↑ A17からN列の発生行までを選択コピー
